BEGIN:VCALENDAR
VERSION:2.0
PRODID:-//Temple Baptist Church - ECPv6.15.20//NONSGML v1.0//EN
CALSCALE:GREGORIAN
METHOD:PUBLISH
X-WR-CALNAME:Temple Baptist Church
X-ORIGINAL-URL:https://templebc.net
X-WR-CALDESC:Events for Temple Baptist Church
REFRESH-INTERVAL;VALUE=DURATION:PT1H
X-Robots-Tag:noindex
X-PUBLISHED-TTL:PT1H
BEGIN:VTIMEZONE
TZID:America/New_York
BEGIN:DAYLIGHT
TZOFFSETFROM:-0500
TZOFFSETTO:-0400
TZNAME:EDT
DTSTART:20240310T070000
END:DAYLIGHT
BEGIN:STANDARD
TZOFFSETFROM:-0400
TZOFFSETTO:-0500
TZNAME:EST
DTSTART:20241103T060000
END:STANDARD
BEGIN:DAYLIGHT
TZOFFSETFROM:-0500
TZOFFSETTO:-0400
TZNAME:EDT
DTSTART:20250309T070000
END:DAYLIGHT
BEGIN:STANDARD
TZOFFSETFROM:-0400
TZOFFSETTO:-0500
TZNAME:EST
DTSTART:20251102T060000
END:STANDARD
BEGIN:DAYLIGHT
TZOFFSETFROM:-0500
TZOFFSETTO:-0400
TZNAME:EDT
DTSTART:20260308T070000
END:DAYLIGHT
BEGIN:STANDARD
TZOFFSETFROM:-0400
TZOFFSETTO:-0500
TZNAME:EST
DTSTART:20261101T060000
END:STANDARD
END:VTIMEZONE
BEGIN:VTIMEZONE
TZID:America/Halifax
BEGIN:DAYLIGHT
TZOFFSETFROM:-0400
TZOFFSETTO:-0300
TZNAME:ADT
DTSTART:20240310T060000
END:DAYLIGHT
BEGIN:STANDARD
TZOFFSETFROM:-0300
TZOFFSETTO:-0400
TZNAME:AST
DTSTART:20241103T050000
END:STANDARD
BEGIN:DAYLIGHT
TZOFFSETFROM:-0400
TZOFFSETTO:-0300
TZNAME:ADT
DTSTART:20250309T060000
END:DAYLIGHT
BEGIN:STANDARD
TZOFFSETFROM:-0300
TZOFFSETTO:-0400
TZNAME:AST
DTSTART:20251102T050000
END:STANDARD
BEGIN:DAYLIGHT
TZOFFSETFROM:-0400
TZOFFSETTO:-0300
TZNAME:ADT
DTSTART:20260308T060000
END:DAYLIGHT
BEGIN:STANDARD
TZOFFSETFROM:-0300
TZOFFSETTO:-0400
TZNAME:AST
DTSTART:20261101T050000
END:STANDARD
END:VTIMEZONE
BEGIN:VEVENT
DTSTART;TZID=America/New_York:20250423T183000
DTEND;TZID=America/New_York:20250423T200000
DTSTAMP:20260423T164256
CREATED:20241027T000338Z
LAST-MODIFIED:20241027T000338Z
UID:10001081-1745433000-1745438400@templebc.net
SUMMARY:Truth Trackers Children's Ministry
DESCRIPTION:This exciting Children’s Ministry meets every Wednesday from 6:30 to 8:00 pm in Building 2 in the room next to the gym.  Children in grades 1 through 5 learn Bible verses\, sing fun Bible songs\, play exciting games\, and enjoy learning God’s Word together.
URL:https://templebc.net/event/truth-trackers-childrens-ministry/2025-04-23/
ATTACH;FMTTYPE=image/png:https://templebc.net/wp-content/uploads/2024/10/Truth-Trackers-New.png
END:VEVENT
BEGIN:VEVENT
DTSTART;TZID=America/New_York:20250423T183000
DTEND;TZID=America/New_York:20250423T200000
DTSTAMP:20260423T164256
CREATED:20241026T233227Z
LAST-MODIFIED:20241026T233227Z
UID:10000298-1745433000-1745438400@templebc.net
SUMMARY:Strive High School Youth
DESCRIPTION:Strive Sr. High ministry welcomes all youth\, 9th through 12th grade\, to a time of fun & games\, fellowship & sharing God’s Word.  Meetings are part of our Mid-Week Services held on Wednesday nights at 6:30PM in the Dining Hall-located in the 3rd building.
URL:https://templebc.net/event/strive-high-school-youth/2025-04-23/
ATTACH;FMTTYPE=image/png:https://templebc.net/wp-content/uploads/2024/10/Strive-New.png
END:VEVENT
BEGIN:VEVENT
DTSTART;TZID=America/New_York:20250423T183000
DTEND;TZID=America/New_York:20250423T200000
DTSTAMP:20260423T164256
CREATED:20241026T232721Z
LAST-MODIFIED:20241029T111323Z
UID:10000037-1745433000-1745438400@templebc.net
SUMMARY:Thrive Jr. High Ministry
DESCRIPTION:Thrive is the name of our weekly Wednesday evening ministry to Junior High students in the 6th\, 7th\, and 8th grades.  We meet in Room 104 in Building 1 for a time of heartfelt worship\, crazy games\,  age appropriate Bible study\, and a delicious snack.  Each month’s lessons are based on a theme and all the activities relate to that theme.  We have fun growing closer to Jesus as we grow closer together in Christian fellowship.
URL:https://templebc.net/event/thrive-jr-high-ministry/2025-04-23/
LOCATION:Building 1\, Room 104
ATTACH;FMTTYPE=image/jpeg:https://templebc.net/wp-content/uploads/2024/10/Thrive-Group1-1.jpg
ORGANIZER;CN="Mark Wooley":MAILTO:tbcthrivejrhigh@gmail.com
END:VEVENT
BEGIN:VEVENT
DTSTART;TZID=America/Halifax:20250423T183000
DTEND;TZID=America/Halifax:20250423T193000
DTSTAMP:20260423T164256
CREATED:20241027T001605Z
LAST-MODIFIED:20241027T001605Z
UID:10001342-1745433000-1745436600@templebc.net
SUMMARY:Adult Prayer Service
DESCRIPTION:Each Wednesday from 6:30 to 8:00 pm our adults gather together to pray for one another’s needs and rejoice together as God answers prayer in their lives.
URL:https://templebc.net/event/adult-prayer-service/2025-04-23/
ATTACH;FMTTYPE=image/png:https://templebc.net/wp-content/uploads/2024/10/Screenshot-2024-10-25-210948.png
END:VEVENT
BEGIN:VEVENT
DTSTART;TZID=America/New_York:20250420T110000
DTEND;TZID=America/New_York:20250420T120000
DTSTAMP:20260423T164256
CREATED:20241026T235023Z
LAST-MODIFIED:20241026T235023Z
UID:10000820-1745146800-1745150400@templebc.net
SUMMARY:Sunday Morning Worship Service
DESCRIPTION:Our Sunday Morning Worship Service features a blended worship style\, with special music by our Worship Team and special singers\, and a challenging message by Pastor Tom Porter from God’s Word.
URL:https://templebc.net/event/sunday-morning-worship-service/2025-04-20/
LOCATION:Main Auditorium
ATTACH;FMTTYPE=image/jpeg:https://templebc.net/wp-content/uploads/2024/07/Untitled.jpg
END:VEVENT
BEGIN:VEVENT
DTSTART;TZID=America/New_York:20250420T100000
DTEND;TZID=America/New_York:20250420T104500
DTSTAMP:20260423T164256
CREATED:20241026T233841Z
LAST-MODIFIED:20241026T233841Z
UID:10000559-1745143200-1745145900@templebc.net
SUMMARY:Sunday Bible Study
DESCRIPTION:Come join one of our Sunday Bible Study groups and experience the warm fellowship of fellow believers as we study God’s Word together.  There are classes for all ages.
URL:https://templebc.net/event/sunday-bible-study/2025-04-20/
ATTACH;FMTTYPE=image/png:https://templebc.net/wp-content/uploads/2024/10/Screenshot-2024-10-25-210801.png
END:VEVENT
BEGIN:VEVENT
DTSTART;TZID=America/New_York:20250416T183000
DTEND;TZID=America/New_York:20250416T200000
DTSTAMP:20260423T164256
CREATED:20241027T000338Z
LAST-MODIFIED:20241027T000338Z
UID:10001080-1744828200-1744833600@templebc.net
SUMMARY:Truth Trackers Children's Ministry
DESCRIPTION:This exciting Children’s Ministry meets every Wednesday from 6:30 to 8:00 pm in Building 2 in the room next to the gym.  Children in grades 1 through 5 learn Bible verses\, sing fun Bible songs\, play exciting games\, and enjoy learning God’s Word together.
URL:https://templebc.net/event/truth-trackers-childrens-ministry/2025-04-16/
ATTACH;FMTTYPE=image/png:https://templebc.net/wp-content/uploads/2024/10/Truth-Trackers-New.png
END:VEVENT
BEGIN:VEVENT
DTSTART;TZID=America/New_York:20250416T183000
DTEND;TZID=America/New_York:20250416T200000
DTSTAMP:20260423T164256
CREATED:20241026T233227Z
LAST-MODIFIED:20241026T233227Z
UID:10000297-1744828200-1744833600@templebc.net
SUMMARY:Strive High School Youth
DESCRIPTION:Strive Sr. High ministry welcomes all youth\, 9th through 12th grade\, to a time of fun & games\, fellowship & sharing God’s Word.  Meetings are part of our Mid-Week Services held on Wednesday nights at 6:30PM in the Dining Hall-located in the 3rd building.
URL:https://templebc.net/event/strive-high-school-youth/2025-04-16/
ATTACH;FMTTYPE=image/png:https://templebc.net/wp-content/uploads/2024/10/Strive-New.png
END:VEVENT
BEGIN:VEVENT
DTSTART;TZID=America/New_York:20250416T183000
DTEND;TZID=America/New_York:20250416T200000
DTSTAMP:20260423T164256
CREATED:20241026T232721Z
LAST-MODIFIED:20241029T111323Z
UID:10000036-1744828200-1744833600@templebc.net
SUMMARY:Thrive Jr. High Ministry
DESCRIPTION:Thrive is the name of our weekly Wednesday evening ministry to Junior High students in the 6th\, 7th\, and 8th grades.  We meet in Room 104 in Building 1 for a time of heartfelt worship\, crazy games\,  age appropriate Bible study\, and a delicious snack.  Each month’s lessons are based on a theme and all the activities relate to that theme.  We have fun growing closer to Jesus as we grow closer together in Christian fellowship.
URL:https://templebc.net/event/thrive-jr-high-ministry/2025-04-16/
LOCATION:Building 1\, Room 104
ATTACH;FMTTYPE=image/jpeg:https://templebc.net/wp-content/uploads/2024/10/Thrive-Group1-1.jpg
ORGANIZER;CN="Mark Wooley":MAILTO:tbcthrivejrhigh@gmail.com
END:VEVENT
BEGIN:VEVENT
DTSTART;TZID=America/Halifax:20250416T183000
DTEND;TZID=America/Halifax:20250416T193000
DTSTAMP:20260423T164256
CREATED:20241027T001605Z
LAST-MODIFIED:20241027T001605Z
UID:10001341-1744828200-1744831800@templebc.net
SUMMARY:Adult Prayer Service
DESCRIPTION:Each Wednesday from 6:30 to 8:00 pm our adults gather together to pray for one another’s needs and rejoice together as God answers prayer in their lives.
URL:https://templebc.net/event/adult-prayer-service/2025-04-16/
ATTACH;FMTTYPE=image/png:https://templebc.net/wp-content/uploads/2024/10/Screenshot-2024-10-25-210948.png
END:VEVENT
BEGIN:VEVENT
DTSTART;TZID=America/New_York:20250413T110000
DTEND;TZID=America/New_York:20250413T120000
DTSTAMP:20260423T164256
CREATED:20241026T235023Z
LAST-MODIFIED:20241026T235023Z
UID:10000819-1744542000-1744545600@templebc.net
SUMMARY:Sunday Morning Worship Service
DESCRIPTION:Our Sunday Morning Worship Service features a blended worship style\, with special music by our Worship Team and special singers\, and a challenging message by Pastor Tom Porter from God’s Word.
URL:https://templebc.net/event/sunday-morning-worship-service/2025-04-13/
LOCATION:Main Auditorium
ATTACH;FMTTYPE=image/jpeg:https://templebc.net/wp-content/uploads/2024/07/Untitled.jpg
END:VEVENT
BEGIN:VEVENT
DTSTART;TZID=America/New_York:20250413T100000
DTEND;TZID=America/New_York:20250413T104500
DTSTAMP:20260423T164256
CREATED:20241026T233841Z
LAST-MODIFIED:20241026T233841Z
UID:10000558-1744538400-1744541100@templebc.net
SUMMARY:Sunday Bible Study
DESCRIPTION:Come join one of our Sunday Bible Study groups and experience the warm fellowship of fellow believers as we study God’s Word together.  There are classes for all ages.
URL:https://templebc.net/event/sunday-bible-study/2025-04-13/
ATTACH;FMTTYPE=image/png:https://templebc.net/wp-content/uploads/2024/10/Screenshot-2024-10-25-210801.png
END:VEVENT
BEGIN:VEVENT
DTSTART;TZID=America/New_York:20250409T183000
DTEND;TZID=America/New_York:20250409T200000
DTSTAMP:20260423T164256
CREATED:20241027T000338Z
LAST-MODIFIED:20241027T000338Z
UID:10001079-1744223400-1744228800@templebc.net
SUMMARY:Truth Trackers Children's Ministry
DESCRIPTION:This exciting Children’s Ministry meets every Wednesday from 6:30 to 8:00 pm in Building 2 in the room next to the gym.  Children in grades 1 through 5 learn Bible verses\, sing fun Bible songs\, play exciting games\, and enjoy learning God’s Word together.
URL:https://templebc.net/event/truth-trackers-childrens-ministry/2025-04-09/
ATTACH;FMTTYPE=image/png:https://templebc.net/wp-content/uploads/2024/10/Truth-Trackers-New.png
END:VEVENT
BEGIN:VEVENT
DTSTART;TZID=America/New_York:20250409T183000
DTEND;TZID=America/New_York:20250409T200000
DTSTAMP:20260423T164256
CREATED:20241026T233227Z
LAST-MODIFIED:20241026T233227Z
UID:10000296-1744223400-1744228800@templebc.net
SUMMARY:Strive High School Youth
DESCRIPTION:Strive Sr. High ministry welcomes all youth\, 9th through 12th grade\, to a time of fun & games\, fellowship & sharing God’s Word.  Meetings are part of our Mid-Week Services held on Wednesday nights at 6:30PM in the Dining Hall-located in the 3rd building.
URL:https://templebc.net/event/strive-high-school-youth/2025-04-09/
ATTACH;FMTTYPE=image/png:https://templebc.net/wp-content/uploads/2024/10/Strive-New.png
END:VEVENT
BEGIN:VEVENT
DTSTART;TZID=America/New_York:20250409T183000
DTEND;TZID=America/New_York:20250409T200000
DTSTAMP:20260423T164256
CREATED:20241026T232721Z
LAST-MODIFIED:20241029T111323Z
UID:10000035-1744223400-1744228800@templebc.net
SUMMARY:Thrive Jr. High Ministry
DESCRIPTION:Thrive is the name of our weekly Wednesday evening ministry to Junior High students in the 6th\, 7th\, and 8th grades.  We meet in Room 104 in Building 1 for a time of heartfelt worship\, crazy games\,  age appropriate Bible study\, and a delicious snack.  Each month’s lessons are based on a theme and all the activities relate to that theme.  We have fun growing closer to Jesus as we grow closer together in Christian fellowship.
URL:https://templebc.net/event/thrive-jr-high-ministry/2025-04-09/
LOCATION:Building 1\, Room 104
ATTACH;FMTTYPE=image/jpeg:https://templebc.net/wp-content/uploads/2024/10/Thrive-Group1-1.jpg
ORGANIZER;CN="Mark Wooley":MAILTO:tbcthrivejrhigh@gmail.com
END:VEVENT
BEGIN:VEVENT
DTSTART;TZID=America/Halifax:20250409T183000
DTEND;TZID=America/Halifax:20250409T193000
DTSTAMP:20260423T164256
CREATED:20241027T001605Z
LAST-MODIFIED:20241027T001605Z
UID:10001340-1744223400-1744227000@templebc.net
SUMMARY:Adult Prayer Service
DESCRIPTION:Each Wednesday from 6:30 to 8:00 pm our adults gather together to pray for one another’s needs and rejoice together as God answers prayer in their lives.
URL:https://templebc.net/event/adult-prayer-service/2025-04-09/
ATTACH;FMTTYPE=image/png:https://templebc.net/wp-content/uploads/2024/10/Screenshot-2024-10-25-210948.png
END:VEVENT
BEGIN:VEVENT
DTSTART;TZID=America/New_York:20250406T110000
DTEND;TZID=America/New_York:20250406T120000
DTSTAMP:20260423T164256
CREATED:20241026T235023Z
LAST-MODIFIED:20241026T235023Z
UID:10000818-1743937200-1743940800@templebc.net
SUMMARY:Sunday Morning Worship Service
DESCRIPTION:Our Sunday Morning Worship Service features a blended worship style\, with special music by our Worship Team and special singers\, and a challenging message by Pastor Tom Porter from God’s Word.
URL:https://templebc.net/event/sunday-morning-worship-service/2025-04-06/
LOCATION:Main Auditorium
ATTACH;FMTTYPE=image/jpeg:https://templebc.net/wp-content/uploads/2024/07/Untitled.jpg
END:VEVENT
BEGIN:VEVENT
DTSTART;TZID=America/New_York:20250406T100000
DTEND;TZID=America/New_York:20250406T104500
DTSTAMP:20260423T164256
CREATED:20241026T233841Z
LAST-MODIFIED:20241026T233841Z
UID:10000557-1743933600-1743936300@templebc.net
SUMMARY:Sunday Bible Study
DESCRIPTION:Come join one of our Sunday Bible Study groups and experience the warm fellowship of fellow believers as we study God’s Word together.  There are classes for all ages.
URL:https://templebc.net/event/sunday-bible-study/2025-04-06/
ATTACH;FMTTYPE=image/png:https://templebc.net/wp-content/uploads/2024/10/Screenshot-2024-10-25-210801.png
END:VEVENT
BEGIN:VEVENT
DTSTART;TZID=America/New_York:20250402T183000
DTEND;TZID=America/New_York:20250402T200000
DTSTAMP:20260423T164256
CREATED:20241027T000338Z
LAST-MODIFIED:20241027T000338Z
UID:10001078-1743618600-1743624000@templebc.net
SUMMARY:Truth Trackers Children's Ministry
DESCRIPTION:This exciting Children’s Ministry meets every Wednesday from 6:30 to 8:00 pm in Building 2 in the room next to the gym.  Children in grades 1 through 5 learn Bible verses\, sing fun Bible songs\, play exciting games\, and enjoy learning God’s Word together.
URL:https://templebc.net/event/truth-trackers-childrens-ministry/2025-04-02/
ATTACH;FMTTYPE=image/png:https://templebc.net/wp-content/uploads/2024/10/Truth-Trackers-New.png
END:VEVENT
BEGIN:VEVENT
DTSTART;TZID=America/New_York:20250402T183000
DTEND;TZID=America/New_York:20250402T200000
DTSTAMP:20260423T164256
CREATED:20241026T233227Z
LAST-MODIFIED:20241026T233227Z
UID:10000295-1743618600-1743624000@templebc.net
SUMMARY:Strive High School Youth
DESCRIPTION:Strive Sr. High ministry welcomes all youth\, 9th through 12th grade\, to a time of fun & games\, fellowship & sharing God’s Word.  Meetings are part of our Mid-Week Services held on Wednesday nights at 6:30PM in the Dining Hall-located in the 3rd building.
URL:https://templebc.net/event/strive-high-school-youth/2025-04-02/
ATTACH;FMTTYPE=image/png:https://templebc.net/wp-content/uploads/2024/10/Strive-New.png
END:VEVENT
BEGIN:VEVENT
DTSTART;TZID=America/New_York:20250402T183000
DTEND;TZID=America/New_York:20250402T200000
DTSTAMP:20260423T164256
CREATED:20241026T232721Z
LAST-MODIFIED:20241029T111323Z
UID:10000034-1743618600-1743624000@templebc.net
SUMMARY:Thrive Jr. High Ministry
DESCRIPTION:Thrive is the name of our weekly Wednesday evening ministry to Junior High students in the 6th\, 7th\, and 8th grades.  We meet in Room 104 in Building 1 for a time of heartfelt worship\, crazy games\,  age appropriate Bible study\, and a delicious snack.  Each month’s lessons are based on a theme and all the activities relate to that theme.  We have fun growing closer to Jesus as we grow closer together in Christian fellowship.
URL:https://templebc.net/event/thrive-jr-high-ministry/2025-04-02/
LOCATION:Building 1\, Room 104
ATTACH;FMTTYPE=image/jpeg:https://templebc.net/wp-content/uploads/2024/10/Thrive-Group1-1.jpg
ORGANIZER;CN="Mark Wooley":MAILTO:tbcthrivejrhigh@gmail.com
END:VEVENT
BEGIN:VEVENT
DTSTART;TZID=America/Halifax:20250402T183000
DTEND;TZID=America/Halifax:20250402T193000
DTSTAMP:20260423T164257
CREATED:20241027T001605Z
LAST-MODIFIED:20241027T001605Z
UID:10001339-1743618600-1743622200@templebc.net
SUMMARY:Adult Prayer Service
DESCRIPTION:Each Wednesday from 6:30 to 8:00 pm our adults gather together to pray for one another’s needs and rejoice together as God answers prayer in their lives.
URL:https://templebc.net/event/adult-prayer-service/2025-04-02/
ATTACH;FMTTYPE=image/png:https://templebc.net/wp-content/uploads/2024/10/Screenshot-2024-10-25-210948.png
END:VEVENT
BEGIN:VEVENT
DTSTART;TZID=America/New_York:20250330T110000
DTEND;TZID=America/New_York:20250330T120000
DTSTAMP:20260423T164257
CREATED:20241026T235023Z
LAST-MODIFIED:20241026T235023Z
UID:10000817-1743332400-1743336000@templebc.net
SUMMARY:Sunday Morning Worship Service
DESCRIPTION:Our Sunday Morning Worship Service features a blended worship style\, with special music by our Worship Team and special singers\, and a challenging message by Pastor Tom Porter from God’s Word.
URL:https://templebc.net/event/sunday-morning-worship-service/2025-03-30/
LOCATION:Main Auditorium
ATTACH;FMTTYPE=image/jpeg:https://templebc.net/wp-content/uploads/2024/07/Untitled.jpg
END:VEVENT
BEGIN:VEVENT
DTSTART;TZID=America/New_York:20250330T100000
DTEND;TZID=America/New_York:20250330T104500
DTSTAMP:20260423T164257
CREATED:20241026T233841Z
LAST-MODIFIED:20241026T233841Z
UID:10000556-1743328800-1743331500@templebc.net
SUMMARY:Sunday Bible Study
DESCRIPTION:Come join one of our Sunday Bible Study groups and experience the warm fellowship of fellow believers as we study God’s Word together.  There are classes for all ages.
URL:https://templebc.net/event/sunday-bible-study/2025-03-30/
ATTACH;FMTTYPE=image/png:https://templebc.net/wp-content/uploads/2024/10/Screenshot-2024-10-25-210801.png
END:VEVENT
BEGIN:VEVENT
DTSTART;TZID=America/New_York:20250326T183000
DTEND;TZID=America/New_York:20250326T200000
DTSTAMP:20260423T164257
CREATED:20241027T000338Z
LAST-MODIFIED:20241027T000338Z
UID:10001077-1743013800-1743019200@templebc.net
SUMMARY:Truth Trackers Children's Ministry
DESCRIPTION:This exciting Children’s Ministry meets every Wednesday from 6:30 to 8:00 pm in Building 2 in the room next to the gym.  Children in grades 1 through 5 learn Bible verses\, sing fun Bible songs\, play exciting games\, and enjoy learning God’s Word together.
URL:https://templebc.net/event/truth-trackers-childrens-ministry/2025-03-26/
ATTACH;FMTTYPE=image/png:https://templebc.net/wp-content/uploads/2024/10/Truth-Trackers-New.png
END:VEVENT
BEGIN:VEVENT
DTSTART;TZID=America/New_York:20250326T183000
DTEND;TZID=America/New_York:20250326T200000
DTSTAMP:20260423T164257
CREATED:20241026T233227Z
LAST-MODIFIED:20241026T233227Z
UID:10000294-1743013800-1743019200@templebc.net
SUMMARY:Strive High School Youth
DESCRIPTION:Strive Sr. High ministry welcomes all youth\, 9th through 12th grade\, to a time of fun & games\, fellowship & sharing God’s Word.  Meetings are part of our Mid-Week Services held on Wednesday nights at 6:30PM in the Dining Hall-located in the 3rd building.
URL:https://templebc.net/event/strive-high-school-youth/2025-03-26/
ATTACH;FMTTYPE=image/png:https://templebc.net/wp-content/uploads/2024/10/Strive-New.png
END:VEVENT
BEGIN:VEVENT
DTSTART;TZID=America/New_York:20250326T183000
DTEND;TZID=America/New_York:20250326T200000
DTSTAMP:20260423T164257
CREATED:20241026T232721Z
LAST-MODIFIED:20241029T111323Z
UID:10000033-1743013800-1743019200@templebc.net
SUMMARY:Thrive Jr. High Ministry
DESCRIPTION:Thrive is the name of our weekly Wednesday evening ministry to Junior High students in the 6th\, 7th\, and 8th grades.  We meet in Room 104 in Building 1 for a time of heartfelt worship\, crazy games\,  age appropriate Bible study\, and a delicious snack.  Each month’s lessons are based on a theme and all the activities relate to that theme.  We have fun growing closer to Jesus as we grow closer together in Christian fellowship.
URL:https://templebc.net/event/thrive-jr-high-ministry/2025-03-26/
LOCATION:Building 1\, Room 104
ATTACH;FMTTYPE=image/jpeg:https://templebc.net/wp-content/uploads/2024/10/Thrive-Group1-1.jpg
ORGANIZER;CN="Mark Wooley":MAILTO:tbcthrivejrhigh@gmail.com
END:VEVENT
BEGIN:VEVENT
DTSTART;TZID=America/Halifax:20250326T183000
DTEND;TZID=America/Halifax:20250326T193000
DTSTAMP:20260423T164257
CREATED:20241027T001605Z
LAST-MODIFIED:20241027T001605Z
UID:10001338-1743013800-1743017400@templebc.net
SUMMARY:Adult Prayer Service
DESCRIPTION:Each Wednesday from 6:30 to 8:00 pm our adults gather together to pray for one another’s needs and rejoice together as God answers prayer in their lives.
URL:https://templebc.net/event/adult-prayer-service/2025-03-26/
ATTACH;FMTTYPE=image/png:https://templebc.net/wp-content/uploads/2024/10/Screenshot-2024-10-25-210948.png
END:VEVENT
BEGIN:VEVENT
DTSTART;TZID=America/New_York:20250323T110000
DTEND;TZID=America/New_York:20250323T120000
DTSTAMP:20260423T164257
CREATED:20241026T235023Z
LAST-MODIFIED:20241026T235023Z
UID:10000816-1742727600-1742731200@templebc.net
SUMMARY:Sunday Morning Worship Service
DESCRIPTION:Our Sunday Morning Worship Service features a blended worship style\, with special music by our Worship Team and special singers\, and a challenging message by Pastor Tom Porter from God’s Word.
URL:https://templebc.net/event/sunday-morning-worship-service/2025-03-23/
LOCATION:Main Auditorium
ATTACH;FMTTYPE=image/jpeg:https://templebc.net/wp-content/uploads/2024/07/Untitled.jpg
END:VEVENT
BEGIN:VEVENT
DTSTART;TZID=America/New_York:20250323T100000
DTEND;TZID=America/New_York:20250323T104500
DTSTAMP:20260423T164257
CREATED:20241026T233841Z
LAST-MODIFIED:20241026T233841Z
UID:10000555-1742724000-1742726700@templebc.net
SUMMARY:Sunday Bible Study
DESCRIPTION:Come join one of our Sunday Bible Study groups and experience the warm fellowship of fellow believers as we study God’s Word together.  There are classes for all ages.
URL:https://templebc.net/event/sunday-bible-study/2025-03-23/
ATTACH;FMTTYPE=image/png:https://templebc.net/wp-content/uploads/2024/10/Screenshot-2024-10-25-210801.png
END:VEVENT
END:VCALENDAR