BEGIN:VCALENDAR
VERSION:2.0
PRODID:-//Temple Baptist Church - ECPv6.15.20//NONSGML v1.0//EN
CALSCALE:GREGORIAN
METHOD:PUBLISH
X-WR-CALNAME:Temple Baptist Church
X-ORIGINAL-URL:https://templebc.net
X-WR-CALDESC:Events for Temple Baptist Church
REFRESH-INTERVAL;VALUE=DURATION:PT1H
X-Robots-Tag:noindex
X-PUBLISHED-TTL:PT1H
BEGIN:VTIMEZONE
TZID:America/Halifax
BEGIN:DAYLIGHT
TZOFFSETFROM:-0400
TZOFFSETTO:-0300
TZNAME:ADT
DTSTART:20240310T060000
END:DAYLIGHT
BEGIN:STANDARD
TZOFFSETFROM:-0300
TZOFFSETTO:-0400
TZNAME:AST
DTSTART:20241103T050000
END:STANDARD
BEGIN:DAYLIGHT
TZOFFSETFROM:-0400
TZOFFSETTO:-0300
TZNAME:ADT
DTSTART:20250309T060000
END:DAYLIGHT
BEGIN:STANDARD
TZOFFSETFROM:-0300
TZOFFSETTO:-0400
TZNAME:AST
DTSTART:20251102T050000
END:STANDARD
BEGIN:DAYLIGHT
TZOFFSETFROM:-0400
TZOFFSETTO:-0300
TZNAME:ADT
DTSTART:20260308T060000
END:DAYLIGHT
BEGIN:STANDARD
TZOFFSETFROM:-0300
TZOFFSETTO:-0400
TZNAME:AST
DTSTART:20261101T050000
END:STANDARD
END:VTIMEZONE
BEGIN:VTIMEZONE
TZID:America/New_York
BEGIN:DAYLIGHT
TZOFFSETFROM:-0500
TZOFFSETTO:-0400
TZNAME:EDT
DTSTART:20240310T070000
END:DAYLIGHT
BEGIN:STANDARD
TZOFFSETFROM:-0400
TZOFFSETTO:-0500
TZNAME:EST
DTSTART:20241103T060000
END:STANDARD
BEGIN:DAYLIGHT
TZOFFSETFROM:-0500
TZOFFSETTO:-0400
TZNAME:EDT
DTSTART:20250309T070000
END:DAYLIGHT
BEGIN:STANDARD
TZOFFSETFROM:-0400
TZOFFSETTO:-0500
TZNAME:EST
DTSTART:20251102T060000
END:STANDARD
BEGIN:DAYLIGHT
TZOFFSETFROM:-0500
TZOFFSETTO:-0400
TZNAME:EDT
DTSTART:20260308T070000
END:DAYLIGHT
BEGIN:STANDARD
TZOFFSETFROM:-0400
TZOFFSETTO:-0500
TZNAME:EST
DTSTART:20261101T060000
END:STANDARD
END:VTIMEZONE
BEGIN:VEVENT
DTSTART;TZID=America/Halifax:20250903T183000
DTEND;TZID=America/Halifax:20250903T193000
DTSTAMP:20260422T182601
CREATED:20250816T172030Z
LAST-MODIFIED:20250816T172031Z
UID:10001361-1756924200-1756927800@templebc.net
SUMMARY:Adult Prayer Service
DESCRIPTION:Each Wednesday from 6:30 to 8:00 pm our adults gather together to pray for one another’s needs and rejoice together as God answers prayer in their lives.
URL:https://templebc.net/event/adult-prayer-service-2-2/2025-09-03/
ATTACH;FMTTYPE=image/png:https://templebc.net/wp-content/uploads/2025/06/Screenshot-2025-08-16-130851.png
END:VEVENT
BEGIN:VEVENT
DTSTART;TZID=America/New_York:20250903T183000
DTEND;TZID=America/New_York:20250903T200000
DTSTAMP:20260422T182601
CREATED:20250611T002050Z
LAST-MODIFIED:20260310T173559Z
UID:10000056-1756924200-1756929600@templebc.net
SUMMARY:Thrive Preteen Ministry
DESCRIPTION:Thrive is the name of our weekly Wednesday evening ministry to Preteen students in the 4th\, 5th\, and 6th grades.  We meet in Room 104 in Building 1 for a time of heartfelt worship\, crazy games\,  age appropriate Bible study\, and a delicious snack.  Each month’s lessons are based on a theme and all the activities relate to that theme.  We have fun growing closer to Jesus as we grow closer together in Christian fellowship.
URL:https://templebc.net/event/thrive-preteen-ministry/2025-09-03/
LOCATION:Building 1\, Room 104
ATTACH;FMTTYPE=image/jpeg:https://templebc.net/wp-content/uploads/2025/06/THRIVE-Final-2026.jpg
ORGANIZER;CN="Mark Wooley":MAILTO:tbcthrivejrhigh@gmail.com
END:VEVENT
BEGIN:VEVENT
DTSTART;TZID=America/New_York:20250903T183000
DTEND;TZID=America/New_York:20250903T200000
DTSTAMP:20260422T182601
CREATED:20250611T003231Z
LAST-MODIFIED:20260204T184251Z
UID:10000317-1756924200-1756929600@templebc.net
SUMMARY:Ignite Youth Ministry
DESCRIPTION:Ignite Youth Ministry welcomes all youth\, 7th through 12th grade\, to a time of fun & games\, fellowship & sharing God’s Word.  Meetings are part of our Mid-Week Services held on Wednesday nights at 6:30PM in the Dining Hall-located in the 3rd building.
URL:https://templebc.net/event/ignite-youth/2025-09-03/
ATTACH;FMTTYPE=image/png:https://templebc.net/wp-content/uploads/2026/02/New-Ignite-Logo.png
END:VEVENT
BEGIN:VEVENT
DTSTART;TZID=America/New_York:20250903T183000
DTEND;TZID=America/New_York:20250903T200000
DTSTAMP:20260422T182601
CREATED:20250614T161146Z
LAST-MODIFIED:20250614T161147Z
UID:10001100-1756924200-1756929600@templebc.net
SUMMARY:Truth Trackers Children's Ministry
DESCRIPTION:This exciting Children’s Ministry meets every Wednesday from 6:30 to 8:00 pm in Building 2 in Room 303.  Children in grades K through 3 learn Bible verses\, sing fun Bible songs\, play exciting games\, and enjoy learning God’s Word together.
URL:https://templebc.net/event/truth-trackers-childrens-ministry-2-2/2025-09-03/
ATTACH;FMTTYPE=image/png:https://templebc.net/wp-content/uploads/2024/10/Screenshot-2025-04-26-113433.png
END:VEVENT
BEGIN:VEVENT
DTSTART;TZID=America/New_York:20250907T100000
DTEND;TZID=America/New_York:20250907T104500
DTSTAMP:20260422T182601
CREATED:20241026T233841Z
LAST-MODIFIED:20241026T233841Z
UID:10000579-1757239200-1757241900@templebc.net
SUMMARY:Sunday Bible Study
DESCRIPTION:Come join one of our Sunday Bible Study groups and experience the warm fellowship of fellow believers as we study God’s Word together.  There are classes for all ages.
URL:https://templebc.net/event/sunday-bible-study/2025-09-07/
ATTACH;FMTTYPE=image/png:https://templebc.net/wp-content/uploads/2024/10/Screenshot-2024-10-25-210801.png
END:VEVENT
BEGIN:VEVENT
DTSTART;TZID=America/New_York:20250907T110000
DTEND;TZID=America/New_York:20250907T120000
DTSTAMP:20260422T182601
CREATED:20241026T235023Z
LAST-MODIFIED:20241026T235023Z
UID:10000840-1757242800-1757246400@templebc.net
SUMMARY:Sunday Morning Worship Service
DESCRIPTION:Our Sunday Morning Worship Service features a blended worship style\, with special music by our Worship Team and special singers\, and a challenging message by Pastor Tom Porter from God’s Word.
URL:https://templebc.net/event/sunday-morning-worship-service/2025-09-07/
LOCATION:Main Auditorium
ATTACH;FMTTYPE=image/jpeg:https://templebc.net/wp-content/uploads/2024/07/Untitled.jpg
END:VEVENT
BEGIN:VEVENT
DTSTART;TZID=America/Halifax:20250910T183000
DTEND;TZID=America/Halifax:20250910T193000
DTSTAMP:20260422T182601
CREATED:20250816T172030Z
LAST-MODIFIED:20250816T172031Z
UID:10001362-1757529000-1757532600@templebc.net
SUMMARY:Adult Prayer Service
DESCRIPTION:Each Wednesday from 6:30 to 8:00 pm our adults gather together to pray for one another’s needs and rejoice together as God answers prayer in their lives.
URL:https://templebc.net/event/adult-prayer-service-2-2/2025-09-10/
ATTACH;FMTTYPE=image/png:https://templebc.net/wp-content/uploads/2025/06/Screenshot-2025-08-16-130851.png
END:VEVENT
BEGIN:VEVENT
DTSTART;TZID=America/New_York:20250910T183000
DTEND;TZID=America/New_York:20250910T200000
DTSTAMP:20260422T182601
CREATED:20250611T002050Z
LAST-MODIFIED:20260310T173559Z
UID:10000057-1757529000-1757534400@templebc.net
SUMMARY:Thrive Preteen Ministry
DESCRIPTION:Thrive is the name of our weekly Wednesday evening ministry to Preteen students in the 4th\, 5th\, and 6th grades.  We meet in Room 104 in Building 1 for a time of heartfelt worship\, crazy games\,  age appropriate Bible study\, and a delicious snack.  Each month’s lessons are based on a theme and all the activities relate to that theme.  We have fun growing closer to Jesus as we grow closer together in Christian fellowship.
URL:https://templebc.net/event/thrive-preteen-ministry/2025-09-10/
LOCATION:Building 1\, Room 104
ATTACH;FMTTYPE=image/jpeg:https://templebc.net/wp-content/uploads/2025/06/THRIVE-Final-2026.jpg
ORGANIZER;CN="Mark Wooley":MAILTO:tbcthrivejrhigh@gmail.com
END:VEVENT
BEGIN:VEVENT
DTSTART;TZID=America/New_York:20250910T183000
DTEND;TZID=America/New_York:20250910T200000
DTSTAMP:20260422T182601
CREATED:20250611T003231Z
LAST-MODIFIED:20260204T184251Z
UID:10000318-1757529000-1757534400@templebc.net
SUMMARY:Ignite Youth Ministry
DESCRIPTION:Ignite Youth Ministry welcomes all youth\, 7th through 12th grade\, to a time of fun & games\, fellowship & sharing God’s Word.  Meetings are part of our Mid-Week Services held on Wednesday nights at 6:30PM in the Dining Hall-located in the 3rd building.
URL:https://templebc.net/event/ignite-youth/2025-09-10/
ATTACH;FMTTYPE=image/png:https://templebc.net/wp-content/uploads/2026/02/New-Ignite-Logo.png
END:VEVENT
BEGIN:VEVENT
DTSTART;TZID=America/New_York:20250910T183000
DTEND;TZID=America/New_York:20250910T200000
DTSTAMP:20260422T182601
CREATED:20250614T161146Z
LAST-MODIFIED:20250614T161147Z
UID:10001101-1757529000-1757534400@templebc.net
SUMMARY:Truth Trackers Children's Ministry
DESCRIPTION:This exciting Children’s Ministry meets every Wednesday from 6:30 to 8:00 pm in Building 2 in Room 303.  Children in grades K through 3 learn Bible verses\, sing fun Bible songs\, play exciting games\, and enjoy learning God’s Word together.
URL:https://templebc.net/event/truth-trackers-childrens-ministry-2-2/2025-09-10/
ATTACH;FMTTYPE=image/png:https://templebc.net/wp-content/uploads/2024/10/Screenshot-2025-04-26-113433.png
END:VEVENT
BEGIN:VEVENT
DTSTART;TZID=America/New_York:20250914T100000
DTEND;TZID=America/New_York:20250914T104500
DTSTAMP:20260422T182601
CREATED:20241026T233841Z
LAST-MODIFIED:20241026T233841Z
UID:10000580-1757844000-1757846700@templebc.net
SUMMARY:Sunday Bible Study
DESCRIPTION:Come join one of our Sunday Bible Study groups and experience the warm fellowship of fellow believers as we study God’s Word together.  There are classes for all ages.
URL:https://templebc.net/event/sunday-bible-study/2025-09-14/
ATTACH;FMTTYPE=image/png:https://templebc.net/wp-content/uploads/2024/10/Screenshot-2024-10-25-210801.png
END:VEVENT
BEGIN:VEVENT
DTSTART;TZID=America/New_York:20250914T110000
DTEND;TZID=America/New_York:20250914T120000
DTSTAMP:20260422T182601
CREATED:20241026T235023Z
LAST-MODIFIED:20241026T235023Z
UID:10000841-1757847600-1757851200@templebc.net
SUMMARY:Sunday Morning Worship Service
DESCRIPTION:Our Sunday Morning Worship Service features a blended worship style\, with special music by our Worship Team and special singers\, and a challenging message by Pastor Tom Porter from God’s Word.
URL:https://templebc.net/event/sunday-morning-worship-service/2025-09-14/
LOCATION:Main Auditorium
ATTACH;FMTTYPE=image/jpeg:https://templebc.net/wp-content/uploads/2024/07/Untitled.jpg
END:VEVENT
BEGIN:VEVENT
DTSTART;TZID=America/Halifax:20250917T183000
DTEND;TZID=America/Halifax:20250917T193000
DTSTAMP:20260422T182601
CREATED:20250816T172030Z
LAST-MODIFIED:20250816T172031Z
UID:10001363-1758133800-1758137400@templebc.net
SUMMARY:Adult Prayer Service
DESCRIPTION:Each Wednesday from 6:30 to 8:00 pm our adults gather together to pray for one another’s needs and rejoice together as God answers prayer in their lives.
URL:https://templebc.net/event/adult-prayer-service-2-2/2025-09-17/
ATTACH;FMTTYPE=image/png:https://templebc.net/wp-content/uploads/2025/06/Screenshot-2025-08-16-130851.png
END:VEVENT
BEGIN:VEVENT
DTSTART;TZID=America/New_York:20250917T183000
DTEND;TZID=America/New_York:20250917T200000
DTSTAMP:20260422T182601
CREATED:20250611T002050Z
LAST-MODIFIED:20260310T173559Z
UID:10000058-1758133800-1758139200@templebc.net
SUMMARY:Thrive Preteen Ministry
DESCRIPTION:Thrive is the name of our weekly Wednesday evening ministry to Preteen students in the 4th\, 5th\, and 6th grades.  We meet in Room 104 in Building 1 for a time of heartfelt worship\, crazy games\,  age appropriate Bible study\, and a delicious snack.  Each month’s lessons are based on a theme and all the activities relate to that theme.  We have fun growing closer to Jesus as we grow closer together in Christian fellowship.
URL:https://templebc.net/event/thrive-preteen-ministry/2025-09-17/
LOCATION:Building 1\, Room 104
ATTACH;FMTTYPE=image/jpeg:https://templebc.net/wp-content/uploads/2025/06/THRIVE-Final-2026.jpg
ORGANIZER;CN="Mark Wooley":MAILTO:tbcthrivejrhigh@gmail.com
END:VEVENT
BEGIN:VEVENT
DTSTART;TZID=America/New_York:20250917T183000
DTEND;TZID=America/New_York:20250917T200000
DTSTAMP:20260422T182601
CREATED:20250611T003231Z
LAST-MODIFIED:20260204T184251Z
UID:10000319-1758133800-1758139200@templebc.net
SUMMARY:Ignite Youth Ministry
DESCRIPTION:Ignite Youth Ministry welcomes all youth\, 7th through 12th grade\, to a time of fun & games\, fellowship & sharing God’s Word.  Meetings are part of our Mid-Week Services held on Wednesday nights at 6:30PM in the Dining Hall-located in the 3rd building.
URL:https://templebc.net/event/ignite-youth/2025-09-17/
ATTACH;FMTTYPE=image/png:https://templebc.net/wp-content/uploads/2026/02/New-Ignite-Logo.png
END:VEVENT
BEGIN:VEVENT
DTSTART;TZID=America/New_York:20250917T183000
DTEND;TZID=America/New_York:20250917T200000
DTSTAMP:20260422T182601
CREATED:20250614T161146Z
LAST-MODIFIED:20250614T161147Z
UID:10001102-1758133800-1758139200@templebc.net
SUMMARY:Truth Trackers Children's Ministry
DESCRIPTION:This exciting Children’s Ministry meets every Wednesday from 6:30 to 8:00 pm in Building 2 in Room 303.  Children in grades K through 3 learn Bible verses\, sing fun Bible songs\, play exciting games\, and enjoy learning God’s Word together.
URL:https://templebc.net/event/truth-trackers-childrens-ministry-2-2/2025-09-17/
ATTACH;FMTTYPE=image/png:https://templebc.net/wp-content/uploads/2024/10/Screenshot-2025-04-26-113433.png
END:VEVENT
BEGIN:VEVENT
DTSTART;TZID=America/New_York:20250921T100000
DTEND;TZID=America/New_York:20250921T104500
DTSTAMP:20260422T182601
CREATED:20241026T233841Z
LAST-MODIFIED:20241026T233841Z
UID:10000581-1758448800-1758451500@templebc.net
SUMMARY:Sunday Bible Study
DESCRIPTION:Come join one of our Sunday Bible Study groups and experience the warm fellowship of fellow believers as we study God’s Word together.  There are classes for all ages.
URL:https://templebc.net/event/sunday-bible-study/2025-09-21/
ATTACH;FMTTYPE=image/png:https://templebc.net/wp-content/uploads/2024/10/Screenshot-2024-10-25-210801.png
END:VEVENT
BEGIN:VEVENT
DTSTART;TZID=America/New_York:20250921T110000
DTEND;TZID=America/New_York:20250921T120000
DTSTAMP:20260422T182601
CREATED:20241026T235023Z
LAST-MODIFIED:20241026T235023Z
UID:10000842-1758452400-1758456000@templebc.net
SUMMARY:Sunday Morning Worship Service
DESCRIPTION:Our Sunday Morning Worship Service features a blended worship style\, with special music by our Worship Team and special singers\, and a challenging message by Pastor Tom Porter from God’s Word.
URL:https://templebc.net/event/sunday-morning-worship-service/2025-09-21/
LOCATION:Main Auditorium
ATTACH;FMTTYPE=image/jpeg:https://templebc.net/wp-content/uploads/2024/07/Untitled.jpg
END:VEVENT
BEGIN:VEVENT
DTSTART;TZID=America/Halifax:20250924T183000
DTEND;TZID=America/Halifax:20250924T193000
DTSTAMP:20260422T182601
CREATED:20250816T172030Z
LAST-MODIFIED:20250816T172031Z
UID:10001364-1758738600-1758742200@templebc.net
SUMMARY:Adult Prayer Service
DESCRIPTION:Each Wednesday from 6:30 to 8:00 pm our adults gather together to pray for one another’s needs and rejoice together as God answers prayer in their lives.
URL:https://templebc.net/event/adult-prayer-service-2-2/2025-09-24/
ATTACH;FMTTYPE=image/png:https://templebc.net/wp-content/uploads/2025/06/Screenshot-2025-08-16-130851.png
END:VEVENT
BEGIN:VEVENT
DTSTART;TZID=America/New_York:20250924T183000
DTEND;TZID=America/New_York:20250924T200000
DTSTAMP:20260422T182601
CREATED:20250611T002050Z
LAST-MODIFIED:20260310T173559Z
UID:10000059-1758738600-1758744000@templebc.net
SUMMARY:Thrive Preteen Ministry
DESCRIPTION:Thrive is the name of our weekly Wednesday evening ministry to Preteen students in the 4th\, 5th\, and 6th grades.  We meet in Room 104 in Building 1 for a time of heartfelt worship\, crazy games\,  age appropriate Bible study\, and a delicious snack.  Each month’s lessons are based on a theme and all the activities relate to that theme.  We have fun growing closer to Jesus as we grow closer together in Christian fellowship.
URL:https://templebc.net/event/thrive-preteen-ministry/2025-09-24/
LOCATION:Building 1\, Room 104
ATTACH;FMTTYPE=image/jpeg:https://templebc.net/wp-content/uploads/2025/06/THRIVE-Final-2026.jpg
ORGANIZER;CN="Mark Wooley":MAILTO:tbcthrivejrhigh@gmail.com
END:VEVENT
BEGIN:VEVENT
DTSTART;TZID=America/New_York:20250924T183000
DTEND;TZID=America/New_York:20250924T200000
DTSTAMP:20260422T182601
CREATED:20250611T003231Z
LAST-MODIFIED:20260204T184251Z
UID:10000320-1758738600-1758744000@templebc.net
SUMMARY:Ignite Youth Ministry
DESCRIPTION:Ignite Youth Ministry welcomes all youth\, 7th through 12th grade\, to a time of fun & games\, fellowship & sharing God’s Word.  Meetings are part of our Mid-Week Services held on Wednesday nights at 6:30PM in the Dining Hall-located in the 3rd building.
URL:https://templebc.net/event/ignite-youth/2025-09-24/
ATTACH;FMTTYPE=image/png:https://templebc.net/wp-content/uploads/2026/02/New-Ignite-Logo.png
END:VEVENT
BEGIN:VEVENT
DTSTART;TZID=America/New_York:20250924T183000
DTEND;TZID=America/New_York:20250924T200000
DTSTAMP:20260422T182601
CREATED:20250614T161146Z
LAST-MODIFIED:20250614T161147Z
UID:10001103-1758738600-1758744000@templebc.net
SUMMARY:Truth Trackers Children's Ministry
DESCRIPTION:This exciting Children’s Ministry meets every Wednesday from 6:30 to 8:00 pm in Building 2 in Room 303.  Children in grades K through 3 learn Bible verses\, sing fun Bible songs\, play exciting games\, and enjoy learning God’s Word together.
URL:https://templebc.net/event/truth-trackers-childrens-ministry-2-2/2025-09-24/
ATTACH;FMTTYPE=image/png:https://templebc.net/wp-content/uploads/2024/10/Screenshot-2025-04-26-113433.png
END:VEVENT
BEGIN:VEVENT
DTSTART;TZID=America/New_York:20250928T100000
DTEND;TZID=America/New_York:20250928T104500
DTSTAMP:20260422T182601
CREATED:20241026T233841Z
LAST-MODIFIED:20241026T233841Z
UID:10000582-1759053600-1759056300@templebc.net
SUMMARY:Sunday Bible Study
DESCRIPTION:Come join one of our Sunday Bible Study groups and experience the warm fellowship of fellow believers as we study God’s Word together.  There are classes for all ages.
URL:https://templebc.net/event/sunday-bible-study/2025-09-28/
ATTACH;FMTTYPE=image/png:https://templebc.net/wp-content/uploads/2024/10/Screenshot-2024-10-25-210801.png
END:VEVENT
BEGIN:VEVENT
DTSTART;TZID=America/New_York:20250928T110000
DTEND;TZID=America/New_York:20250928T120000
DTSTAMP:20260422T182601
CREATED:20241026T235023Z
LAST-MODIFIED:20241026T235023Z
UID:10000843-1759057200-1759060800@templebc.net
SUMMARY:Sunday Morning Worship Service
DESCRIPTION:Our Sunday Morning Worship Service features a blended worship style\, with special music by our Worship Team and special singers\, and a challenging message by Pastor Tom Porter from God’s Word.
URL:https://templebc.net/event/sunday-morning-worship-service/2025-09-28/
LOCATION:Main Auditorium
ATTACH;FMTTYPE=image/jpeg:https://templebc.net/wp-content/uploads/2024/07/Untitled.jpg
END:VEVENT
BEGIN:VEVENT
DTSTART;TZID=America/Halifax:20251001T183000
DTEND;TZID=America/Halifax:20251001T193000
DTSTAMP:20260422T182601
CREATED:20250816T172030Z
LAST-MODIFIED:20250816T172031Z
UID:10001365-1759343400-1759347000@templebc.net
SUMMARY:Adult Prayer Service
DESCRIPTION:Each Wednesday from 6:30 to 8:00 pm our adults gather together to pray for one another’s needs and rejoice together as God answers prayer in their lives.
URL:https://templebc.net/event/adult-prayer-service-2-2/2025-10-01/
ATTACH;FMTTYPE=image/png:https://templebc.net/wp-content/uploads/2025/06/Screenshot-2025-08-16-130851.png
END:VEVENT
BEGIN:VEVENT
DTSTART;TZID=America/New_York:20251001T183000
DTEND;TZID=America/New_York:20251001T200000
DTSTAMP:20260422T182601
CREATED:20250611T002050Z
LAST-MODIFIED:20260310T173559Z
UID:10000060-1759343400-1759348800@templebc.net
SUMMARY:Thrive Preteen Ministry
DESCRIPTION:Thrive is the name of our weekly Wednesday evening ministry to Preteen students in the 4th\, 5th\, and 6th grades.  We meet in Room 104 in Building 1 for a time of heartfelt worship\, crazy games\,  age appropriate Bible study\, and a delicious snack.  Each month’s lessons are based on a theme and all the activities relate to that theme.  We have fun growing closer to Jesus as we grow closer together in Christian fellowship.
URL:https://templebc.net/event/thrive-preteen-ministry/2025-10-01/
LOCATION:Building 1\, Room 104
ATTACH;FMTTYPE=image/jpeg:https://templebc.net/wp-content/uploads/2025/06/THRIVE-Final-2026.jpg
ORGANIZER;CN="Mark Wooley":MAILTO:tbcthrivejrhigh@gmail.com
END:VEVENT
BEGIN:VEVENT
DTSTART;TZID=America/New_York:20251001T183000
DTEND;TZID=America/New_York:20251001T200000
DTSTAMP:20260422T182601
CREATED:20250611T003231Z
LAST-MODIFIED:20260204T184251Z
UID:10000321-1759343400-1759348800@templebc.net
SUMMARY:Ignite Youth Ministry
DESCRIPTION:Ignite Youth Ministry welcomes all youth\, 7th through 12th grade\, to a time of fun & games\, fellowship & sharing God’s Word.  Meetings are part of our Mid-Week Services held on Wednesday nights at 6:30PM in the Dining Hall-located in the 3rd building.
URL:https://templebc.net/event/ignite-youth/2025-10-01/
ATTACH;FMTTYPE=image/png:https://templebc.net/wp-content/uploads/2026/02/New-Ignite-Logo.png
END:VEVENT
BEGIN:VEVENT
DTSTART;TZID=America/New_York:20251001T183000
DTEND;TZID=America/New_York:20251001T200000
DTSTAMP:20260422T182601
CREATED:20250614T161146Z
LAST-MODIFIED:20250614T161147Z
UID:10001104-1759343400-1759348800@templebc.net
SUMMARY:Truth Trackers Children's Ministry
DESCRIPTION:This exciting Children’s Ministry meets every Wednesday from 6:30 to 8:00 pm in Building 2 in Room 303.  Children in grades K through 3 learn Bible verses\, sing fun Bible songs\, play exciting games\, and enjoy learning God’s Word together.
URL:https://templebc.net/event/truth-trackers-childrens-ministry-2-2/2025-10-01/
ATTACH;FMTTYPE=image/png:https://templebc.net/wp-content/uploads/2024/10/Screenshot-2025-04-26-113433.png
END:VEVENT
BEGIN:VEVENT
DTSTART;TZID=America/New_York:20251005T100000
DTEND;TZID=America/New_York:20251005T104500
DTSTAMP:20260422T182601
CREATED:20241026T233841Z
LAST-MODIFIED:20241026T233841Z
UID:10000583-1759658400-1759661100@templebc.net
SUMMARY:Sunday Bible Study
DESCRIPTION:Come join one of our Sunday Bible Study groups and experience the warm fellowship of fellow believers as we study God’s Word together.  There are classes for all ages.
URL:https://templebc.net/event/sunday-bible-study/2025-10-05/
ATTACH;FMTTYPE=image/png:https://templebc.net/wp-content/uploads/2024/10/Screenshot-2024-10-25-210801.png
END:VEVENT
BEGIN:VEVENT
DTSTART;TZID=America/New_York:20251005T110000
DTEND;TZID=America/New_York:20251005T120000
DTSTAMP:20260422T182601
CREATED:20241026T235023Z
LAST-MODIFIED:20241026T235023Z
UID:10000844-1759662000-1759665600@templebc.net
SUMMARY:Sunday Morning Worship Service
DESCRIPTION:Our Sunday Morning Worship Service features a blended worship style\, with special music by our Worship Team and special singers\, and a challenging message by Pastor Tom Porter from God’s Word.
URL:https://templebc.net/event/sunday-morning-worship-service/2025-10-05/
LOCATION:Main Auditorium
ATTACH;FMTTYPE=image/jpeg:https://templebc.net/wp-content/uploads/2024/07/Untitled.jpg
END:VEVENT
END:VCALENDAR