BEGIN:VCALENDAR
VERSION:2.0
PRODID:-//Temple Baptist Church - ECPv6.15.20//NONSGML v1.0//EN
CALSCALE:GREGORIAN
METHOD:PUBLISH
X-WR-CALNAME:Temple Baptist Church
X-ORIGINAL-URL:https://templebc.net
X-WR-CALDESC:Events for Temple Baptist Church
REFRESH-INTERVAL;VALUE=DURATION:PT1H
X-Robots-Tag:noindex
X-PUBLISHED-TTL:PT1H
BEGIN:VTIMEZONE
TZID:America/New_York
BEGIN:DAYLIGHT
TZOFFSETFROM:-0500
TZOFFSETTO:-0400
TZNAME:EDT
DTSTART:20250309T070000
END:DAYLIGHT
BEGIN:STANDARD
TZOFFSETFROM:-0400
TZOFFSETTO:-0500
TZNAME:EST
DTSTART:20251102T060000
END:STANDARD
BEGIN:DAYLIGHT
TZOFFSETFROM:-0500
TZOFFSETTO:-0400
TZNAME:EDT
DTSTART:20260308T070000
END:DAYLIGHT
BEGIN:STANDARD
TZOFFSETFROM:-0400
TZOFFSETTO:-0500
TZNAME:EST
DTSTART:20261101T060000
END:STANDARD
BEGIN:DAYLIGHT
TZOFFSETFROM:-0500
TZOFFSETTO:-0400
TZNAME:EDT
DTSTART:20270314T070000
END:DAYLIGHT
BEGIN:STANDARD
TZOFFSETFROM:-0400
TZOFFSETTO:-0500
TZNAME:EST
DTSTART:20271107T060000
END:STANDARD
END:VTIMEZONE
BEGIN:VTIMEZONE
TZID:America/Halifax
BEGIN:DAYLIGHT
TZOFFSETFROM:-0400
TZOFFSETTO:-0300
TZNAME:ADT
DTSTART:20250309T060000
END:DAYLIGHT
BEGIN:STANDARD
TZOFFSETFROM:-0300
TZOFFSETTO:-0400
TZNAME:AST
DTSTART:20251102T050000
END:STANDARD
BEGIN:DAYLIGHT
TZOFFSETFROM:-0400
TZOFFSETTO:-0300
TZNAME:ADT
DTSTART:20260308T060000
END:DAYLIGHT
BEGIN:STANDARD
TZOFFSETFROM:-0300
TZOFFSETTO:-0400
TZNAME:AST
DTSTART:20261101T050000
END:STANDARD
BEGIN:DAYLIGHT
TZOFFSETFROM:-0400
TZOFFSETTO:-0300
TZNAME:ADT
DTSTART:20270314T060000
END:DAYLIGHT
BEGIN:STANDARD
TZOFFSETFROM:-0300
TZOFFSETTO:-0400
TZNAME:AST
DTSTART:20271107T050000
END:STANDARD
END:VTIMEZONE
BEGIN:VEVENT
DTSTART;TZID=America/New_York:20260906T100000
DTEND;TZID=America/New_York:20260906T104500
DTSTAMP:20260422T184344
CREATED:20241026T233841Z
LAST-MODIFIED:20241026T233841Z
UID:10000631-1788688800-1788691500@templebc.net
SUMMARY:Sunday Bible Study
DESCRIPTION:Come join one of our Sunday Bible Study groups and experience the warm fellowship of fellow believers as we study God’s Word together.  There are classes for all ages.
URL:https://templebc.net/event/sunday-bible-study/2026-09-06/
ATTACH;FMTTYPE=image/png:https://templebc.net/wp-content/uploads/2024/10/Screenshot-2024-10-25-210801.png
END:VEVENT
BEGIN:VEVENT
DTSTART;TZID=America/New_York:20260906T110000
DTEND;TZID=America/New_York:20260906T120000
DTSTAMP:20260422T184344
CREATED:20241026T235023Z
LAST-MODIFIED:20241026T235023Z
UID:10000892-1788692400-1788696000@templebc.net
SUMMARY:Sunday Morning Worship Service
DESCRIPTION:Our Sunday Morning Worship Service features a blended worship style\, with special music by our Worship Team and special singers\, and a challenging message by Pastor Tom Porter from God’s Word.
URL:https://templebc.net/event/sunday-morning-worship-service/2026-09-06/
LOCATION:Main Auditorium
ATTACH;FMTTYPE=image/jpeg:https://templebc.net/wp-content/uploads/2024/07/Untitled.jpg
END:VEVENT
BEGIN:VEVENT
DTSTART;TZID=America/Halifax:20260909T183000
DTEND;TZID=America/Halifax:20260909T193000
DTSTAMP:20260422T184344
CREATED:20250816T172030Z
LAST-MODIFIED:20250816T172031Z
UID:10001414-1788978600-1788982200@templebc.net
SUMMARY:Adult Prayer Service
DESCRIPTION:Each Wednesday from 6:30 to 8:00 pm our adults gather together to pray for one another’s needs and rejoice together as God answers prayer in their lives.
URL:https://templebc.net/event/adult-prayer-service-2-2/2026-09-09/
ATTACH;FMTTYPE=image/png:https://templebc.net/wp-content/uploads/2025/06/Screenshot-2025-08-16-130851.png
END:VEVENT
BEGIN:VEVENT
DTSTART;TZID=America/New_York:20260909T183000
DTEND;TZID=America/New_York:20260909T200000
DTSTAMP:20260422T184344
CREATED:20250611T002050Z
LAST-MODIFIED:20260310T173559Z
UID:10000109-1788978600-1788984000@templebc.net
SUMMARY:Thrive Preteen Ministry
DESCRIPTION:Thrive is the name of our weekly Wednesday evening ministry to Preteen students in the 4th\, 5th\, and 6th grades.  We meet in Room 104 in Building 1 for a time of heartfelt worship\, crazy games\,  age appropriate Bible study\, and a delicious snack.  Each month’s lessons are based on a theme and all the activities relate to that theme.  We have fun growing closer to Jesus as we grow closer together in Christian fellowship.
URL:https://templebc.net/event/thrive-preteen-ministry/2026-09-09/
LOCATION:Building 1\, Room 104
ATTACH;FMTTYPE=image/jpeg:https://templebc.net/wp-content/uploads/2025/06/THRIVE-Final-2026.jpg
ORGANIZER;CN="Mark Wooley":MAILTO:tbcthrivejrhigh@gmail.com
END:VEVENT
BEGIN:VEVENT
DTSTART;TZID=America/New_York:20260909T183000
DTEND;TZID=America/New_York:20260909T200000
DTSTAMP:20260422T184344
CREATED:20250611T003231Z
LAST-MODIFIED:20260204T184251Z
UID:10000370-1788978600-1788984000@templebc.net
SUMMARY:Ignite Youth Ministry
DESCRIPTION:Ignite Youth Ministry welcomes all youth\, 7th through 12th grade\, to a time of fun & games\, fellowship & sharing God’s Word.  Meetings are part of our Mid-Week Services held on Wednesday nights at 6:30PM in the Dining Hall-located in the 3rd building.
URL:https://templebc.net/event/ignite-youth/2026-09-09/
ATTACH;FMTTYPE=image/png:https://templebc.net/wp-content/uploads/2026/02/New-Ignite-Logo.png
END:VEVENT
BEGIN:VEVENT
DTSTART;TZID=America/New_York:20260909T183000
DTEND;TZID=America/New_York:20260909T200000
DTSTAMP:20260422T184344
CREATED:20250614T161146Z
LAST-MODIFIED:20250614T161147Z
UID:10001153-1788978600-1788984000@templebc.net
SUMMARY:Truth Trackers Children's Ministry
DESCRIPTION:This exciting Children’s Ministry meets every Wednesday from 6:30 to 8:00 pm in Building 2 in Room 303.  Children in grades K through 3 learn Bible verses\, sing fun Bible songs\, play exciting games\, and enjoy learning God’s Word together.
URL:https://templebc.net/event/truth-trackers-childrens-ministry-2-2/2026-09-09/
ATTACH;FMTTYPE=image/png:https://templebc.net/wp-content/uploads/2024/10/Screenshot-2025-04-26-113433.png
END:VEVENT
BEGIN:VEVENT
DTSTART;TZID=America/New_York:20260913T100000
DTEND;TZID=America/New_York:20260913T104500
DTSTAMP:20260422T184344
CREATED:20241026T233841Z
LAST-MODIFIED:20241026T233841Z
UID:10000632-1789293600-1789296300@templebc.net
SUMMARY:Sunday Bible Study
DESCRIPTION:Come join one of our Sunday Bible Study groups and experience the warm fellowship of fellow believers as we study God’s Word together.  There are classes for all ages.
URL:https://templebc.net/event/sunday-bible-study/2026-09-13/
ATTACH;FMTTYPE=image/png:https://templebc.net/wp-content/uploads/2024/10/Screenshot-2024-10-25-210801.png
END:VEVENT
BEGIN:VEVENT
DTSTART;TZID=America/New_York:20260913T110000
DTEND;TZID=America/New_York:20260913T120000
DTSTAMP:20260422T184344
CREATED:20241026T235023Z
LAST-MODIFIED:20241026T235023Z
UID:10000893-1789297200-1789300800@templebc.net
SUMMARY:Sunday Morning Worship Service
DESCRIPTION:Our Sunday Morning Worship Service features a blended worship style\, with special music by our Worship Team and special singers\, and a challenging message by Pastor Tom Porter from God’s Word.
URL:https://templebc.net/event/sunday-morning-worship-service/2026-09-13/
LOCATION:Main Auditorium
ATTACH;FMTTYPE=image/jpeg:https://templebc.net/wp-content/uploads/2024/07/Untitled.jpg
END:VEVENT
BEGIN:VEVENT
DTSTART;TZID=America/Halifax:20260916T183000
DTEND;TZID=America/Halifax:20260916T193000
DTSTAMP:20260422T184344
CREATED:20250816T172030Z
LAST-MODIFIED:20250816T172031Z
UID:10001415-1789583400-1789587000@templebc.net
SUMMARY:Adult Prayer Service
DESCRIPTION:Each Wednesday from 6:30 to 8:00 pm our adults gather together to pray for one another’s needs and rejoice together as God answers prayer in their lives.
URL:https://templebc.net/event/adult-prayer-service-2-2/2026-09-16/
ATTACH;FMTTYPE=image/png:https://templebc.net/wp-content/uploads/2025/06/Screenshot-2025-08-16-130851.png
END:VEVENT
BEGIN:VEVENT
DTSTART;TZID=America/New_York:20260916T183000
DTEND;TZID=America/New_York:20260916T200000
DTSTAMP:20260422T184344
CREATED:20250611T002050Z
LAST-MODIFIED:20260310T173559Z
UID:10000110-1789583400-1789588800@templebc.net
SUMMARY:Thrive Preteen Ministry
DESCRIPTION:Thrive is the name of our weekly Wednesday evening ministry to Preteen students in the 4th\, 5th\, and 6th grades.  We meet in Room 104 in Building 1 for a time of heartfelt worship\, crazy games\,  age appropriate Bible study\, and a delicious snack.  Each month’s lessons are based on a theme and all the activities relate to that theme.  We have fun growing closer to Jesus as we grow closer together in Christian fellowship.
URL:https://templebc.net/event/thrive-preteen-ministry/2026-09-16/
LOCATION:Building 1\, Room 104
ATTACH;FMTTYPE=image/jpeg:https://templebc.net/wp-content/uploads/2025/06/THRIVE-Final-2026.jpg
ORGANIZER;CN="Mark Wooley":MAILTO:tbcthrivejrhigh@gmail.com
END:VEVENT
BEGIN:VEVENT
DTSTART;TZID=America/New_York:20260916T183000
DTEND;TZID=America/New_York:20260916T200000
DTSTAMP:20260422T184345
CREATED:20250611T003231Z
LAST-MODIFIED:20260204T184251Z
UID:10000371-1789583400-1789588800@templebc.net
SUMMARY:Ignite Youth Ministry
DESCRIPTION:Ignite Youth Ministry welcomes all youth\, 7th through 12th grade\, to a time of fun & games\, fellowship & sharing God’s Word.  Meetings are part of our Mid-Week Services held on Wednesday nights at 6:30PM in the Dining Hall-located in the 3rd building.
URL:https://templebc.net/event/ignite-youth/2026-09-16/
ATTACH;FMTTYPE=image/png:https://templebc.net/wp-content/uploads/2026/02/New-Ignite-Logo.png
END:VEVENT
BEGIN:VEVENT
DTSTART;TZID=America/New_York:20260916T183000
DTEND;TZID=America/New_York:20260916T200000
DTSTAMP:20260422T184345
CREATED:20250614T161146Z
LAST-MODIFIED:20250614T161147Z
UID:10001154-1789583400-1789588800@templebc.net
SUMMARY:Truth Trackers Children's Ministry
DESCRIPTION:This exciting Children’s Ministry meets every Wednesday from 6:30 to 8:00 pm in Building 2 in Room 303.  Children in grades K through 3 learn Bible verses\, sing fun Bible songs\, play exciting games\, and enjoy learning God’s Word together.
URL:https://templebc.net/event/truth-trackers-childrens-ministry-2-2/2026-09-16/
ATTACH;FMTTYPE=image/png:https://templebc.net/wp-content/uploads/2024/10/Screenshot-2025-04-26-113433.png
END:VEVENT
BEGIN:VEVENT
DTSTART;TZID=America/New_York:20260920T100000
DTEND;TZID=America/New_York:20260920T104500
DTSTAMP:20260422T184345
CREATED:20241026T233841Z
LAST-MODIFIED:20241026T233841Z
UID:10000633-1789898400-1789901100@templebc.net
SUMMARY:Sunday Bible Study
DESCRIPTION:Come join one of our Sunday Bible Study groups and experience the warm fellowship of fellow believers as we study God’s Word together.  There are classes for all ages.
URL:https://templebc.net/event/sunday-bible-study/2026-09-20/
ATTACH;FMTTYPE=image/png:https://templebc.net/wp-content/uploads/2024/10/Screenshot-2024-10-25-210801.png
END:VEVENT
BEGIN:VEVENT
DTSTART;TZID=America/New_York:20260920T110000
DTEND;TZID=America/New_York:20260920T120000
DTSTAMP:20260422T184345
CREATED:20241026T235023Z
LAST-MODIFIED:20241026T235023Z
UID:10000894-1789902000-1789905600@templebc.net
SUMMARY:Sunday Morning Worship Service
DESCRIPTION:Our Sunday Morning Worship Service features a blended worship style\, with special music by our Worship Team and special singers\, and a challenging message by Pastor Tom Porter from God’s Word.
URL:https://templebc.net/event/sunday-morning-worship-service/2026-09-20/
LOCATION:Main Auditorium
ATTACH;FMTTYPE=image/jpeg:https://templebc.net/wp-content/uploads/2024/07/Untitled.jpg
END:VEVENT
BEGIN:VEVENT
DTSTART;TZID=America/Halifax:20260923T183000
DTEND;TZID=America/Halifax:20260923T193000
DTSTAMP:20260422T184345
CREATED:20250816T172030Z
LAST-MODIFIED:20250816T172031Z
UID:10001416-1790188200-1790191800@templebc.net
SUMMARY:Adult Prayer Service
DESCRIPTION:Each Wednesday from 6:30 to 8:00 pm our adults gather together to pray for one another’s needs and rejoice together as God answers prayer in their lives.
URL:https://templebc.net/event/adult-prayer-service-2-2/2026-09-23/
ATTACH;FMTTYPE=image/png:https://templebc.net/wp-content/uploads/2025/06/Screenshot-2025-08-16-130851.png
END:VEVENT
BEGIN:VEVENT
DTSTART;TZID=America/New_York:20260923T183000
DTEND;TZID=America/New_York:20260923T200000
DTSTAMP:20260422T184345
CREATED:20250611T002050Z
LAST-MODIFIED:20260310T173559Z
UID:10000111-1790188200-1790193600@templebc.net
SUMMARY:Thrive Preteen Ministry
DESCRIPTION:Thrive is the name of our weekly Wednesday evening ministry to Preteen students in the 4th\, 5th\, and 6th grades.  We meet in Room 104 in Building 1 for a time of heartfelt worship\, crazy games\,  age appropriate Bible study\, and a delicious snack.  Each month’s lessons are based on a theme and all the activities relate to that theme.  We have fun growing closer to Jesus as we grow closer together in Christian fellowship.
URL:https://templebc.net/event/thrive-preteen-ministry/2026-09-23/
LOCATION:Building 1\, Room 104
ATTACH;FMTTYPE=image/jpeg:https://templebc.net/wp-content/uploads/2025/06/THRIVE-Final-2026.jpg
ORGANIZER;CN="Mark Wooley":MAILTO:tbcthrivejrhigh@gmail.com
END:VEVENT
BEGIN:VEVENT
DTSTART;TZID=America/New_York:20260923T183000
DTEND;TZID=America/New_York:20260923T200000
DTSTAMP:20260422T184345
CREATED:20250611T003231Z
LAST-MODIFIED:20260204T184251Z
UID:10000372-1790188200-1790193600@templebc.net
SUMMARY:Ignite Youth Ministry
DESCRIPTION:Ignite Youth Ministry welcomes all youth\, 7th through 12th grade\, to a time of fun & games\, fellowship & sharing God’s Word.  Meetings are part of our Mid-Week Services held on Wednesday nights at 6:30PM in the Dining Hall-located in the 3rd building.
URL:https://templebc.net/event/ignite-youth/2026-09-23/
ATTACH;FMTTYPE=image/png:https://templebc.net/wp-content/uploads/2026/02/New-Ignite-Logo.png
END:VEVENT
BEGIN:VEVENT
DTSTART;TZID=America/New_York:20260923T183000
DTEND;TZID=America/New_York:20260923T200000
DTSTAMP:20260422T184345
CREATED:20250614T161146Z
LAST-MODIFIED:20250614T161147Z
UID:10001155-1790188200-1790193600@templebc.net
SUMMARY:Truth Trackers Children's Ministry
DESCRIPTION:This exciting Children’s Ministry meets every Wednesday from 6:30 to 8:00 pm in Building 2 in Room 303.  Children in grades K through 3 learn Bible verses\, sing fun Bible songs\, play exciting games\, and enjoy learning God’s Word together.
URL:https://templebc.net/event/truth-trackers-childrens-ministry-2-2/2026-09-23/
ATTACH;FMTTYPE=image/png:https://templebc.net/wp-content/uploads/2024/10/Screenshot-2025-04-26-113433.png
END:VEVENT
BEGIN:VEVENT
DTSTART;TZID=America/New_York:20260927T100000
DTEND;TZID=America/New_York:20260927T104500
DTSTAMP:20260422T184345
CREATED:20241026T233841Z
LAST-MODIFIED:20241026T233841Z
UID:10000634-1790503200-1790505900@templebc.net
SUMMARY:Sunday Bible Study
DESCRIPTION:Come join one of our Sunday Bible Study groups and experience the warm fellowship of fellow believers as we study God’s Word together.  There are classes for all ages.
URL:https://templebc.net/event/sunday-bible-study/2026-09-27/
ATTACH;FMTTYPE=image/png:https://templebc.net/wp-content/uploads/2024/10/Screenshot-2024-10-25-210801.png
END:VEVENT
BEGIN:VEVENT
DTSTART;TZID=America/New_York:20260927T110000
DTEND;TZID=America/New_York:20260927T120000
DTSTAMP:20260422T184345
CREATED:20241026T235023Z
LAST-MODIFIED:20241026T235023Z
UID:10000895-1790506800-1790510400@templebc.net
SUMMARY:Sunday Morning Worship Service
DESCRIPTION:Our Sunday Morning Worship Service features a blended worship style\, with special music by our Worship Team and special singers\, and a challenging message by Pastor Tom Porter from God’s Word.
URL:https://templebc.net/event/sunday-morning-worship-service/2026-09-27/
LOCATION:Main Auditorium
ATTACH;FMTTYPE=image/jpeg:https://templebc.net/wp-content/uploads/2024/07/Untitled.jpg
END:VEVENT
BEGIN:VEVENT
DTSTART;TZID=America/Halifax:20260930T183000
DTEND;TZID=America/Halifax:20260930T193000
DTSTAMP:20260422T184345
CREATED:20250816T172030Z
LAST-MODIFIED:20250816T172031Z
UID:10001417-1790793000-1790796600@templebc.net
SUMMARY:Adult Prayer Service
DESCRIPTION:Each Wednesday from 6:30 to 8:00 pm our adults gather together to pray for one another’s needs and rejoice together as God answers prayer in their lives.
URL:https://templebc.net/event/adult-prayer-service-2-2/2026-09-30/
ATTACH;FMTTYPE=image/png:https://templebc.net/wp-content/uploads/2025/06/Screenshot-2025-08-16-130851.png
END:VEVENT
BEGIN:VEVENT
DTSTART;TZID=America/New_York:20260930T183000
DTEND;TZID=America/New_York:20260930T200000
DTSTAMP:20260422T184345
CREATED:20250611T002050Z
LAST-MODIFIED:20260310T173559Z
UID:10000112-1790793000-1790798400@templebc.net
SUMMARY:Thrive Preteen Ministry
DESCRIPTION:Thrive is the name of our weekly Wednesday evening ministry to Preteen students in the 4th\, 5th\, and 6th grades.  We meet in Room 104 in Building 1 for a time of heartfelt worship\, crazy games\,  age appropriate Bible study\, and a delicious snack.  Each month’s lessons are based on a theme and all the activities relate to that theme.  We have fun growing closer to Jesus as we grow closer together in Christian fellowship.
URL:https://templebc.net/event/thrive-preteen-ministry/2026-09-30/
LOCATION:Building 1\, Room 104
ATTACH;FMTTYPE=image/jpeg:https://templebc.net/wp-content/uploads/2025/06/THRIVE-Final-2026.jpg
ORGANIZER;CN="Mark Wooley":MAILTO:tbcthrivejrhigh@gmail.com
END:VEVENT
BEGIN:VEVENT
DTSTART;TZID=America/New_York:20260930T183000
DTEND;TZID=America/New_York:20260930T200000
DTSTAMP:20260422T184345
CREATED:20250611T003231Z
LAST-MODIFIED:20260204T184251Z
UID:10000373-1790793000-1790798400@templebc.net
SUMMARY:Ignite Youth Ministry
DESCRIPTION:Ignite Youth Ministry welcomes all youth\, 7th through 12th grade\, to a time of fun & games\, fellowship & sharing God’s Word.  Meetings are part of our Mid-Week Services held on Wednesday nights at 6:30PM in the Dining Hall-located in the 3rd building.
URL:https://templebc.net/event/ignite-youth/2026-09-30/
ATTACH;FMTTYPE=image/png:https://templebc.net/wp-content/uploads/2026/02/New-Ignite-Logo.png
END:VEVENT
BEGIN:VEVENT
DTSTART;TZID=America/New_York:20260930T183000
DTEND;TZID=America/New_York:20260930T200000
DTSTAMP:20260422T184345
CREATED:20250614T161146Z
LAST-MODIFIED:20250614T161147Z
UID:10001156-1790793000-1790798400@templebc.net
SUMMARY:Truth Trackers Children's Ministry
DESCRIPTION:This exciting Children’s Ministry meets every Wednesday from 6:30 to 8:00 pm in Building 2 in Room 303.  Children in grades K through 3 learn Bible verses\, sing fun Bible songs\, play exciting games\, and enjoy learning God’s Word together.
URL:https://templebc.net/event/truth-trackers-childrens-ministry-2-2/2026-09-30/
ATTACH;FMTTYPE=image/png:https://templebc.net/wp-content/uploads/2024/10/Screenshot-2025-04-26-113433.png
END:VEVENT
BEGIN:VEVENT
DTSTART;TZID=America/New_York:20261004T100000
DTEND;TZID=America/New_York:20261004T104500
DTSTAMP:20260422T184345
CREATED:20241026T233841Z
LAST-MODIFIED:20241026T233841Z
UID:10000635-1791108000-1791110700@templebc.net
SUMMARY:Sunday Bible Study
DESCRIPTION:Come join one of our Sunday Bible Study groups and experience the warm fellowship of fellow believers as we study God’s Word together.  There are classes for all ages.
URL:https://templebc.net/event/sunday-bible-study/2026-10-04/
ATTACH;FMTTYPE=image/png:https://templebc.net/wp-content/uploads/2024/10/Screenshot-2024-10-25-210801.png
END:VEVENT
BEGIN:VEVENT
DTSTART;TZID=America/New_York:20261004T110000
DTEND;TZID=America/New_York:20261004T120000
DTSTAMP:20260422T184345
CREATED:20241026T235023Z
LAST-MODIFIED:20241026T235023Z
UID:10000896-1791111600-1791115200@templebc.net
SUMMARY:Sunday Morning Worship Service
DESCRIPTION:Our Sunday Morning Worship Service features a blended worship style\, with special music by our Worship Team and special singers\, and a challenging message by Pastor Tom Porter from God’s Word.
URL:https://templebc.net/event/sunday-morning-worship-service/2026-10-04/
LOCATION:Main Auditorium
ATTACH;FMTTYPE=image/jpeg:https://templebc.net/wp-content/uploads/2024/07/Untitled.jpg
END:VEVENT
BEGIN:VEVENT
DTSTART;TZID=America/Halifax:20261007T183000
DTEND;TZID=America/Halifax:20261007T193000
DTSTAMP:20260422T184345
CREATED:20250816T172030Z
LAST-MODIFIED:20250816T172031Z
UID:10001418-1791397800-1791401400@templebc.net
SUMMARY:Adult Prayer Service
DESCRIPTION:Each Wednesday from 6:30 to 8:00 pm our adults gather together to pray for one another’s needs and rejoice together as God answers prayer in their lives.
URL:https://templebc.net/event/adult-prayer-service-2-2/2026-10-07/
ATTACH;FMTTYPE=image/png:https://templebc.net/wp-content/uploads/2025/06/Screenshot-2025-08-16-130851.png
END:VEVENT
BEGIN:VEVENT
DTSTART;TZID=America/New_York:20261007T183000
DTEND;TZID=America/New_York:20261007T200000
DTSTAMP:20260422T184345
CREATED:20250611T002050Z
LAST-MODIFIED:20260310T173559Z
UID:10000113-1791397800-1791403200@templebc.net
SUMMARY:Thrive Preteen Ministry
DESCRIPTION:Thrive is the name of our weekly Wednesday evening ministry to Preteen students in the 4th\, 5th\, and 6th grades.  We meet in Room 104 in Building 1 for a time of heartfelt worship\, crazy games\,  age appropriate Bible study\, and a delicious snack.  Each month’s lessons are based on a theme and all the activities relate to that theme.  We have fun growing closer to Jesus as we grow closer together in Christian fellowship.
URL:https://templebc.net/event/thrive-preteen-ministry/2026-10-07/
LOCATION:Building 1\, Room 104
ATTACH;FMTTYPE=image/jpeg:https://templebc.net/wp-content/uploads/2025/06/THRIVE-Final-2026.jpg
ORGANIZER;CN="Mark Wooley":MAILTO:tbcthrivejrhigh@gmail.com
END:VEVENT
BEGIN:VEVENT
DTSTART;TZID=America/New_York:20261007T183000
DTEND;TZID=America/New_York:20261007T200000
DTSTAMP:20260422T184345
CREATED:20250611T003231Z
LAST-MODIFIED:20260204T184251Z
UID:10000374-1791397800-1791403200@templebc.net
SUMMARY:Ignite Youth Ministry
DESCRIPTION:Ignite Youth Ministry welcomes all youth\, 7th through 12th grade\, to a time of fun & games\, fellowship & sharing God’s Word.  Meetings are part of our Mid-Week Services held on Wednesday nights at 6:30PM in the Dining Hall-located in the 3rd building.
URL:https://templebc.net/event/ignite-youth/2026-10-07/
ATTACH;FMTTYPE=image/png:https://templebc.net/wp-content/uploads/2026/02/New-Ignite-Logo.png
END:VEVENT
BEGIN:VEVENT
DTSTART;TZID=America/New_York:20261007T183000
DTEND;TZID=America/New_York:20261007T200000
DTSTAMP:20260422T184345
CREATED:20250614T161146Z
LAST-MODIFIED:20250614T161147Z
UID:10001157-1791397800-1791403200@templebc.net
SUMMARY:Truth Trackers Children's Ministry
DESCRIPTION:This exciting Children’s Ministry meets every Wednesday from 6:30 to 8:00 pm in Building 2 in Room 303.  Children in grades K through 3 learn Bible verses\, sing fun Bible songs\, play exciting games\, and enjoy learning God’s Word together.
URL:https://templebc.net/event/truth-trackers-childrens-ministry-2-2/2026-10-07/
ATTACH;FMTTYPE=image/png:https://templebc.net/wp-content/uploads/2024/10/Screenshot-2025-04-26-113433.png
END:VEVENT
END:VCALENDAR