BEGIN:VCALENDAR
VERSION:2.0
PRODID:-//Temple Baptist Church - ECPv6.15.20//NONSGML v1.0//EN
CALSCALE:GREGORIAN
METHOD:PUBLISH
X-WR-CALNAME:Temple Baptist Church
X-ORIGINAL-URL:https://templebc.net
X-WR-CALDESC:Events for Temple Baptist Church
REFRESH-INTERVAL;VALUE=DURATION:PT1H
X-Robots-Tag:noindex
X-PUBLISHED-TTL:PT1H
BEGIN:VTIMEZONE
TZID:America/New_York
BEGIN:DAYLIGHT
TZOFFSETFROM:-0500
TZOFFSETTO:-0400
TZNAME:EDT
DTSTART:20230312T070000
END:DAYLIGHT
BEGIN:STANDARD
TZOFFSETFROM:-0400
TZOFFSETTO:-0500
TZNAME:EST
DTSTART:20231105T060000
END:STANDARD
BEGIN:DAYLIGHT
TZOFFSETFROM:-0500
TZOFFSETTO:-0400
TZNAME:EDT
DTSTART:20240310T070000
END:DAYLIGHT
BEGIN:STANDARD
TZOFFSETFROM:-0400
TZOFFSETTO:-0500
TZNAME:EST
DTSTART:20241103T060000
END:STANDARD
BEGIN:DAYLIGHT
TZOFFSETFROM:-0500
TZOFFSETTO:-0400
TZNAME:EDT
DTSTART:20250309T070000
END:DAYLIGHT
BEGIN:STANDARD
TZOFFSETFROM:-0400
TZOFFSETTO:-0500
TZNAME:EST
DTSTART:20251102T060000
END:STANDARD
BEGIN:DAYLIGHT
TZOFFSETFROM:-0500
TZOFFSETTO:-0400
TZNAME:EDT
DTSTART:20260308T070000
END:DAYLIGHT
BEGIN:STANDARD
TZOFFSETFROM:-0400
TZOFFSETTO:-0500
TZNAME:EST
DTSTART:20261101T060000
END:STANDARD
END:VTIMEZONE
BEGIN:VTIMEZONE
TZID:America/Halifax
BEGIN:DAYLIGHT
TZOFFSETFROM:-0400
TZOFFSETTO:-0300
TZNAME:ADT
DTSTART:20230312T060000
END:DAYLIGHT
BEGIN:STANDARD
TZOFFSETFROM:-0300
TZOFFSETTO:-0400
TZNAME:AST
DTSTART:20231105T050000
END:STANDARD
BEGIN:DAYLIGHT
TZOFFSETFROM:-0400
TZOFFSETTO:-0300
TZNAME:ADT
DTSTART:20240310T060000
END:DAYLIGHT
BEGIN:STANDARD
TZOFFSETFROM:-0300
TZOFFSETTO:-0400
TZNAME:AST
DTSTART:20241103T050000
END:STANDARD
BEGIN:DAYLIGHT
TZOFFSETFROM:-0400
TZOFFSETTO:-0300
TZNAME:ADT
DTSTART:20250309T060000
END:DAYLIGHT
BEGIN:STANDARD
TZOFFSETFROM:-0300
TZOFFSETTO:-0400
TZNAME:AST
DTSTART:20251102T050000
END:STANDARD
BEGIN:DAYLIGHT
TZOFFSETFROM:-0400
TZOFFSETTO:-0300
TZNAME:ADT
DTSTART:20260308T060000
END:DAYLIGHT
BEGIN:STANDARD
TZOFFSETFROM:-0300
TZOFFSETTO:-0400
TZNAME:AST
DTSTART:20261101T050000
END:STANDARD
END:VTIMEZONE
BEGIN:VEVENT
DTSTART;TZID=America/New_York:20250108T183000
DTEND;TZID=America/New_York:20250108T200000
DTSTAMP:20260424T130041
CREATED:20241027T000338Z
LAST-MODIFIED:20241027T000338Z
UID:10001066-1736361000-1736366400@templebc.net
SUMMARY:Truth Trackers Children's Ministry
DESCRIPTION:This exciting Children’s Ministry meets every Wednesday from 6:30 to 8:00 pm in Building 2 in the room next to the gym.  Children in grades 1 through 5 learn Bible verses\, sing fun Bible songs\, play exciting games\, and enjoy learning God’s Word together.
URL:https://templebc.net/event/truth-trackers-childrens-ministry/2025-01-08/
ATTACH;FMTTYPE=image/png:https://templebc.net/wp-content/uploads/2024/10/Truth-Trackers-New.png
END:VEVENT
BEGIN:VEVENT
DTSTART;TZID=America/New_York:20250108T183000
DTEND;TZID=America/New_York:20250108T200000
DTSTAMP:20260424T130041
CREATED:20241026T233227Z
LAST-MODIFIED:20241026T233227Z
UID:10000283-1736361000-1736366400@templebc.net
SUMMARY:Strive High School Youth
DESCRIPTION:Strive Sr. High ministry welcomes all youth\, 9th through 12th grade\, to a time of fun & games\, fellowship & sharing God’s Word.  Meetings are part of our Mid-Week Services held on Wednesday nights at 6:30PM in the Dining Hall-located in the 3rd building.
URL:https://templebc.net/event/strive-high-school-youth/2025-01-08/
ATTACH;FMTTYPE=image/png:https://templebc.net/wp-content/uploads/2024/10/Strive-New.png
END:VEVENT
BEGIN:VEVENT
DTSTART;TZID=America/New_York:20250108T183000
DTEND;TZID=America/New_York:20250108T200000
DTSTAMP:20260424T130041
CREATED:20241026T232721Z
LAST-MODIFIED:20241029T111323Z
UID:10000022-1736361000-1736366400@templebc.net
SUMMARY:Thrive Jr. High Ministry
DESCRIPTION:Thrive is the name of our weekly Wednesday evening ministry to Junior High students in the 6th\, 7th\, and 8th grades.  We meet in Room 104 in Building 1 for a time of heartfelt worship\, crazy games\,  age appropriate Bible study\, and a delicious snack.  Each month’s lessons are based on a theme and all the activities relate to that theme.  We have fun growing closer to Jesus as we grow closer together in Christian fellowship.
URL:https://templebc.net/event/thrive-jr-high-ministry/2025-01-08/
LOCATION:Building 1\, Room 104
ATTACH;FMTTYPE=image/jpeg:https://templebc.net/wp-content/uploads/2024/10/Thrive-Group1-1.jpg
ORGANIZER;CN="Mark Wooley":MAILTO:tbcthrivejrhigh@gmail.com
END:VEVENT
BEGIN:VEVENT
DTSTART;TZID=America/Halifax:20250108T183000
DTEND;TZID=America/Halifax:20250108T193000
DTSTAMP:20260424T130041
CREATED:20241027T001605Z
LAST-MODIFIED:20241027T001605Z
UID:10001327-1736361000-1736364600@templebc.net
SUMMARY:Adult Prayer Service
DESCRIPTION:Each Wednesday from 6:30 to 8:00 pm our adults gather together to pray for one another’s needs and rejoice together as God answers prayer in their lives.
URL:https://templebc.net/event/adult-prayer-service/2025-01-08/
ATTACH;FMTTYPE=image/png:https://templebc.net/wp-content/uploads/2024/10/Screenshot-2024-10-25-210948.png
END:VEVENT
BEGIN:VEVENT
DTSTART;TZID=America/New_York:20250105T110000
DTEND;TZID=America/New_York:20250105T120000
DTSTAMP:20260424T130041
CREATED:20241026T235023Z
LAST-MODIFIED:20241026T235023Z
UID:10000805-1736074800-1736078400@templebc.net
SUMMARY:Sunday Morning Worship Service
DESCRIPTION:Our Sunday Morning Worship Service features a blended worship style\, with special music by our Worship Team and special singers\, and a challenging message by Pastor Tom Porter from God’s Word.
URL:https://templebc.net/event/sunday-morning-worship-service/2025-01-05/
LOCATION:Main Auditorium
ATTACH;FMTTYPE=image/jpeg:https://templebc.net/wp-content/uploads/2024/07/Untitled.jpg
END:VEVENT
BEGIN:VEVENT
DTSTART;TZID=America/New_York:20250105T100000
DTEND;TZID=America/New_York:20250105T104500
DTSTAMP:20260424T130041
CREATED:20241026T233841Z
LAST-MODIFIED:20241026T233841Z
UID:10000544-1736071200-1736073900@templebc.net
SUMMARY:Sunday Bible Study
DESCRIPTION:Come join one of our Sunday Bible Study groups and experience the warm fellowship of fellow believers as we study God’s Word together.  There are classes for all ages.
URL:https://templebc.net/event/sunday-bible-study/2025-01-05/
ATTACH;FMTTYPE=image/png:https://templebc.net/wp-content/uploads/2024/10/Screenshot-2024-10-25-210801.png
END:VEVENT
BEGIN:VEVENT
DTSTART;TZID=America/New_York:20250101T183000
DTEND;TZID=America/New_York:20250101T200000
DTSTAMP:20260424T130041
CREATED:20241027T000338Z
LAST-MODIFIED:20241027T000338Z
UID:10001065-1735756200-1735761600@templebc.net
SUMMARY:Truth Trackers Children's Ministry
DESCRIPTION:This exciting Children’s Ministry meets every Wednesday from 6:30 to 8:00 pm in Building 2 in the room next to the gym.  Children in grades 1 through 5 learn Bible verses\, sing fun Bible songs\, play exciting games\, and enjoy learning God’s Word together.
URL:https://templebc.net/event/truth-trackers-childrens-ministry/2025-01-01/
ATTACH;FMTTYPE=image/png:https://templebc.net/wp-content/uploads/2024/10/Truth-Trackers-New.png
END:VEVENT
BEGIN:VEVENT
DTSTART;TZID=America/New_York:20250101T183000
DTEND;TZID=America/New_York:20250101T200000
DTSTAMP:20260424T130041
CREATED:20241026T233227Z
LAST-MODIFIED:20241026T233227Z
UID:10000282-1735756200-1735761600@templebc.net
SUMMARY:Strive High School Youth
DESCRIPTION:Strive Sr. High ministry welcomes all youth\, 9th through 12th grade\, to a time of fun & games\, fellowship & sharing God’s Word.  Meetings are part of our Mid-Week Services held on Wednesday nights at 6:30PM in the Dining Hall-located in the 3rd building.
URL:https://templebc.net/event/strive-high-school-youth/2025-01-01/
ATTACH;FMTTYPE=image/png:https://templebc.net/wp-content/uploads/2024/10/Strive-New.png
END:VEVENT
BEGIN:VEVENT
DTSTART;TZID=America/New_York:20250101T183000
DTEND;TZID=America/New_York:20250101T200000
DTSTAMP:20260424T130041
CREATED:20241026T232721Z
LAST-MODIFIED:20241029T111323Z
UID:10000021-1735756200-1735761600@templebc.net
SUMMARY:Thrive Jr. High Ministry
DESCRIPTION:Thrive is the name of our weekly Wednesday evening ministry to Junior High students in the 6th\, 7th\, and 8th grades.  We meet in Room 104 in Building 1 for a time of heartfelt worship\, crazy games\,  age appropriate Bible study\, and a delicious snack.  Each month’s lessons are based on a theme and all the activities relate to that theme.  We have fun growing closer to Jesus as we grow closer together in Christian fellowship.
URL:https://templebc.net/event/thrive-jr-high-ministry/2025-01-01/
LOCATION:Building 1\, Room 104
ATTACH;FMTTYPE=image/jpeg:https://templebc.net/wp-content/uploads/2024/10/Thrive-Group1-1.jpg
ORGANIZER;CN="Mark Wooley":MAILTO:tbcthrivejrhigh@gmail.com
END:VEVENT
BEGIN:VEVENT
DTSTART;TZID=America/Halifax:20250101T183000
DTEND;TZID=America/Halifax:20250101T193000
DTSTAMP:20260424T130041
CREATED:20241027T001605Z
LAST-MODIFIED:20241027T001605Z
UID:10001326-1735756200-1735759800@templebc.net
SUMMARY:Adult Prayer Service
DESCRIPTION:Each Wednesday from 6:30 to 8:00 pm our adults gather together to pray for one another’s needs and rejoice together as God answers prayer in their lives.
URL:https://templebc.net/event/adult-prayer-service/2025-01-01/
ATTACH;FMTTYPE=image/png:https://templebc.net/wp-content/uploads/2024/10/Screenshot-2024-10-25-210948.png
END:VEVENT
BEGIN:VEVENT
DTSTART;TZID=America/New_York:20241229T110000
DTEND;TZID=America/New_York:20241229T120000
DTSTAMP:20260424T130041
CREATED:20241026T235023Z
LAST-MODIFIED:20241026T235023Z
UID:10000804-1735470000-1735473600@templebc.net
SUMMARY:Sunday Morning Worship Service
DESCRIPTION:Our Sunday Morning Worship Service features a blended worship style\, with special music by our Worship Team and special singers\, and a challenging message by Pastor Tom Porter from God’s Word.
URL:https://templebc.net/event/sunday-morning-worship-service/2024-12-29/
LOCATION:Main Auditorium
ATTACH;FMTTYPE=image/jpeg:https://templebc.net/wp-content/uploads/2024/07/Untitled.jpg
END:VEVENT
BEGIN:VEVENT
DTSTART;TZID=America/New_York:20241229T100000
DTEND;TZID=America/New_York:20241229T104500
DTSTAMP:20260424T130041
CREATED:20241026T233841Z
LAST-MODIFIED:20241026T233841Z
UID:10000543-1735466400-1735469100@templebc.net
SUMMARY:Sunday Bible Study
DESCRIPTION:Come join one of our Sunday Bible Study groups and experience the warm fellowship of fellow believers as we study God’s Word together.  There are classes for all ages.
URL:https://templebc.net/event/sunday-bible-study/2024-12-29/
ATTACH;FMTTYPE=image/png:https://templebc.net/wp-content/uploads/2024/10/Screenshot-2024-10-25-210801.png
END:VEVENT
BEGIN:VEVENT
DTSTART;TZID=America/New_York:20241225T183000
DTEND;TZID=America/New_York:20241225T200000
DTSTAMP:20260424T130041
CREATED:20241027T000338Z
LAST-MODIFIED:20241027T000338Z
UID:10001064-1735151400-1735156800@templebc.net
SUMMARY:Truth Trackers Children's Ministry
DESCRIPTION:This exciting Children’s Ministry meets every Wednesday from 6:30 to 8:00 pm in Building 2 in the room next to the gym.  Children in grades 1 through 5 learn Bible verses\, sing fun Bible songs\, play exciting games\, and enjoy learning God’s Word together.
URL:https://templebc.net/event/truth-trackers-childrens-ministry/2024-12-25/
ATTACH;FMTTYPE=image/png:https://templebc.net/wp-content/uploads/2024/10/Truth-Trackers-New.png
END:VEVENT
BEGIN:VEVENT
DTSTART;TZID=America/New_York:20241225T183000
DTEND;TZID=America/New_York:20241225T200000
DTSTAMP:20260424T130041
CREATED:20241026T233227Z
LAST-MODIFIED:20241026T233227Z
UID:10000281-1735151400-1735156800@templebc.net
SUMMARY:Strive High School Youth
DESCRIPTION:Strive Sr. High ministry welcomes all youth\, 9th through 12th grade\, to a time of fun & games\, fellowship & sharing God’s Word.  Meetings are part of our Mid-Week Services held on Wednesday nights at 6:30PM in the Dining Hall-located in the 3rd building.
URL:https://templebc.net/event/strive-high-school-youth/2024-12-25/
ATTACH;FMTTYPE=image/png:https://templebc.net/wp-content/uploads/2024/10/Strive-New.png
END:VEVENT
BEGIN:VEVENT
DTSTART;TZID=America/New_York:20241225T183000
DTEND;TZID=America/New_York:20241225T200000
DTSTAMP:20260424T130041
CREATED:20241026T232721Z
LAST-MODIFIED:20241029T111323Z
UID:10000020-1735151400-1735156800@templebc.net
SUMMARY:Thrive Jr. High Ministry
DESCRIPTION:Thrive is the name of our weekly Wednesday evening ministry to Junior High students in the 6th\, 7th\, and 8th grades.  We meet in Room 104 in Building 1 for a time of heartfelt worship\, crazy games\,  age appropriate Bible study\, and a delicious snack.  Each month’s lessons are based on a theme and all the activities relate to that theme.  We have fun growing closer to Jesus as we grow closer together in Christian fellowship.
URL:https://templebc.net/event/thrive-jr-high-ministry/2024-12-25/
LOCATION:Building 1\, Room 104
ATTACH;FMTTYPE=image/jpeg:https://templebc.net/wp-content/uploads/2024/10/Thrive-Group1-1.jpg
ORGANIZER;CN="Mark Wooley":MAILTO:tbcthrivejrhigh@gmail.com
END:VEVENT
BEGIN:VEVENT
DTSTART;TZID=America/Halifax:20241225T183000
DTEND;TZID=America/Halifax:20241225T193000
DTSTAMP:20260424T130041
CREATED:20241027T001605Z
LAST-MODIFIED:20241027T001605Z
UID:10001325-1735151400-1735155000@templebc.net
SUMMARY:Adult Prayer Service
DESCRIPTION:Each Wednesday from 6:30 to 8:00 pm our adults gather together to pray for one another’s needs and rejoice together as God answers prayer in their lives.
URL:https://templebc.net/event/adult-prayer-service/2024-12-25/
ATTACH;FMTTYPE=image/png:https://templebc.net/wp-content/uploads/2024/10/Screenshot-2024-10-25-210948.png
END:VEVENT
BEGIN:VEVENT
DTSTART;TZID=America/New_York:20241222T110000
DTEND;TZID=America/New_York:20241222T120000
DTSTAMP:20260424T130041
CREATED:20241026T235023Z
LAST-MODIFIED:20241026T235023Z
UID:10000803-1734865200-1734868800@templebc.net
SUMMARY:Sunday Morning Worship Service
DESCRIPTION:Our Sunday Morning Worship Service features a blended worship style\, with special music by our Worship Team and special singers\, and a challenging message by Pastor Tom Porter from God’s Word.
URL:https://templebc.net/event/sunday-morning-worship-service/2024-12-22/
LOCATION:Main Auditorium
ATTACH;FMTTYPE=image/jpeg:https://templebc.net/wp-content/uploads/2024/07/Untitled.jpg
END:VEVENT
BEGIN:VEVENT
DTSTART;TZID=America/New_York:20241222T100000
DTEND;TZID=America/New_York:20241222T104500
DTSTAMP:20260424T130041
CREATED:20241026T233841Z
LAST-MODIFIED:20241026T233841Z
UID:10000542-1734861600-1734864300@templebc.net
SUMMARY:Sunday Bible Study
DESCRIPTION:Come join one of our Sunday Bible Study groups and experience the warm fellowship of fellow believers as we study God’s Word together.  There are classes for all ages.
URL:https://templebc.net/event/sunday-bible-study/2024-12-22/
ATTACH;FMTTYPE=image/png:https://templebc.net/wp-content/uploads/2024/10/Screenshot-2024-10-25-210801.png
END:VEVENT
BEGIN:VEVENT
DTSTART;TZID=America/New_York:20241218T183000
DTEND;TZID=America/New_York:20241218T200000
DTSTAMP:20260424T130041
CREATED:20241027T000338Z
LAST-MODIFIED:20241027T000338Z
UID:10001063-1734546600-1734552000@templebc.net
SUMMARY:Truth Trackers Children's Ministry
DESCRIPTION:This exciting Children’s Ministry meets every Wednesday from 6:30 to 8:00 pm in Building 2 in the room next to the gym.  Children in grades 1 through 5 learn Bible verses\, sing fun Bible songs\, play exciting games\, and enjoy learning God’s Word together.
URL:https://templebc.net/event/truth-trackers-childrens-ministry/2024-12-18/
ATTACH;FMTTYPE=image/png:https://templebc.net/wp-content/uploads/2024/10/Truth-Trackers-New.png
END:VEVENT
BEGIN:VEVENT
DTSTART;TZID=America/New_York:20241218T183000
DTEND;TZID=America/New_York:20241218T200000
DTSTAMP:20260424T130041
CREATED:20241026T233227Z
LAST-MODIFIED:20241026T233227Z
UID:10000280-1734546600-1734552000@templebc.net
SUMMARY:Strive High School Youth
DESCRIPTION:Strive Sr. High ministry welcomes all youth\, 9th through 12th grade\, to a time of fun & games\, fellowship & sharing God’s Word.  Meetings are part of our Mid-Week Services held on Wednesday nights at 6:30PM in the Dining Hall-located in the 3rd building.
URL:https://templebc.net/event/strive-high-school-youth/2024-12-18/
ATTACH;FMTTYPE=image/png:https://templebc.net/wp-content/uploads/2024/10/Strive-New.png
END:VEVENT
BEGIN:VEVENT
DTSTART;TZID=America/New_York:20241218T183000
DTEND;TZID=America/New_York:20241218T200000
DTSTAMP:20260424T130041
CREATED:20241026T232721Z
LAST-MODIFIED:20241029T111323Z
UID:10000019-1734546600-1734552000@templebc.net
SUMMARY:Thrive Jr. High Ministry
DESCRIPTION:Thrive is the name of our weekly Wednesday evening ministry to Junior High students in the 6th\, 7th\, and 8th grades.  We meet in Room 104 in Building 1 for a time of heartfelt worship\, crazy games\,  age appropriate Bible study\, and a delicious snack.  Each month’s lessons are based on a theme and all the activities relate to that theme.  We have fun growing closer to Jesus as we grow closer together in Christian fellowship.
URL:https://templebc.net/event/thrive-jr-high-ministry/2024-12-18/
LOCATION:Building 1\, Room 104
ATTACH;FMTTYPE=image/jpeg:https://templebc.net/wp-content/uploads/2024/10/Thrive-Group1-1.jpg
ORGANIZER;CN="Mark Wooley":MAILTO:tbcthrivejrhigh@gmail.com
END:VEVENT
BEGIN:VEVENT
DTSTART;TZID=America/Halifax:20241218T183000
DTEND;TZID=America/Halifax:20241218T193000
DTSTAMP:20260424T130041
CREATED:20241027T001605Z
LAST-MODIFIED:20241027T001605Z
UID:10001324-1734546600-1734550200@templebc.net
SUMMARY:Adult Prayer Service
DESCRIPTION:Each Wednesday from 6:30 to 8:00 pm our adults gather together to pray for one another’s needs and rejoice together as God answers prayer in their lives.
URL:https://templebc.net/event/adult-prayer-service/2024-12-18/
ATTACH;FMTTYPE=image/png:https://templebc.net/wp-content/uploads/2024/10/Screenshot-2024-10-25-210948.png
END:VEVENT
BEGIN:VEVENT
DTSTART;TZID=America/New_York:20241215T110000
DTEND;TZID=America/New_York:20241215T120000
DTSTAMP:20260424T130041
CREATED:20241116T205047Z
LAST-MODIFIED:20241116T205047Z
UID:10001586-1734260400-1734264000@templebc.net
SUMMARY:TBC Christmas Celebration 2024 - Angels We Have Heard on High
DESCRIPTION:Temple Baptist Church Worship and Drama Team presents “Angels We Have Heard On High” a drama and music presentation showing the nativity story from the angels’ point of view.
URL:https://templebc.net/event/tbc-christmas-celebration-2024-angels-we-have-heard-on-high/
ATTACH;FMTTYPE=image/jpeg:https://templebc.net/wp-content/uploads/2024/11/TBC-Christmas-Celebration-2024.jpg
END:VEVENT
BEGIN:VEVENT
DTSTART;TZID=America/New_York:20241215T110000
DTEND;TZID=America/New_York:20241215T120000
DTSTAMP:20260424T130041
CREATED:20241026T235023Z
LAST-MODIFIED:20241026T235023Z
UID:10000802-1734260400-1734264000@templebc.net
SUMMARY:Sunday Morning Worship Service
DESCRIPTION:Our Sunday Morning Worship Service features a blended worship style\, with special music by our Worship Team and special singers\, and a challenging message by Pastor Tom Porter from God’s Word.
URL:https://templebc.net/event/sunday-morning-worship-service/2024-12-15/
LOCATION:Main Auditorium
ATTACH;FMTTYPE=image/jpeg:https://templebc.net/wp-content/uploads/2024/07/Untitled.jpg
END:VEVENT
BEGIN:VEVENT
DTSTART;TZID=America/New_York:20241215T100000
DTEND;TZID=America/New_York:20241215T104500
DTSTAMP:20260424T130041
CREATED:20241026T233841Z
LAST-MODIFIED:20241026T233841Z
UID:10000541-1734256800-1734259500@templebc.net
SUMMARY:Sunday Bible Study
DESCRIPTION:Come join one of our Sunday Bible Study groups and experience the warm fellowship of fellow believers as we study God’s Word together.  There are classes for all ages.
URL:https://templebc.net/event/sunday-bible-study/2024-12-15/
ATTACH;FMTTYPE=image/png:https://templebc.net/wp-content/uploads/2024/10/Screenshot-2024-10-25-210801.png
END:VEVENT
BEGIN:VEVENT
DTSTART;TZID=America/New_York:20241211T183000
DTEND;TZID=America/New_York:20241211T200000
DTSTAMP:20260424T130041
CREATED:20241027T000338Z
LAST-MODIFIED:20241027T000338Z
UID:10001062-1733941800-1733947200@templebc.net
SUMMARY:Truth Trackers Children's Ministry
DESCRIPTION:This exciting Children’s Ministry meets every Wednesday from 6:30 to 8:00 pm in Building 2 in the room next to the gym.  Children in grades 1 through 5 learn Bible verses\, sing fun Bible songs\, play exciting games\, and enjoy learning God’s Word together.
URL:https://templebc.net/event/truth-trackers-childrens-ministry/2024-12-11/
ATTACH;FMTTYPE=image/png:https://templebc.net/wp-content/uploads/2024/10/Truth-Trackers-New.png
END:VEVENT
BEGIN:VEVENT
DTSTART;TZID=America/New_York:20241211T183000
DTEND;TZID=America/New_York:20241211T200000
DTSTAMP:20260424T130041
CREATED:20241026T233227Z
LAST-MODIFIED:20241026T233227Z
UID:10000279-1733941800-1733947200@templebc.net
SUMMARY:Strive High School Youth
DESCRIPTION:Strive Sr. High ministry welcomes all youth\, 9th through 12th grade\, to a time of fun & games\, fellowship & sharing God’s Word.  Meetings are part of our Mid-Week Services held on Wednesday nights at 6:30PM in the Dining Hall-located in the 3rd building.
URL:https://templebc.net/event/strive-high-school-youth/2024-12-11/
ATTACH;FMTTYPE=image/png:https://templebc.net/wp-content/uploads/2024/10/Strive-New.png
END:VEVENT
BEGIN:VEVENT
DTSTART;TZID=America/New_York:20241211T183000
DTEND;TZID=America/New_York:20241211T200000
DTSTAMP:20260424T130041
CREATED:20241026T232721Z
LAST-MODIFIED:20241029T111323Z
UID:10000018-1733941800-1733947200@templebc.net
SUMMARY:Thrive Jr. High Ministry
DESCRIPTION:Thrive is the name of our weekly Wednesday evening ministry to Junior High students in the 6th\, 7th\, and 8th grades.  We meet in Room 104 in Building 1 for a time of heartfelt worship\, crazy games\,  age appropriate Bible study\, and a delicious snack.  Each month’s lessons are based on a theme and all the activities relate to that theme.  We have fun growing closer to Jesus as we grow closer together in Christian fellowship.
URL:https://templebc.net/event/thrive-jr-high-ministry/2024-12-11/
LOCATION:Building 1\, Room 104
ATTACH;FMTTYPE=image/jpeg:https://templebc.net/wp-content/uploads/2024/10/Thrive-Group1-1.jpg
ORGANIZER;CN="Mark Wooley":MAILTO:tbcthrivejrhigh@gmail.com
END:VEVENT
BEGIN:VEVENT
DTSTART;TZID=America/Halifax:20241211T183000
DTEND;TZID=America/Halifax:20241211T193000
DTSTAMP:20260424T130041
CREATED:20241027T001605Z
LAST-MODIFIED:20241027T001605Z
UID:10001323-1733941800-1733945400@templebc.net
SUMMARY:Adult Prayer Service
DESCRIPTION:Each Wednesday from 6:30 to 8:00 pm our adults gather together to pray for one another’s needs and rejoice together as God answers prayer in their lives.
URL:https://templebc.net/event/adult-prayer-service/2024-12-11/
ATTACH;FMTTYPE=image/png:https://templebc.net/wp-content/uploads/2024/10/Screenshot-2024-10-25-210948.png
END:VEVENT
BEGIN:VEVENT
DTSTART;TZID=America/New_York:20241208T110000
DTEND;TZID=America/New_York:20241208T120000
DTSTAMP:20260424T130041
CREATED:20241026T235023Z
LAST-MODIFIED:20241026T235023Z
UID:10000801-1733655600-1733659200@templebc.net
SUMMARY:Sunday Morning Worship Service
DESCRIPTION:Our Sunday Morning Worship Service features a blended worship style\, with special music by our Worship Team and special singers\, and a challenging message by Pastor Tom Porter from God’s Word.
URL:https://templebc.net/event/sunday-morning-worship-service/2024-12-08/
LOCATION:Main Auditorium
ATTACH;FMTTYPE=image/jpeg:https://templebc.net/wp-content/uploads/2024/07/Untitled.jpg
END:VEVENT
END:VCALENDAR