BEGIN:VCALENDAR
VERSION:2.0
PRODID:-//Temple Baptist Church - ECPv6.15.20//NONSGML v1.0//EN
CALSCALE:GREGORIAN
METHOD:PUBLISH
X-WR-CALNAME:Temple Baptist Church
X-ORIGINAL-URL:https://templebc.net
X-WR-CALDESC:Events for Temple Baptist Church
REFRESH-INTERVAL;VALUE=DURATION:PT1H
X-Robots-Tag:noindex
X-PUBLISHED-TTL:PT1H
BEGIN:VTIMEZONE
TZID:America/New_York
BEGIN:DAYLIGHT
TZOFFSETFROM:-0500
TZOFFSETTO:-0400
TZNAME:EDT
DTSTART:20230312T070000
END:DAYLIGHT
BEGIN:STANDARD
TZOFFSETFROM:-0400
TZOFFSETTO:-0500
TZNAME:EST
DTSTART:20231105T060000
END:STANDARD
BEGIN:DAYLIGHT
TZOFFSETFROM:-0500
TZOFFSETTO:-0400
TZNAME:EDT
DTSTART:20240310T070000
END:DAYLIGHT
BEGIN:STANDARD
TZOFFSETFROM:-0400
TZOFFSETTO:-0500
TZNAME:EST
DTSTART:20241103T060000
END:STANDARD
BEGIN:DAYLIGHT
TZOFFSETFROM:-0500
TZOFFSETTO:-0400
TZNAME:EDT
DTSTART:20250309T070000
END:DAYLIGHT
BEGIN:STANDARD
TZOFFSETFROM:-0400
TZOFFSETTO:-0500
TZNAME:EST
DTSTART:20251102T060000
END:STANDARD
END:VTIMEZONE
BEGIN:VTIMEZONE
TZID:America/Halifax
BEGIN:DAYLIGHT
TZOFFSETFROM:-0400
TZOFFSETTO:-0300
TZNAME:ADT
DTSTART:20230312T060000
END:DAYLIGHT
BEGIN:STANDARD
TZOFFSETFROM:-0300
TZOFFSETTO:-0400
TZNAME:AST
DTSTART:20231105T050000
END:STANDARD
BEGIN:DAYLIGHT
TZOFFSETFROM:-0400
TZOFFSETTO:-0300
TZNAME:ADT
DTSTART:20240310T060000
END:DAYLIGHT
BEGIN:STANDARD
TZOFFSETFROM:-0300
TZOFFSETTO:-0400
TZNAME:AST
DTSTART:20241103T050000
END:STANDARD
BEGIN:DAYLIGHT
TZOFFSETFROM:-0400
TZOFFSETTO:-0300
TZNAME:ADT
DTSTART:20250309T060000
END:DAYLIGHT
BEGIN:STANDARD
TZOFFSETFROM:-0300
TZOFFSETTO:-0400
TZNAME:AST
DTSTART:20251102T050000
END:STANDARD
END:VTIMEZONE
BEGIN:VEVENT
DTSTART;TZID=America/New_York:20241201T100000
DTEND;TZID=America/New_York:20241201T104500
DTSTAMP:20260424T201447
CREATED:20241026T233841Z
LAST-MODIFIED:20241026T233841Z
UID:10000539-1733047200-1733049900@templebc.net
SUMMARY:Sunday Bible Study
DESCRIPTION:Come join one of our Sunday Bible Study groups and experience the warm fellowship of fellow believers as we study God’s Word together.  There are classes for all ages.
URL:https://templebc.net/event/sunday-bible-study/2024-12-01/
ATTACH;FMTTYPE=image/png:https://templebc.net/wp-content/uploads/2024/10/Screenshot-2024-10-25-210801.png
END:VEVENT
BEGIN:VEVENT
DTSTART;TZID=America/New_York:20241127T183000
DTEND;TZID=America/New_York:20241127T200000
DTSTAMP:20260424T201447
CREATED:20241123T143436Z
LAST-MODIFIED:20241123T143436Z
UID:10001587-1732732200-1732737600@templebc.net
SUMMARY:No Wednesday Night Activities/Services This Week
DESCRIPTION:No Wednesday Night Activities/Services This Week
URL:https://templebc.net/event/no-wednesday-night-activities-services-this-week/
ATTACH;FMTTYPE=image/png:https://templebc.net/wp-content/uploads/2024/11/Screenshot-2024-11-23-092712.png
END:VEVENT
BEGIN:VEVENT
DTSTART;TZID=America/New_York:20241127T183000
DTEND;TZID=America/New_York:20241127T200000
DTSTAMP:20260424T201447
CREATED:20241027T000338Z
LAST-MODIFIED:20241027T000338Z
UID:10001060-1732732200-1732737600@templebc.net
SUMMARY:Truth Trackers Children's Ministry
DESCRIPTION:This exciting Children’s Ministry meets every Wednesday from 6:30 to 8:00 pm in Building 2 in the room next to the gym.  Children in grades 1 through 5 learn Bible verses\, sing fun Bible songs\, play exciting games\, and enjoy learning God’s Word together.
URL:https://templebc.net/event/truth-trackers-childrens-ministry/2024-11-27/
ATTACH;FMTTYPE=image/png:https://templebc.net/wp-content/uploads/2024/10/Truth-Trackers-New.png
END:VEVENT
BEGIN:VEVENT
DTSTART;TZID=America/New_York:20241127T183000
DTEND;TZID=America/New_York:20241127T200000
DTSTAMP:20260424T201447
CREATED:20241026T233227Z
LAST-MODIFIED:20241026T233227Z
UID:10000277-1732732200-1732737600@templebc.net
SUMMARY:Strive High School Youth
DESCRIPTION:Strive Sr. High ministry welcomes all youth\, 9th through 12th grade\, to a time of fun & games\, fellowship & sharing God’s Word.  Meetings are part of our Mid-Week Services held on Wednesday nights at 6:30PM in the Dining Hall-located in the 3rd building.
URL:https://templebc.net/event/strive-high-school-youth/2024-11-27/
ATTACH;FMTTYPE=image/png:https://templebc.net/wp-content/uploads/2024/10/Strive-New.png
END:VEVENT
BEGIN:VEVENT
DTSTART;TZID=America/New_York:20241127T183000
DTEND;TZID=America/New_York:20241127T200000
DTSTAMP:20260424T201447
CREATED:20241026T232721Z
LAST-MODIFIED:20241029T111323Z
UID:10000016-1732732200-1732737600@templebc.net
SUMMARY:Thrive Jr. High Ministry
DESCRIPTION:Thrive is the name of our weekly Wednesday evening ministry to Junior High students in the 6th\, 7th\, and 8th grades.  We meet in Room 104 in Building 1 for a time of heartfelt worship\, crazy games\,  age appropriate Bible study\, and a delicious snack.  Each month’s lessons are based on a theme and all the activities relate to that theme.  We have fun growing closer to Jesus as we grow closer together in Christian fellowship.
URL:https://templebc.net/event/thrive-jr-high-ministry/2024-11-27/
LOCATION:Building 1\, Room 104
ATTACH;FMTTYPE=image/jpeg:https://templebc.net/wp-content/uploads/2024/10/Thrive-Group1-1.jpg
ORGANIZER;CN="Mark Wooley":MAILTO:tbcthrivejrhigh@gmail.com
END:VEVENT
BEGIN:VEVENT
DTSTART;TZID=America/Halifax:20241127T183000
DTEND;TZID=America/Halifax:20241127T193000
DTSTAMP:20260424T201447
CREATED:20241027T001605Z
LAST-MODIFIED:20241027T001605Z
UID:10001321-1732732200-1732735800@templebc.net
SUMMARY:Adult Prayer Service
DESCRIPTION:Each Wednesday from 6:30 to 8:00 pm our adults gather together to pray for one another’s needs and rejoice together as God answers prayer in their lives.
URL:https://templebc.net/event/adult-prayer-service/2024-11-27/
ATTACH;FMTTYPE=image/png:https://templebc.net/wp-content/uploads/2024/10/Screenshot-2024-10-25-210948.png
END:VEVENT
BEGIN:VEVENT
DTSTART;TZID=America/New_York:20241124T110000
DTEND;TZID=America/New_York:20241124T120000
DTSTAMP:20260424T201447
CREATED:20241026T235023Z
LAST-MODIFIED:20241026T235023Z
UID:10000799-1732446000-1732449600@templebc.net
SUMMARY:Sunday Morning Worship Service
DESCRIPTION:Our Sunday Morning Worship Service features a blended worship style\, with special music by our Worship Team and special singers\, and a challenging message by Pastor Tom Porter from God’s Word.
URL:https://templebc.net/event/sunday-morning-worship-service/2024-11-24/
LOCATION:Main Auditorium
ATTACH;FMTTYPE=image/jpeg:https://templebc.net/wp-content/uploads/2024/07/Untitled.jpg
END:VEVENT
BEGIN:VEVENT
DTSTART;TZID=America/New_York:20241124T100000
DTEND;TZID=America/New_York:20241124T104500
DTSTAMP:20260424T201447
CREATED:20241026T233841Z
LAST-MODIFIED:20241026T233841Z
UID:10000538-1732442400-1732445100@templebc.net
SUMMARY:Sunday Bible Study
DESCRIPTION:Come join one of our Sunday Bible Study groups and experience the warm fellowship of fellow believers as we study God’s Word together.  There are classes for all ages.
URL:https://templebc.net/event/sunday-bible-study/2024-11-24/
ATTACH;FMTTYPE=image/png:https://templebc.net/wp-content/uploads/2024/10/Screenshot-2024-10-25-210801.png
END:VEVENT
BEGIN:VEVENT
DTSTART;TZID=America/New_York:20241121T103000
DTEND;TZID=America/New_York:20241121T133000
DTSTAMP:20260424T201447
CREATED:20241101T180645Z
LAST-MODIFIED:20241101T180645Z
UID:10001579-1732185000-1732195800@templebc.net
SUMMARY:Temple Christian School Thanksgiving Luncheon
DESCRIPTION:Temple Christian School is having a Thanksgiving Luncheon.   Tickets are on sale now and are $7.00 per person (age 5 and under are $5.00). No other lunch will be served that day.   Students in grades K-6th may come dressed as either a Pilgrim or an American Indian.  A prize will be awarded in each class for the best costume.
URL:https://templebc.net/event/temple-christian-school-thanksgiving-luncheon/
ATTACH;FMTTYPE=image/png:https://templebc.net/wp-content/uploads/2024/11/TCS-Thanksgiving-Luncheon-2024.png
END:VEVENT
BEGIN:VEVENT
DTSTART;TZID=America/New_York:20241120T183000
DTEND;TZID=America/New_York:20241120T200000
DTSTAMP:20260424T201447
CREATED:20241027T000338Z
LAST-MODIFIED:20241027T000338Z
UID:10001059-1732127400-1732132800@templebc.net
SUMMARY:Truth Trackers Children's Ministry
DESCRIPTION:This exciting Children’s Ministry meets every Wednesday from 6:30 to 8:00 pm in Building 2 in the room next to the gym.  Children in grades 1 through 5 learn Bible verses\, sing fun Bible songs\, play exciting games\, and enjoy learning God’s Word together.
URL:https://templebc.net/event/truth-trackers-childrens-ministry/2024-11-20/
ATTACH;FMTTYPE=image/png:https://templebc.net/wp-content/uploads/2024/10/Truth-Trackers-New.png
END:VEVENT
BEGIN:VEVENT
DTSTART;TZID=America/New_York:20241120T183000
DTEND;TZID=America/New_York:20241120T200000
DTSTAMP:20260424T201447
CREATED:20241026T233227Z
LAST-MODIFIED:20241026T233227Z
UID:10000276-1732127400-1732132800@templebc.net
SUMMARY:Strive High School Youth
DESCRIPTION:Strive Sr. High ministry welcomes all youth\, 9th through 12th grade\, to a time of fun & games\, fellowship & sharing God’s Word.  Meetings are part of our Mid-Week Services held on Wednesday nights at 6:30PM in the Dining Hall-located in the 3rd building.
URL:https://templebc.net/event/strive-high-school-youth/2024-11-20/
ATTACH;FMTTYPE=image/png:https://templebc.net/wp-content/uploads/2024/10/Strive-New.png
END:VEVENT
BEGIN:VEVENT
DTSTART;TZID=America/New_York:20241120T183000
DTEND;TZID=America/New_York:20241120T200000
DTSTAMP:20260424T201447
CREATED:20241026T232721Z
LAST-MODIFIED:20241029T111323Z
UID:10000015-1732127400-1732132800@templebc.net
SUMMARY:Thrive Jr. High Ministry
DESCRIPTION:Thrive is the name of our weekly Wednesday evening ministry to Junior High students in the 6th\, 7th\, and 8th grades.  We meet in Room 104 in Building 1 for a time of heartfelt worship\, crazy games\,  age appropriate Bible study\, and a delicious snack.  Each month’s lessons are based on a theme and all the activities relate to that theme.  We have fun growing closer to Jesus as we grow closer together in Christian fellowship.
URL:https://templebc.net/event/thrive-jr-high-ministry/2024-11-20/
LOCATION:Building 1\, Room 104
ATTACH;FMTTYPE=image/jpeg:https://templebc.net/wp-content/uploads/2024/10/Thrive-Group1-1.jpg
ORGANIZER;CN="Mark Wooley":MAILTO:tbcthrivejrhigh@gmail.com
END:VEVENT
BEGIN:VEVENT
DTSTART;TZID=America/Halifax:20241120T183000
DTEND;TZID=America/Halifax:20241120T193000
DTSTAMP:20260424T201447
CREATED:20241027T001605Z
LAST-MODIFIED:20241027T001605Z
UID:10001320-1732127400-1732131000@templebc.net
SUMMARY:Adult Prayer Service
DESCRIPTION:Each Wednesday from 6:30 to 8:00 pm our adults gather together to pray for one another’s needs and rejoice together as God answers prayer in their lives.
URL:https://templebc.net/event/adult-prayer-service/2024-11-20/
ATTACH;FMTTYPE=image/png:https://templebc.net/wp-content/uploads/2024/10/Screenshot-2024-10-25-210948.png
END:VEVENT
BEGIN:VEVENT
DTSTART;TZID=America/New_York:20241117T110000
DTEND;TZID=America/New_York:20241117T120000
DTSTAMP:20260424T201447
CREATED:20241026T235023Z
LAST-MODIFIED:20241026T235023Z
UID:10000798-1731841200-1731844800@templebc.net
SUMMARY:Sunday Morning Worship Service
DESCRIPTION:Our Sunday Morning Worship Service features a blended worship style\, with special music by our Worship Team and special singers\, and a challenging message by Pastor Tom Porter from God’s Word.
URL:https://templebc.net/event/sunday-morning-worship-service/2024-11-17/
LOCATION:Main Auditorium
ATTACH;FMTTYPE=image/jpeg:https://templebc.net/wp-content/uploads/2024/07/Untitled.jpg
END:VEVENT
BEGIN:VEVENT
DTSTART;TZID=America/New_York:20241117T100000
DTEND;TZID=America/New_York:20241117T104500
DTSTAMP:20260424T201447
CREATED:20241026T233841Z
LAST-MODIFIED:20241026T233841Z
UID:10000537-1731837600-1731840300@templebc.net
SUMMARY:Sunday Bible Study
DESCRIPTION:Come join one of our Sunday Bible Study groups and experience the warm fellowship of fellow believers as we study God’s Word together.  There are classes for all ages.
URL:https://templebc.net/event/sunday-bible-study/2024-11-17/
ATTACH;FMTTYPE=image/png:https://templebc.net/wp-content/uploads/2024/10/Screenshot-2024-10-25-210801.png
END:VEVENT
BEGIN:VEVENT
DTSTART;TZID=America/New_York:20241113T183000
DTEND;TZID=America/New_York:20241113T200000
DTSTAMP:20260424T201447
CREATED:20241027T000338Z
LAST-MODIFIED:20241027T000338Z
UID:10001058-1731522600-1731528000@templebc.net
SUMMARY:Truth Trackers Children's Ministry
DESCRIPTION:This exciting Children’s Ministry meets every Wednesday from 6:30 to 8:00 pm in Building 2 in the room next to the gym.  Children in grades 1 through 5 learn Bible verses\, sing fun Bible songs\, play exciting games\, and enjoy learning God’s Word together.
URL:https://templebc.net/event/truth-trackers-childrens-ministry/2024-11-13/
ATTACH;FMTTYPE=image/png:https://templebc.net/wp-content/uploads/2024/10/Truth-Trackers-New.png
END:VEVENT
BEGIN:VEVENT
DTSTART;TZID=America/New_York:20241113T183000
DTEND;TZID=America/New_York:20241113T200000
DTSTAMP:20260424T201447
CREATED:20241026T233227Z
LAST-MODIFIED:20241026T233227Z
UID:10000275-1731522600-1731528000@templebc.net
SUMMARY:Strive High School Youth
DESCRIPTION:Strive Sr. High ministry welcomes all youth\, 9th through 12th grade\, to a time of fun & games\, fellowship & sharing God’s Word.  Meetings are part of our Mid-Week Services held on Wednesday nights at 6:30PM in the Dining Hall-located in the 3rd building.
URL:https://templebc.net/event/strive-high-school-youth/2024-11-13/
ATTACH;FMTTYPE=image/png:https://templebc.net/wp-content/uploads/2024/10/Strive-New.png
END:VEVENT
BEGIN:VEVENT
DTSTART;TZID=America/New_York:20241113T183000
DTEND;TZID=America/New_York:20241113T200000
DTSTAMP:20260424T201447
CREATED:20241026T232721Z
LAST-MODIFIED:20241029T111323Z
UID:10000014-1731522600-1731528000@templebc.net
SUMMARY:Thrive Jr. High Ministry
DESCRIPTION:Thrive is the name of our weekly Wednesday evening ministry to Junior High students in the 6th\, 7th\, and 8th grades.  We meet in Room 104 in Building 1 for a time of heartfelt worship\, crazy games\,  age appropriate Bible study\, and a delicious snack.  Each month’s lessons are based on a theme and all the activities relate to that theme.  We have fun growing closer to Jesus as we grow closer together in Christian fellowship.
URL:https://templebc.net/event/thrive-jr-high-ministry/2024-11-13/
LOCATION:Building 1\, Room 104
ATTACH;FMTTYPE=image/jpeg:https://templebc.net/wp-content/uploads/2024/10/Thrive-Group1-1.jpg
ORGANIZER;CN="Mark Wooley":MAILTO:tbcthrivejrhigh@gmail.com
END:VEVENT
BEGIN:VEVENT
DTSTART;TZID=America/Halifax:20241113T183000
DTEND;TZID=America/Halifax:20241113T193000
DTSTAMP:20260424T201447
CREATED:20241027T001605Z
LAST-MODIFIED:20241027T001605Z
UID:10001319-1731522600-1731526200@templebc.net
SUMMARY:Adult Prayer Service
DESCRIPTION:Each Wednesday from 6:30 to 8:00 pm our adults gather together to pray for one another’s needs and rejoice together as God answers prayer in their lives.
URL:https://templebc.net/event/adult-prayer-service/2024-11-13/
ATTACH;FMTTYPE=image/png:https://templebc.net/wp-content/uploads/2024/10/Screenshot-2024-10-25-210948.png
END:VEVENT
BEGIN:VEVENT
DTSTART;TZID=America/New_York:20241110T110000
DTEND;TZID=America/New_York:20241110T120000
DTSTAMP:20260424T201447
CREATED:20241026T235023Z
LAST-MODIFIED:20241026T235023Z
UID:10000797-1731236400-1731240000@templebc.net
SUMMARY:Sunday Morning Worship Service
DESCRIPTION:Our Sunday Morning Worship Service features a blended worship style\, with special music by our Worship Team and special singers\, and a challenging message by Pastor Tom Porter from God’s Word.
URL:https://templebc.net/event/sunday-morning-worship-service/2024-11-10/
LOCATION:Main Auditorium
ATTACH;FMTTYPE=image/jpeg:https://templebc.net/wp-content/uploads/2024/07/Untitled.jpg
END:VEVENT
BEGIN:VEVENT
DTSTART;TZID=America/New_York:20241110T100000
DTEND;TZID=America/New_York:20241110T104500
DTSTAMP:20260424T201447
CREATED:20241026T233841Z
LAST-MODIFIED:20241026T233841Z
UID:10000536-1731232800-1731235500@templebc.net
SUMMARY:Sunday Bible Study
DESCRIPTION:Come join one of our Sunday Bible Study groups and experience the warm fellowship of fellow believers as we study God’s Word together.  There are classes for all ages.
URL:https://templebc.net/event/sunday-bible-study/2024-11-10/
ATTACH;FMTTYPE=image/png:https://templebc.net/wp-content/uploads/2024/10/Screenshot-2024-10-25-210801.png
END:VEVENT
BEGIN:VEVENT
DTSTART;TZID=America/New_York:20241106T183000
DTEND;TZID=America/New_York:20241106T200000
DTSTAMP:20260424T201447
CREATED:20241027T000338Z
LAST-MODIFIED:20241027T000338Z
UID:10001057-1730917800-1730923200@templebc.net
SUMMARY:Truth Trackers Children's Ministry
DESCRIPTION:This exciting Children’s Ministry meets every Wednesday from 6:30 to 8:00 pm in Building 2 in the room next to the gym.  Children in grades 1 through 5 learn Bible verses\, sing fun Bible songs\, play exciting games\, and enjoy learning God’s Word together.
URL:https://templebc.net/event/truth-trackers-childrens-ministry/2024-11-06/
ATTACH;FMTTYPE=image/png:https://templebc.net/wp-content/uploads/2024/10/Truth-Trackers-New.png
END:VEVENT
BEGIN:VEVENT
DTSTART;TZID=America/New_York:20241106T183000
DTEND;TZID=America/New_York:20241106T200000
DTSTAMP:20260424T201447
CREATED:20241026T233227Z
LAST-MODIFIED:20241026T233227Z
UID:10000274-1730917800-1730923200@templebc.net
SUMMARY:Strive High School Youth
DESCRIPTION:Strive Sr. High ministry welcomes all youth\, 9th through 12th grade\, to a time of fun & games\, fellowship & sharing God’s Word.  Meetings are part of our Mid-Week Services held on Wednesday nights at 6:30PM in the Dining Hall-located in the 3rd building.
URL:https://templebc.net/event/strive-high-school-youth/2024-11-06/
ATTACH;FMTTYPE=image/png:https://templebc.net/wp-content/uploads/2024/10/Strive-New.png
END:VEVENT
BEGIN:VEVENT
DTSTART;TZID=America/New_York:20241106T183000
DTEND;TZID=America/New_York:20241106T200000
DTSTAMP:20260424T201447
CREATED:20241026T232721Z
LAST-MODIFIED:20241029T111323Z
UID:10000013-1730917800-1730923200@templebc.net
SUMMARY:Thrive Jr. High Ministry
DESCRIPTION:Thrive is the name of our weekly Wednesday evening ministry to Junior High students in the 6th\, 7th\, and 8th grades.  We meet in Room 104 in Building 1 for a time of heartfelt worship\, crazy games\,  age appropriate Bible study\, and a delicious snack.  Each month’s lessons are based on a theme and all the activities relate to that theme.  We have fun growing closer to Jesus as we grow closer together in Christian fellowship.
URL:https://templebc.net/event/thrive-jr-high-ministry/2024-11-06/
LOCATION:Building 1\, Room 104
ATTACH;FMTTYPE=image/jpeg:https://templebc.net/wp-content/uploads/2024/10/Thrive-Group1-1.jpg
ORGANIZER;CN="Mark Wooley":MAILTO:tbcthrivejrhigh@gmail.com
END:VEVENT
BEGIN:VEVENT
DTSTART;TZID=America/Halifax:20241106T183000
DTEND;TZID=America/Halifax:20241106T193000
DTSTAMP:20260424T201447
CREATED:20241027T001605Z
LAST-MODIFIED:20241027T001605Z
UID:10001318-1730917800-1730921400@templebc.net
SUMMARY:Adult Prayer Service
DESCRIPTION:Each Wednesday from 6:30 to 8:00 pm our adults gather together to pray for one another’s needs and rejoice together as God answers prayer in their lives.
URL:https://templebc.net/event/adult-prayer-service/2024-11-06/
ATTACH;FMTTYPE=image/png:https://templebc.net/wp-content/uploads/2024/10/Screenshot-2024-10-25-210948.png
END:VEVENT
BEGIN:VEVENT
DTSTART;TZID=America/New_York:20241105T190000
DTEND;TZID=America/New_York:20241105T210000
DTSTAMP:20260424T201447
CREATED:20241101T181008Z
LAST-MODIFIED:20241101T181105Z
UID:10001580-1730833200-1730840400@templebc.net
SUMMARY:Ladies Prayer at Becky Porter's House
DESCRIPTION:This month’s Ladies Prayer will be at Becky Porter’s house at 7 pm. All ladies are invited to join for prayer and fellowship.
URL:https://templebc.net/event/ladies-prayer-at-beck-porters-house/
ATTACH;FMTTYPE=image/png:https://templebc.net/wp-content/uploads/2024/11/Ladies-Prayer-11.5.24.png
END:VEVENT
BEGIN:VEVENT
DTSTART;TZID=America/New_York:20241105T103000
DTEND;TZID=America/New_York:20241105T120000
DTSTAMP:20260424T201447
CREATED:20241026T223146Z
LAST-MODIFIED:20241026T223146Z
UID:10000011-1730802600-1730808000@templebc.net
SUMMARY:PrimeTimers Sr. Adult Luncheon
DESCRIPTION:Our guests in PrimeTimers for November are the Montgomery Family from North Carolina. \nSome combination of The Montgomery Family has been singing as a family ministry since 1971. \nWhat started as parents with two young daughters has changed with the girls growing up\, marriage\, starting families\, etc. The group today consists of the two sisters\, Robin Montgomery Stegall\, Lisa Montgomery Simpson\, and Lisa’s husband\, Jeff. \nThe core of The Montgomery’s ministry has always been in the local church.  The goal is to provide southern gospel music\, strong lyrics\,\nand testimony that will bring people to a saving knowledge of Jesus Christ.  To the Christian\, it’s our desire that they will leave the concert with a closer walk with the lord.  For everyone\, leaving the event talking about how good the Lord is.
URL:https://templebc.net/event/primetimers-sr-adult-luncheon/
ATTACH;FMTTYPE=image/png:https://templebc.net/wp-content/uploads/2024/10/Screenshot-2024-10-25-211030.png
END:VEVENT
BEGIN:VEVENT
DTSTART;TZID=America/New_York:20241104T180000
DTEND;TZID=America/New_York:20241104T190000
DTSTAMP:20260424T201447
CREATED:20241101T181510Z
LAST-MODIFIED:20241101T181510Z
UID:10001581-1730743200-1730746800@templebc.net
SUMMARY:Come Join Us To Pray For Our Nation
DESCRIPTION:A special prayer meeting will be held on Sunday\, November 4\, 2024 at 6pm in the TBC sanctuary to pray for our nation.  Come join our church family in lifting up our nation to God.
URL:https://templebc.net/event/come-join-us-to-pray-for-our-nation/
ATTACH;FMTTYPE=image/png:https://templebc.net/wp-content/uploads/2024/11/Pray-for-Natrion.png
END:VEVENT
BEGIN:VEVENT
DTSTART;TZID=America/New_York:20241103T110000
DTEND;TZID=America/New_York:20241103T120000
DTSTAMP:20260424T201447
CREATED:20241026T235023Z
LAST-MODIFIED:20241026T235023Z
UID:10000796-1730631600-1730635200@templebc.net
SUMMARY:Sunday Morning Worship Service
DESCRIPTION:Our Sunday Morning Worship Service features a blended worship style\, with special music by our Worship Team and special singers\, and a challenging message by Pastor Tom Porter from God’s Word.
URL:https://templebc.net/event/sunday-morning-worship-service/2024-11-03/
LOCATION:Main Auditorium
ATTACH;FMTTYPE=image/jpeg:https://templebc.net/wp-content/uploads/2024/07/Untitled.jpg
END:VEVENT
BEGIN:VEVENT
DTSTART;TZID=America/New_York:20241103T100000
DTEND;TZID=America/New_York:20241103T104500
DTSTAMP:20260424T201447
CREATED:20241026T233841Z
LAST-MODIFIED:20241026T233841Z
UID:10000535-1730628000-1730630700@templebc.net
SUMMARY:Sunday Bible Study
DESCRIPTION:Come join one of our Sunday Bible Study groups and experience the warm fellowship of fellow believers as we study God’s Word together.  There are classes for all ages.
URL:https://templebc.net/event/sunday-bible-study/2024-11-03/
ATTACH;FMTTYPE=image/png:https://templebc.net/wp-content/uploads/2024/10/Screenshot-2024-10-25-210801.png
END:VEVENT
END:VCALENDAR