BEGIN:VCALENDAR
VERSION:2.0
PRODID:-//Temple Baptist Church - ECPv6.15.20//NONSGML v1.0//EN
CALSCALE:GREGORIAN
METHOD:PUBLISH
X-WR-CALNAME:Temple Baptist Church
X-ORIGINAL-URL:https://templebc.net
X-WR-CALDESC:Events for Temple Baptist Church
REFRESH-INTERVAL;VALUE=DURATION:PT1H
X-Robots-Tag:noindex
X-PUBLISHED-TTL:PT1H
BEGIN:VTIMEZONE
TZID:America/New_York
BEGIN:DAYLIGHT
TZOFFSETFROM:-0500
TZOFFSETTO:-0400
TZNAME:EDT
DTSTART:20260308T070000
END:DAYLIGHT
BEGIN:STANDARD
TZOFFSETFROM:-0400
TZOFFSETTO:-0500
TZNAME:EST
DTSTART:20261101T060000
END:STANDARD
BEGIN:DAYLIGHT
TZOFFSETFROM:-0500
TZOFFSETTO:-0400
TZNAME:EDT
DTSTART:20270314T070000
END:DAYLIGHT
BEGIN:STANDARD
TZOFFSETFROM:-0400
TZOFFSETTO:-0500
TZNAME:EST
DTSTART:20271107T060000
END:STANDARD
BEGIN:DAYLIGHT
TZOFFSETFROM:-0500
TZOFFSETTO:-0400
TZNAME:EDT
DTSTART:20280312T070000
END:DAYLIGHT
BEGIN:STANDARD
TZOFFSETFROM:-0400
TZOFFSETTO:-0500
TZNAME:EST
DTSTART:20281105T060000
END:STANDARD
END:VTIMEZONE
BEGIN:VTIMEZONE
TZID:America/Halifax
BEGIN:DAYLIGHT
TZOFFSETFROM:-0400
TZOFFSETTO:-0300
TZNAME:ADT
DTSTART:20260308T060000
END:DAYLIGHT
BEGIN:STANDARD
TZOFFSETFROM:-0300
TZOFFSETTO:-0400
TZNAME:AST
DTSTART:20261101T050000
END:STANDARD
BEGIN:DAYLIGHT
TZOFFSETFROM:-0400
TZOFFSETTO:-0300
TZNAME:ADT
DTSTART:20270314T060000
END:DAYLIGHT
BEGIN:STANDARD
TZOFFSETFROM:-0300
TZOFFSETTO:-0400
TZNAME:AST
DTSTART:20271107T050000
END:STANDARD
BEGIN:DAYLIGHT
TZOFFSETFROM:-0400
TZOFFSETTO:-0300
TZNAME:ADT
DTSTART:20280312T060000
END:DAYLIGHT
BEGIN:STANDARD
TZOFFSETFROM:-0300
TZOFFSETTO:-0400
TZNAME:AST
DTSTART:20281105T050000
END:STANDARD
END:VTIMEZONE
BEGIN:VEVENT
DTSTART;TZID=America/New_York:20271027T183000
DTEND;TZID=America/New_York:20271027T200000
DTSTAMP:20260424T124206
CREATED:20250611T003231Z
LAST-MODIFIED:20260204T184251Z
UID:10000429-1824661800-1824667200@templebc.net
SUMMARY:Ignite Youth Ministry
DESCRIPTION:Ignite Youth Ministry welcomes all youth\, 7th through 12th grade\, to a time of fun & games\, fellowship & sharing God’s Word.  Meetings are part of our Mid-Week Services held on Wednesday nights at 6:30PM in the Dining Hall-located in the 3rd building.
URL:https://templebc.net/event/ignite-youth/2027-10-27/
ATTACH;FMTTYPE=image/png:https://templebc.net/wp-content/uploads/2026/02/New-Ignite-Logo.png
END:VEVENT
BEGIN:VEVENT
DTSTART;TZID=America/New_York:20271027T183000
DTEND;TZID=America/New_York:20271027T200000
DTSTAMP:20260424T124206
CREATED:20250614T161146Z
LAST-MODIFIED:20250614T161147Z
UID:10001212-1824661800-1824667200@templebc.net
SUMMARY:Truth Trackers Children's Ministry
DESCRIPTION:This exciting Children’s Ministry meets every Wednesday from 6:30 to 8:00 pm in Building 2 in Room 303.  Children in grades K through 3 learn Bible verses\, sing fun Bible songs\, play exciting games\, and enjoy learning God’s Word together.
URL:https://templebc.net/event/truth-trackers-childrens-ministry-2-2/2027-10-27/
ATTACH;FMTTYPE=image/png:https://templebc.net/wp-content/uploads/2024/10/Screenshot-2025-04-26-113433.png
END:VEVENT
BEGIN:VEVENT
DTSTART;TZID=America/New_York:20271031T100000
DTEND;TZID=America/New_York:20271031T104500
DTSTAMP:20260424T124206
CREATED:20241026T233841Z
LAST-MODIFIED:20241026T233841Z
UID:10000691-1824976800-1824979500@templebc.net
SUMMARY:Sunday Bible Study
DESCRIPTION:Come join one of our Sunday Bible Study groups and experience the warm fellowship of fellow believers as we study God’s Word together.  There are classes for all ages.
URL:https://templebc.net/event/sunday-bible-study/2027-10-31/
ATTACH;FMTTYPE=image/png:https://templebc.net/wp-content/uploads/2024/10/Screenshot-2024-10-25-210801.png
END:VEVENT
BEGIN:VEVENT
DTSTART;TZID=America/New_York:20271031T110000
DTEND;TZID=America/New_York:20271031T120000
DTSTAMP:20260424T124206
CREATED:20241026T235023Z
LAST-MODIFIED:20241026T235023Z
UID:10000952-1824980400-1824984000@templebc.net
SUMMARY:Sunday Morning Worship Service
DESCRIPTION:Our Sunday Morning Worship Service features a blended worship style\, with special music by our Worship Team and special singers\, and a challenging message by Pastor Tom Porter from God’s Word.
URL:https://templebc.net/event/sunday-morning-worship-service/2027-10-31/
LOCATION:Main Auditorium
ATTACH;FMTTYPE=image/jpeg:https://templebc.net/wp-content/uploads/2024/07/Untitled.jpg
END:VEVENT
BEGIN:VEVENT
DTSTART;TZID=America/Halifax:20271103T183000
DTEND;TZID=America/Halifax:20271103T193000
DTSTAMP:20260424T124206
CREATED:20250816T172030Z
LAST-MODIFIED:20250816T172031Z
UID:10001474-1825266600-1825270200@templebc.net
SUMMARY:Adult Prayer Service
DESCRIPTION:Each Wednesday from 6:30 to 8:00 pm our adults gather together to pray for one another’s needs and rejoice together as God answers prayer in their lives.
URL:https://templebc.net/event/adult-prayer-service-2-2/2027-11-03/
ATTACH;FMTTYPE=image/png:https://templebc.net/wp-content/uploads/2025/06/Screenshot-2025-08-16-130851.png
END:VEVENT
BEGIN:VEVENT
DTSTART;TZID=America/New_York:20271103T183000
DTEND;TZID=America/New_York:20271103T200000
DTSTAMP:20260424T124206
CREATED:20250611T002050Z
LAST-MODIFIED:20260310T173559Z
UID:10000169-1825266600-1825272000@templebc.net
SUMMARY:Thrive Preteen Ministry
DESCRIPTION:Thrive is the name of our weekly Wednesday evening ministry to Preteen students in the 4th\, 5th\, and 6th grades.  We meet in Room 104 in Building 1 for a time of heartfelt worship\, crazy games\,  age appropriate Bible study\, and a delicious snack.  Each month’s lessons are based on a theme and all the activities relate to that theme.  We have fun growing closer to Jesus as we grow closer together in Christian fellowship.
URL:https://templebc.net/event/thrive-preteen-ministry/2027-11-03/
LOCATION:Building 1\, Room 104
ATTACH;FMTTYPE=image/jpeg:https://templebc.net/wp-content/uploads/2025/06/THRIVE-Final-2026.jpg
ORGANIZER;CN="Mark Wooley":MAILTO:tbcthrivejrhigh@gmail.com
END:VEVENT
BEGIN:VEVENT
DTSTART;TZID=America/New_York:20271103T183000
DTEND;TZID=America/New_York:20271103T200000
DTSTAMP:20260424T124206
CREATED:20250611T003231Z
LAST-MODIFIED:20260204T184251Z
UID:10000430-1825266600-1825272000@templebc.net
SUMMARY:Ignite Youth Ministry
DESCRIPTION:Ignite Youth Ministry welcomes all youth\, 7th through 12th grade\, to a time of fun & games\, fellowship & sharing God’s Word.  Meetings are part of our Mid-Week Services held on Wednesday nights at 6:30PM in the Dining Hall-located in the 3rd building.
URL:https://templebc.net/event/ignite-youth/2027-11-03/
ATTACH;FMTTYPE=image/png:https://templebc.net/wp-content/uploads/2026/02/New-Ignite-Logo.png
END:VEVENT
BEGIN:VEVENT
DTSTART;TZID=America/New_York:20271103T183000
DTEND;TZID=America/New_York:20271103T200000
DTSTAMP:20260424T124206
CREATED:20250614T161146Z
LAST-MODIFIED:20250614T161147Z
UID:10001213-1825266600-1825272000@templebc.net
SUMMARY:Truth Trackers Children's Ministry
DESCRIPTION:This exciting Children’s Ministry meets every Wednesday from 6:30 to 8:00 pm in Building 2 in Room 303.  Children in grades K through 3 learn Bible verses\, sing fun Bible songs\, play exciting games\, and enjoy learning God’s Word together.
URL:https://templebc.net/event/truth-trackers-childrens-ministry-2-2/2027-11-03/
ATTACH;FMTTYPE=image/png:https://templebc.net/wp-content/uploads/2024/10/Screenshot-2025-04-26-113433.png
END:VEVENT
BEGIN:VEVENT
DTSTART;TZID=America/New_York:20271107T100000
DTEND;TZID=America/New_York:20271107T104500
DTSTAMP:20260424T124206
CREATED:20241026T233841Z
LAST-MODIFIED:20241026T233841Z
UID:10000692-1825581600-1825584300@templebc.net
SUMMARY:Sunday Bible Study
DESCRIPTION:Come join one of our Sunday Bible Study groups and experience the warm fellowship of fellow believers as we study God’s Word together.  There are classes for all ages.
URL:https://templebc.net/event/sunday-bible-study/2027-11-07/
ATTACH;FMTTYPE=image/png:https://templebc.net/wp-content/uploads/2024/10/Screenshot-2024-10-25-210801.png
END:VEVENT
BEGIN:VEVENT
DTSTART;TZID=America/New_York:20271107T110000
DTEND;TZID=America/New_York:20271107T120000
DTSTAMP:20260424T124206
CREATED:20241026T235023Z
LAST-MODIFIED:20241026T235023Z
UID:10000953-1825585200-1825588800@templebc.net
SUMMARY:Sunday Morning Worship Service
DESCRIPTION:Our Sunday Morning Worship Service features a blended worship style\, with special music by our Worship Team and special singers\, and a challenging message by Pastor Tom Porter from God’s Word.
URL:https://templebc.net/event/sunday-morning-worship-service/2027-11-07/
LOCATION:Main Auditorium
ATTACH;FMTTYPE=image/jpeg:https://templebc.net/wp-content/uploads/2024/07/Untitled.jpg
END:VEVENT
BEGIN:VEVENT
DTSTART;TZID=America/Halifax:20271110T183000
DTEND;TZID=America/Halifax:20271110T193000
DTSTAMP:20260424T124206
CREATED:20250816T172030Z
LAST-MODIFIED:20250816T172031Z
UID:10001475-1825871400-1825875000@templebc.net
SUMMARY:Adult Prayer Service
DESCRIPTION:Each Wednesday from 6:30 to 8:00 pm our adults gather together to pray for one another’s needs and rejoice together as God answers prayer in their lives.
URL:https://templebc.net/event/adult-prayer-service-2-2/2027-11-10/
ATTACH;FMTTYPE=image/png:https://templebc.net/wp-content/uploads/2025/06/Screenshot-2025-08-16-130851.png
END:VEVENT
BEGIN:VEVENT
DTSTART;TZID=America/New_York:20271110T183000
DTEND;TZID=America/New_York:20271110T200000
DTSTAMP:20260424T124206
CREATED:20250611T002050Z
LAST-MODIFIED:20260310T173559Z
UID:10000170-1825871400-1825876800@templebc.net
SUMMARY:Thrive Preteen Ministry
DESCRIPTION:Thrive is the name of our weekly Wednesday evening ministry to Preteen students in the 4th\, 5th\, and 6th grades.  We meet in Room 104 in Building 1 for a time of heartfelt worship\, crazy games\,  age appropriate Bible study\, and a delicious snack.  Each month’s lessons are based on a theme and all the activities relate to that theme.  We have fun growing closer to Jesus as we grow closer together in Christian fellowship.
URL:https://templebc.net/event/thrive-preteen-ministry/2027-11-10/
LOCATION:Building 1\, Room 104
ATTACH;FMTTYPE=image/jpeg:https://templebc.net/wp-content/uploads/2025/06/THRIVE-Final-2026.jpg
ORGANIZER;CN="Mark Wooley":MAILTO:tbcthrivejrhigh@gmail.com
END:VEVENT
BEGIN:VEVENT
DTSTART;TZID=America/New_York:20271110T183000
DTEND;TZID=America/New_York:20271110T200000
DTSTAMP:20260424T124206
CREATED:20250611T003231Z
LAST-MODIFIED:20260204T184251Z
UID:10000431-1825871400-1825876800@templebc.net
SUMMARY:Ignite Youth Ministry
DESCRIPTION:Ignite Youth Ministry welcomes all youth\, 7th through 12th grade\, to a time of fun & games\, fellowship & sharing God’s Word.  Meetings are part of our Mid-Week Services held on Wednesday nights at 6:30PM in the Dining Hall-located in the 3rd building.
URL:https://templebc.net/event/ignite-youth/2027-11-10/
ATTACH;FMTTYPE=image/png:https://templebc.net/wp-content/uploads/2026/02/New-Ignite-Logo.png
END:VEVENT
BEGIN:VEVENT
DTSTART;TZID=America/New_York:20271110T183000
DTEND;TZID=America/New_York:20271110T200000
DTSTAMP:20260424T124206
CREATED:20250614T161146Z
LAST-MODIFIED:20250614T161147Z
UID:10001214-1825871400-1825876800@templebc.net
SUMMARY:Truth Trackers Children's Ministry
DESCRIPTION:This exciting Children’s Ministry meets every Wednesday from 6:30 to 8:00 pm in Building 2 in Room 303.  Children in grades K through 3 learn Bible verses\, sing fun Bible songs\, play exciting games\, and enjoy learning God’s Word together.
URL:https://templebc.net/event/truth-trackers-childrens-ministry-2-2/2027-11-10/
ATTACH;FMTTYPE=image/png:https://templebc.net/wp-content/uploads/2024/10/Screenshot-2025-04-26-113433.png
END:VEVENT
BEGIN:VEVENT
DTSTART;TZID=America/New_York:20271114T100000
DTEND;TZID=America/New_York:20271114T104500
DTSTAMP:20260424T124206
CREATED:20241026T233841Z
LAST-MODIFIED:20241026T233841Z
UID:10000693-1826186400-1826189100@templebc.net
SUMMARY:Sunday Bible Study
DESCRIPTION:Come join one of our Sunday Bible Study groups and experience the warm fellowship of fellow believers as we study God’s Word together.  There are classes for all ages.
URL:https://templebc.net/event/sunday-bible-study/2027-11-14/
ATTACH;FMTTYPE=image/png:https://templebc.net/wp-content/uploads/2024/10/Screenshot-2024-10-25-210801.png
END:VEVENT
BEGIN:VEVENT
DTSTART;TZID=America/New_York:20271114T110000
DTEND;TZID=America/New_York:20271114T120000
DTSTAMP:20260424T124206
CREATED:20241026T235023Z
LAST-MODIFIED:20241026T235023Z
UID:10000954-1826190000-1826193600@templebc.net
SUMMARY:Sunday Morning Worship Service
DESCRIPTION:Our Sunday Morning Worship Service features a blended worship style\, with special music by our Worship Team and special singers\, and a challenging message by Pastor Tom Porter from God’s Word.
URL:https://templebc.net/event/sunday-morning-worship-service/2027-11-14/
LOCATION:Main Auditorium
ATTACH;FMTTYPE=image/jpeg:https://templebc.net/wp-content/uploads/2024/07/Untitled.jpg
END:VEVENT
BEGIN:VEVENT
DTSTART;TZID=America/Halifax:20271117T183000
DTEND;TZID=America/Halifax:20271117T193000
DTSTAMP:20260424T124206
CREATED:20250816T172030Z
LAST-MODIFIED:20250816T172031Z
UID:10001476-1826476200-1826479800@templebc.net
SUMMARY:Adult Prayer Service
DESCRIPTION:Each Wednesday from 6:30 to 8:00 pm our adults gather together to pray for one another’s needs and rejoice together as God answers prayer in their lives.
URL:https://templebc.net/event/adult-prayer-service-2-2/2027-11-17/
ATTACH;FMTTYPE=image/png:https://templebc.net/wp-content/uploads/2025/06/Screenshot-2025-08-16-130851.png
END:VEVENT
BEGIN:VEVENT
DTSTART;TZID=America/New_York:20271117T183000
DTEND;TZID=America/New_York:20271117T200000
DTSTAMP:20260424T124206
CREATED:20250611T002050Z
LAST-MODIFIED:20260310T173559Z
UID:10000171-1826476200-1826481600@templebc.net
SUMMARY:Thrive Preteen Ministry
DESCRIPTION:Thrive is the name of our weekly Wednesday evening ministry to Preteen students in the 4th\, 5th\, and 6th grades.  We meet in Room 104 in Building 1 for a time of heartfelt worship\, crazy games\,  age appropriate Bible study\, and a delicious snack.  Each month’s lessons are based on a theme and all the activities relate to that theme.  We have fun growing closer to Jesus as we grow closer together in Christian fellowship.
URL:https://templebc.net/event/thrive-preteen-ministry/2027-11-17/
LOCATION:Building 1\, Room 104
ATTACH;FMTTYPE=image/jpeg:https://templebc.net/wp-content/uploads/2025/06/THRIVE-Final-2026.jpg
ORGANIZER;CN="Mark Wooley":MAILTO:tbcthrivejrhigh@gmail.com
END:VEVENT
BEGIN:VEVENT
DTSTART;TZID=America/New_York:20271117T183000
DTEND;TZID=America/New_York:20271117T200000
DTSTAMP:20260424T124206
CREATED:20250611T003231Z
LAST-MODIFIED:20260204T184251Z
UID:10000432-1826476200-1826481600@templebc.net
SUMMARY:Ignite Youth Ministry
DESCRIPTION:Ignite Youth Ministry welcomes all youth\, 7th through 12th grade\, to a time of fun & games\, fellowship & sharing God’s Word.  Meetings are part of our Mid-Week Services held on Wednesday nights at 6:30PM in the Dining Hall-located in the 3rd building.
URL:https://templebc.net/event/ignite-youth/2027-11-17/
ATTACH;FMTTYPE=image/png:https://templebc.net/wp-content/uploads/2026/02/New-Ignite-Logo.png
END:VEVENT
BEGIN:VEVENT
DTSTART;TZID=America/New_York:20271117T183000
DTEND;TZID=America/New_York:20271117T200000
DTSTAMP:20260424T124206
CREATED:20250614T161146Z
LAST-MODIFIED:20250614T161147Z
UID:10001215-1826476200-1826481600@templebc.net
SUMMARY:Truth Trackers Children's Ministry
DESCRIPTION:This exciting Children’s Ministry meets every Wednesday from 6:30 to 8:00 pm in Building 2 in Room 303.  Children in grades K through 3 learn Bible verses\, sing fun Bible songs\, play exciting games\, and enjoy learning God’s Word together.
URL:https://templebc.net/event/truth-trackers-childrens-ministry-2-2/2027-11-17/
ATTACH;FMTTYPE=image/png:https://templebc.net/wp-content/uploads/2024/10/Screenshot-2025-04-26-113433.png
END:VEVENT
BEGIN:VEVENT
DTSTART;TZID=America/New_York:20271121T100000
DTEND;TZID=America/New_York:20271121T104500
DTSTAMP:20260424T124206
CREATED:20241026T233841Z
LAST-MODIFIED:20241026T233841Z
UID:10000694-1826791200-1826793900@templebc.net
SUMMARY:Sunday Bible Study
DESCRIPTION:Come join one of our Sunday Bible Study groups and experience the warm fellowship of fellow believers as we study God’s Word together.  There are classes for all ages.
URL:https://templebc.net/event/sunday-bible-study/2027-11-21/
ATTACH;FMTTYPE=image/png:https://templebc.net/wp-content/uploads/2024/10/Screenshot-2024-10-25-210801.png
END:VEVENT
BEGIN:VEVENT
DTSTART;TZID=America/New_York:20271121T110000
DTEND;TZID=America/New_York:20271121T120000
DTSTAMP:20260424T124206
CREATED:20241026T235023Z
LAST-MODIFIED:20241026T235023Z
UID:10000955-1826794800-1826798400@templebc.net
SUMMARY:Sunday Morning Worship Service
DESCRIPTION:Our Sunday Morning Worship Service features a blended worship style\, with special music by our Worship Team and special singers\, and a challenging message by Pastor Tom Porter from God’s Word.
URL:https://templebc.net/event/sunday-morning-worship-service/2027-11-21/
LOCATION:Main Auditorium
ATTACH;FMTTYPE=image/jpeg:https://templebc.net/wp-content/uploads/2024/07/Untitled.jpg
END:VEVENT
BEGIN:VEVENT
DTSTART;TZID=America/Halifax:20271124T183000
DTEND;TZID=America/Halifax:20271124T193000
DTSTAMP:20260424T124207
CREATED:20250816T172030Z
LAST-MODIFIED:20250816T172031Z
UID:10001477-1827081000-1827084600@templebc.net
SUMMARY:Adult Prayer Service
DESCRIPTION:Each Wednesday from 6:30 to 8:00 pm our adults gather together to pray for one another’s needs and rejoice together as God answers prayer in their lives.
URL:https://templebc.net/event/adult-prayer-service-2-2/2027-11-24/
ATTACH;FMTTYPE=image/png:https://templebc.net/wp-content/uploads/2025/06/Screenshot-2025-08-16-130851.png
END:VEVENT
BEGIN:VEVENT
DTSTART;TZID=America/New_York:20271124T183000
DTEND;TZID=America/New_York:20271124T200000
DTSTAMP:20260424T124207
CREATED:20250611T002050Z
LAST-MODIFIED:20260310T173559Z
UID:10000172-1827081000-1827086400@templebc.net
SUMMARY:Thrive Preteen Ministry
DESCRIPTION:Thrive is the name of our weekly Wednesday evening ministry to Preteen students in the 4th\, 5th\, and 6th grades.  We meet in Room 104 in Building 1 for a time of heartfelt worship\, crazy games\,  age appropriate Bible study\, and a delicious snack.  Each month’s lessons are based on a theme and all the activities relate to that theme.  We have fun growing closer to Jesus as we grow closer together in Christian fellowship.
URL:https://templebc.net/event/thrive-preteen-ministry/2027-11-24/
LOCATION:Building 1\, Room 104
ATTACH;FMTTYPE=image/jpeg:https://templebc.net/wp-content/uploads/2025/06/THRIVE-Final-2026.jpg
ORGANIZER;CN="Mark Wooley":MAILTO:tbcthrivejrhigh@gmail.com
END:VEVENT
BEGIN:VEVENT
DTSTART;TZID=America/New_York:20271124T183000
DTEND;TZID=America/New_York:20271124T200000
DTSTAMP:20260424T124207
CREATED:20250611T003231Z
LAST-MODIFIED:20260204T184251Z
UID:10000433-1827081000-1827086400@templebc.net
SUMMARY:Ignite Youth Ministry
DESCRIPTION:Ignite Youth Ministry welcomes all youth\, 7th through 12th grade\, to a time of fun & games\, fellowship & sharing God’s Word.  Meetings are part of our Mid-Week Services held on Wednesday nights at 6:30PM in the Dining Hall-located in the 3rd building.
URL:https://templebc.net/event/ignite-youth/2027-11-24/
ATTACH;FMTTYPE=image/png:https://templebc.net/wp-content/uploads/2026/02/New-Ignite-Logo.png
END:VEVENT
BEGIN:VEVENT
DTSTART;TZID=America/New_York:20271124T183000
DTEND;TZID=America/New_York:20271124T200000
DTSTAMP:20260424T124207
CREATED:20250614T161146Z
LAST-MODIFIED:20250614T161147Z
UID:10001216-1827081000-1827086400@templebc.net
SUMMARY:Truth Trackers Children's Ministry
DESCRIPTION:This exciting Children’s Ministry meets every Wednesday from 6:30 to 8:00 pm in Building 2 in Room 303.  Children in grades K through 3 learn Bible verses\, sing fun Bible songs\, play exciting games\, and enjoy learning God’s Word together.
URL:https://templebc.net/event/truth-trackers-childrens-ministry-2-2/2027-11-24/
ATTACH;FMTTYPE=image/png:https://templebc.net/wp-content/uploads/2024/10/Screenshot-2025-04-26-113433.png
END:VEVENT
BEGIN:VEVENT
DTSTART;TZID=America/New_York:20271128T100000
DTEND;TZID=America/New_York:20271128T104500
DTSTAMP:20260424T124207
CREATED:20241026T233841Z
LAST-MODIFIED:20241026T233841Z
UID:10000695-1827396000-1827398700@templebc.net
SUMMARY:Sunday Bible Study
DESCRIPTION:Come join one of our Sunday Bible Study groups and experience the warm fellowship of fellow believers as we study God’s Word together.  There are classes for all ages.
URL:https://templebc.net/event/sunday-bible-study/2027-11-28/
ATTACH;FMTTYPE=image/png:https://templebc.net/wp-content/uploads/2024/10/Screenshot-2024-10-25-210801.png
END:VEVENT
BEGIN:VEVENT
DTSTART;TZID=America/New_York:20271128T110000
DTEND;TZID=America/New_York:20271128T120000
DTSTAMP:20260424T124207
CREATED:20241026T235023Z
LAST-MODIFIED:20241026T235023Z
UID:10000956-1827399600-1827403200@templebc.net
SUMMARY:Sunday Morning Worship Service
DESCRIPTION:Our Sunday Morning Worship Service features a blended worship style\, with special music by our Worship Team and special singers\, and a challenging message by Pastor Tom Porter from God’s Word.
URL:https://templebc.net/event/sunday-morning-worship-service/2027-11-28/
LOCATION:Main Auditorium
ATTACH;FMTTYPE=image/jpeg:https://templebc.net/wp-content/uploads/2024/07/Untitled.jpg
END:VEVENT
BEGIN:VEVENT
DTSTART;TZID=America/Halifax:20271201T183000
DTEND;TZID=America/Halifax:20271201T193000
DTSTAMP:20260424T124207
CREATED:20250816T172030Z
LAST-MODIFIED:20250816T172031Z
UID:10001478-1827685800-1827689400@templebc.net
SUMMARY:Adult Prayer Service
DESCRIPTION:Each Wednesday from 6:30 to 8:00 pm our adults gather together to pray for one another’s needs and rejoice together as God answers prayer in their lives.
URL:https://templebc.net/event/adult-prayer-service-2-2/2027-12-01/
ATTACH;FMTTYPE=image/png:https://templebc.net/wp-content/uploads/2025/06/Screenshot-2025-08-16-130851.png
END:VEVENT
BEGIN:VEVENT
DTSTART;TZID=America/New_York:20271201T183000
DTEND;TZID=America/New_York:20271201T200000
DTSTAMP:20260424T124207
CREATED:20250611T002050Z
LAST-MODIFIED:20260310T173559Z
UID:10000173-1827685800-1827691200@templebc.net
SUMMARY:Thrive Preteen Ministry
DESCRIPTION:Thrive is the name of our weekly Wednesday evening ministry to Preteen students in the 4th\, 5th\, and 6th grades.  We meet in Room 104 in Building 1 for a time of heartfelt worship\, crazy games\,  age appropriate Bible study\, and a delicious snack.  Each month’s lessons are based on a theme and all the activities relate to that theme.  We have fun growing closer to Jesus as we grow closer together in Christian fellowship.
URL:https://templebc.net/event/thrive-preteen-ministry/2027-12-01/
LOCATION:Building 1\, Room 104
ATTACH;FMTTYPE=image/jpeg:https://templebc.net/wp-content/uploads/2025/06/THRIVE-Final-2026.jpg
ORGANIZER;CN="Mark Wooley":MAILTO:tbcthrivejrhigh@gmail.com
END:VEVENT
END:VCALENDAR