BEGIN:VCALENDAR
VERSION:2.0
PRODID:-//Temple Baptist Church - ECPv6.15.20//NONSGML v1.0//EN
CALSCALE:GREGORIAN
METHOD:PUBLISH
X-WR-CALNAME:Temple Baptist Church
X-ORIGINAL-URL:https://templebc.net
X-WR-CALDESC:Events for Temple Baptist Church
REFRESH-INTERVAL;VALUE=DURATION:PT1H
X-Robots-Tag:noindex
X-PUBLISHED-TTL:PT1H
BEGIN:VTIMEZONE
TZID:America/New_York
BEGIN:DAYLIGHT
TZOFFSETFROM:-0500
TZOFFSETTO:-0400
TZNAME:EDT
DTSTART:20240310T070000
END:DAYLIGHT
BEGIN:STANDARD
TZOFFSETFROM:-0400
TZOFFSETTO:-0500
TZNAME:EST
DTSTART:20241103T060000
END:STANDARD
BEGIN:DAYLIGHT
TZOFFSETFROM:-0500
TZOFFSETTO:-0400
TZNAME:EDT
DTSTART:20250309T070000
END:DAYLIGHT
BEGIN:STANDARD
TZOFFSETFROM:-0400
TZOFFSETTO:-0500
TZNAME:EST
DTSTART:20251102T060000
END:STANDARD
BEGIN:DAYLIGHT
TZOFFSETFROM:-0500
TZOFFSETTO:-0400
TZNAME:EDT
DTSTART:20260308T070000
END:DAYLIGHT
BEGIN:STANDARD
TZOFFSETFROM:-0400
TZOFFSETTO:-0500
TZNAME:EST
DTSTART:20261101T060000
END:STANDARD
END:VTIMEZONE
BEGIN:VTIMEZONE
TZID:America/Halifax
BEGIN:DAYLIGHT
TZOFFSETFROM:-0400
TZOFFSETTO:-0300
TZNAME:ADT
DTSTART:20240310T060000
END:DAYLIGHT
BEGIN:STANDARD
TZOFFSETFROM:-0300
TZOFFSETTO:-0400
TZNAME:AST
DTSTART:20241103T050000
END:STANDARD
BEGIN:DAYLIGHT
TZOFFSETFROM:-0400
TZOFFSETTO:-0300
TZNAME:ADT
DTSTART:20250309T060000
END:DAYLIGHT
BEGIN:STANDARD
TZOFFSETFROM:-0300
TZOFFSETTO:-0400
TZNAME:AST
DTSTART:20251102T050000
END:STANDARD
BEGIN:DAYLIGHT
TZOFFSETFROM:-0400
TZOFFSETTO:-0300
TZNAME:ADT
DTSTART:20260308T060000
END:DAYLIGHT
BEGIN:STANDARD
TZOFFSETFROM:-0300
TZOFFSETTO:-0400
TZNAME:AST
DTSTART:20261101T050000
END:STANDARD
END:VTIMEZONE
BEGIN:VEVENT
DTSTART;TZID=America/New_York:20250212T183000
DTEND;TZID=America/New_York:20250212T200000
DTSTAMP:20260424T100241
CREATED:20241026T232721Z
LAST-MODIFIED:20241029T111323Z
UID:10000027-1739385000-1739390400@templebc.net
SUMMARY:Thrive Jr. High Ministry
DESCRIPTION:Thrive is the name of our weekly Wednesday evening ministry to Junior High students in the 6th\, 7th\, and 8th grades.  We meet in Room 104 in Building 1 for a time of heartfelt worship\, crazy games\,  age appropriate Bible study\, and a delicious snack.  Each month’s lessons are based on a theme and all the activities relate to that theme.  We have fun growing closer to Jesus as we grow closer together in Christian fellowship.
URL:https://templebc.net/event/thrive-jr-high-ministry/2025-02-12/
LOCATION:Building 1\, Room 104
ATTACH;FMTTYPE=image/jpeg:https://templebc.net/wp-content/uploads/2024/10/Thrive-Group1-1.jpg
ORGANIZER;CN="Mark Wooley":MAILTO:tbcthrivejrhigh@gmail.com
END:VEVENT
BEGIN:VEVENT
DTSTART;TZID=America/Halifax:20250212T183000
DTEND;TZID=America/Halifax:20250212T193000
DTSTAMP:20260424T100241
CREATED:20241027T001605Z
LAST-MODIFIED:20241027T001605Z
UID:10001332-1739385000-1739388600@templebc.net
SUMMARY:Adult Prayer Service
DESCRIPTION:Each Wednesday from 6:30 to 8:00 pm our adults gather together to pray for one another’s needs and rejoice together as God answers prayer in their lives.
URL:https://templebc.net/event/adult-prayer-service/2025-02-12/
ATTACH;FMTTYPE=image/png:https://templebc.net/wp-content/uploads/2024/10/Screenshot-2024-10-25-210948.png
END:VEVENT
BEGIN:VEVENT
DTSTART;TZID=America/New_York:20250209T110000
DTEND;TZID=America/New_York:20250209T120000
DTSTAMP:20260424T100241
CREATED:20241026T235023Z
LAST-MODIFIED:20241026T235023Z
UID:10000810-1739098800-1739102400@templebc.net
SUMMARY:Sunday Morning Worship Service
DESCRIPTION:Our Sunday Morning Worship Service features a blended worship style\, with special music by our Worship Team and special singers\, and a challenging message by Pastor Tom Porter from God’s Word.
URL:https://templebc.net/event/sunday-morning-worship-service/2025-02-09/
LOCATION:Main Auditorium
ATTACH;FMTTYPE=image/jpeg:https://templebc.net/wp-content/uploads/2024/07/Untitled.jpg
END:VEVENT
BEGIN:VEVENT
DTSTART;TZID=America/New_York:20250209T100000
DTEND;TZID=America/New_York:20250209T104500
DTSTAMP:20260424T100241
CREATED:20241026T233841Z
LAST-MODIFIED:20241026T233841Z
UID:10000549-1739095200-1739097900@templebc.net
SUMMARY:Sunday Bible Study
DESCRIPTION:Come join one of our Sunday Bible Study groups and experience the warm fellowship of fellow believers as we study God’s Word together.  There are classes for all ages.
URL:https://templebc.net/event/sunday-bible-study/2025-02-09/
ATTACH;FMTTYPE=image/png:https://templebc.net/wp-content/uploads/2024/10/Screenshot-2024-10-25-210801.png
END:VEVENT
BEGIN:VEVENT
DTSTART;TZID=America/New_York:20250205T183000
DTEND;TZID=America/New_York:20250205T200000
DTSTAMP:20260424T100241
CREATED:20241027T000338Z
LAST-MODIFIED:20241027T000338Z
UID:10001070-1738780200-1738785600@templebc.net
SUMMARY:Truth Trackers Children's Ministry
DESCRIPTION:This exciting Children’s Ministry meets every Wednesday from 6:30 to 8:00 pm in Building 2 in the room next to the gym.  Children in grades 1 through 5 learn Bible verses\, sing fun Bible songs\, play exciting games\, and enjoy learning God’s Word together.
URL:https://templebc.net/event/truth-trackers-childrens-ministry/2025-02-05/
ATTACH;FMTTYPE=image/png:https://templebc.net/wp-content/uploads/2024/10/Truth-Trackers-New.png
END:VEVENT
BEGIN:VEVENT
DTSTART;TZID=America/New_York:20250205T183000
DTEND;TZID=America/New_York:20250205T200000
DTSTAMP:20260424T100241
CREATED:20241026T233227Z
LAST-MODIFIED:20241026T233227Z
UID:10000287-1738780200-1738785600@templebc.net
SUMMARY:Strive High School Youth
DESCRIPTION:Strive Sr. High ministry welcomes all youth\, 9th through 12th grade\, to a time of fun & games\, fellowship & sharing God’s Word.  Meetings are part of our Mid-Week Services held on Wednesday nights at 6:30PM in the Dining Hall-located in the 3rd building.
URL:https://templebc.net/event/strive-high-school-youth/2025-02-05/
ATTACH;FMTTYPE=image/png:https://templebc.net/wp-content/uploads/2024/10/Strive-New.png
END:VEVENT
BEGIN:VEVENT
DTSTART;TZID=America/New_York:20250205T183000
DTEND;TZID=America/New_York:20250205T200000
DTSTAMP:20260424T100241
CREATED:20241026T232721Z
LAST-MODIFIED:20241029T111323Z
UID:10000026-1738780200-1738785600@templebc.net
SUMMARY:Thrive Jr. High Ministry
DESCRIPTION:Thrive is the name of our weekly Wednesday evening ministry to Junior High students in the 6th\, 7th\, and 8th grades.  We meet in Room 104 in Building 1 for a time of heartfelt worship\, crazy games\,  age appropriate Bible study\, and a delicious snack.  Each month’s lessons are based on a theme and all the activities relate to that theme.  We have fun growing closer to Jesus as we grow closer together in Christian fellowship.
URL:https://templebc.net/event/thrive-jr-high-ministry/2025-02-05/
LOCATION:Building 1\, Room 104
ATTACH;FMTTYPE=image/jpeg:https://templebc.net/wp-content/uploads/2024/10/Thrive-Group1-1.jpg
ORGANIZER;CN="Mark Wooley":MAILTO:tbcthrivejrhigh@gmail.com
END:VEVENT
BEGIN:VEVENT
DTSTART;TZID=America/Halifax:20250205T183000
DTEND;TZID=America/Halifax:20250205T193000
DTSTAMP:20260424T100241
CREATED:20241027T001605Z
LAST-MODIFIED:20241027T001605Z
UID:10001331-1738780200-1738783800@templebc.net
SUMMARY:Adult Prayer Service
DESCRIPTION:Each Wednesday from 6:30 to 8:00 pm our adults gather together to pray for one another’s needs and rejoice together as God answers prayer in their lives.
URL:https://templebc.net/event/adult-prayer-service/2025-02-05/
ATTACH;FMTTYPE=image/png:https://templebc.net/wp-content/uploads/2024/10/Screenshot-2024-10-25-210948.png
END:VEVENT
BEGIN:VEVENT
DTSTART;TZID=America/New_York:20250202T110000
DTEND;TZID=America/New_York:20250202T120000
DTSTAMP:20260424T100241
CREATED:20241026T235023Z
LAST-MODIFIED:20241026T235023Z
UID:10000809-1738494000-1738497600@templebc.net
SUMMARY:Sunday Morning Worship Service
DESCRIPTION:Our Sunday Morning Worship Service features a blended worship style\, with special music by our Worship Team and special singers\, and a challenging message by Pastor Tom Porter from God’s Word.
URL:https://templebc.net/event/sunday-morning-worship-service/2025-02-02/
LOCATION:Main Auditorium
ATTACH;FMTTYPE=image/jpeg:https://templebc.net/wp-content/uploads/2024/07/Untitled.jpg
END:VEVENT
BEGIN:VEVENT
DTSTART;TZID=America/New_York:20250202T100000
DTEND;TZID=America/New_York:20250202T104500
DTSTAMP:20260424T100241
CREATED:20241026T233841Z
LAST-MODIFIED:20241026T233841Z
UID:10000548-1738490400-1738493100@templebc.net
SUMMARY:Sunday Bible Study
DESCRIPTION:Come join one of our Sunday Bible Study groups and experience the warm fellowship of fellow believers as we study God’s Word together.  There are classes for all ages.
URL:https://templebc.net/event/sunday-bible-study/2025-02-02/
ATTACH;FMTTYPE=image/png:https://templebc.net/wp-content/uploads/2024/10/Screenshot-2024-10-25-210801.png
END:VEVENT
BEGIN:VEVENT
DTSTART;TZID=America/New_York:20250129T183000
DTEND;TZID=America/New_York:20250129T200000
DTSTAMP:20260424T100241
CREATED:20241027T000338Z
LAST-MODIFIED:20241027T000338Z
UID:10001069-1738175400-1738180800@templebc.net
SUMMARY:Truth Trackers Children's Ministry
DESCRIPTION:This exciting Children’s Ministry meets every Wednesday from 6:30 to 8:00 pm in Building 2 in the room next to the gym.  Children in grades 1 through 5 learn Bible verses\, sing fun Bible songs\, play exciting games\, and enjoy learning God’s Word together.
URL:https://templebc.net/event/truth-trackers-childrens-ministry/2025-01-29/
ATTACH;FMTTYPE=image/png:https://templebc.net/wp-content/uploads/2024/10/Truth-Trackers-New.png
END:VEVENT
BEGIN:VEVENT
DTSTART;TZID=America/New_York:20250129T183000
DTEND;TZID=America/New_York:20250129T200000
DTSTAMP:20260424T100241
CREATED:20241026T233227Z
LAST-MODIFIED:20241026T233227Z
UID:10000286-1738175400-1738180800@templebc.net
SUMMARY:Strive High School Youth
DESCRIPTION:Strive Sr. High ministry welcomes all youth\, 9th through 12th grade\, to a time of fun & games\, fellowship & sharing God’s Word.  Meetings are part of our Mid-Week Services held on Wednesday nights at 6:30PM in the Dining Hall-located in the 3rd building.
URL:https://templebc.net/event/strive-high-school-youth/2025-01-29/
ATTACH;FMTTYPE=image/png:https://templebc.net/wp-content/uploads/2024/10/Strive-New.png
END:VEVENT
BEGIN:VEVENT
DTSTART;TZID=America/New_York:20250129T183000
DTEND;TZID=America/New_York:20250129T200000
DTSTAMP:20260424T100241
CREATED:20241026T232721Z
LAST-MODIFIED:20241029T111323Z
UID:10000025-1738175400-1738180800@templebc.net
SUMMARY:Thrive Jr. High Ministry
DESCRIPTION:Thrive is the name of our weekly Wednesday evening ministry to Junior High students in the 6th\, 7th\, and 8th grades.  We meet in Room 104 in Building 1 for a time of heartfelt worship\, crazy games\,  age appropriate Bible study\, and a delicious snack.  Each month’s lessons are based on a theme and all the activities relate to that theme.  We have fun growing closer to Jesus as we grow closer together in Christian fellowship.
URL:https://templebc.net/event/thrive-jr-high-ministry/2025-01-29/
LOCATION:Building 1\, Room 104
ATTACH;FMTTYPE=image/jpeg:https://templebc.net/wp-content/uploads/2024/10/Thrive-Group1-1.jpg
ORGANIZER;CN="Mark Wooley":MAILTO:tbcthrivejrhigh@gmail.com
END:VEVENT
BEGIN:VEVENT
DTSTART;TZID=America/Halifax:20250129T183000
DTEND;TZID=America/Halifax:20250129T193000
DTSTAMP:20260424T100241
CREATED:20241027T001605Z
LAST-MODIFIED:20241027T001605Z
UID:10001330-1738175400-1738179000@templebc.net
SUMMARY:Adult Prayer Service
DESCRIPTION:Each Wednesday from 6:30 to 8:00 pm our adults gather together to pray for one another’s needs and rejoice together as God answers prayer in their lives.
URL:https://templebc.net/event/adult-prayer-service/2025-01-29/
ATTACH;FMTTYPE=image/png:https://templebc.net/wp-content/uploads/2024/10/Screenshot-2024-10-25-210948.png
END:VEVENT
BEGIN:VEVENT
DTSTART;TZID=America/New_York:20250126T110000
DTEND;TZID=America/New_York:20250126T120000
DTSTAMP:20260424T100241
CREATED:20241026T235023Z
LAST-MODIFIED:20241026T235023Z
UID:10000808-1737889200-1737892800@templebc.net
SUMMARY:Sunday Morning Worship Service
DESCRIPTION:Our Sunday Morning Worship Service features a blended worship style\, with special music by our Worship Team and special singers\, and a challenging message by Pastor Tom Porter from God’s Word.
URL:https://templebc.net/event/sunday-morning-worship-service/2025-01-26/
LOCATION:Main Auditorium
ATTACH;FMTTYPE=image/jpeg:https://templebc.net/wp-content/uploads/2024/07/Untitled.jpg
END:VEVENT
BEGIN:VEVENT
DTSTART;TZID=America/New_York:20250126T100000
DTEND;TZID=America/New_York:20250126T104500
DTSTAMP:20260424T100241
CREATED:20241026T233841Z
LAST-MODIFIED:20241026T233841Z
UID:10000547-1737885600-1737888300@templebc.net
SUMMARY:Sunday Bible Study
DESCRIPTION:Come join one of our Sunday Bible Study groups and experience the warm fellowship of fellow believers as we study God’s Word together.  There are classes for all ages.
URL:https://templebc.net/event/sunday-bible-study/2025-01-26/
ATTACH;FMTTYPE=image/png:https://templebc.net/wp-content/uploads/2024/10/Screenshot-2024-10-25-210801.png
END:VEVENT
BEGIN:VEVENT
DTSTART;TZID=America/New_York:20250122T183000
DTEND;TZID=America/New_York:20250122T200000
DTSTAMP:20260424T100241
CREATED:20241027T000338Z
LAST-MODIFIED:20241027T000338Z
UID:10001068-1737570600-1737576000@templebc.net
SUMMARY:Truth Trackers Children's Ministry
DESCRIPTION:This exciting Children’s Ministry meets every Wednesday from 6:30 to 8:00 pm in Building 2 in the room next to the gym.  Children in grades 1 through 5 learn Bible verses\, sing fun Bible songs\, play exciting games\, and enjoy learning God’s Word together.
URL:https://templebc.net/event/truth-trackers-childrens-ministry/2025-01-22/
ATTACH;FMTTYPE=image/png:https://templebc.net/wp-content/uploads/2024/10/Truth-Trackers-New.png
END:VEVENT
BEGIN:VEVENT
DTSTART;TZID=America/New_York:20250122T183000
DTEND;TZID=America/New_York:20250122T200000
DTSTAMP:20260424T100241
CREATED:20241026T233227Z
LAST-MODIFIED:20241026T233227Z
UID:10000285-1737570600-1737576000@templebc.net
SUMMARY:Strive High School Youth
DESCRIPTION:Strive Sr. High ministry welcomes all youth\, 9th through 12th grade\, to a time of fun & games\, fellowship & sharing God’s Word.  Meetings are part of our Mid-Week Services held on Wednesday nights at 6:30PM in the Dining Hall-located in the 3rd building.
URL:https://templebc.net/event/strive-high-school-youth/2025-01-22/
ATTACH;FMTTYPE=image/png:https://templebc.net/wp-content/uploads/2024/10/Strive-New.png
END:VEVENT
BEGIN:VEVENT
DTSTART;TZID=America/New_York:20250122T183000
DTEND;TZID=America/New_York:20250122T200000
DTSTAMP:20260424T100241
CREATED:20241026T232721Z
LAST-MODIFIED:20241029T111323Z
UID:10000024-1737570600-1737576000@templebc.net
SUMMARY:Thrive Jr. High Ministry
DESCRIPTION:Thrive is the name of our weekly Wednesday evening ministry to Junior High students in the 6th\, 7th\, and 8th grades.  We meet in Room 104 in Building 1 for a time of heartfelt worship\, crazy games\,  age appropriate Bible study\, and a delicious snack.  Each month’s lessons are based on a theme and all the activities relate to that theme.  We have fun growing closer to Jesus as we grow closer together in Christian fellowship.
URL:https://templebc.net/event/thrive-jr-high-ministry/2025-01-22/
LOCATION:Building 1\, Room 104
ATTACH;FMTTYPE=image/jpeg:https://templebc.net/wp-content/uploads/2024/10/Thrive-Group1-1.jpg
ORGANIZER;CN="Mark Wooley":MAILTO:tbcthrivejrhigh@gmail.com
END:VEVENT
BEGIN:VEVENT
DTSTART;TZID=America/Halifax:20250122T183000
DTEND;TZID=America/Halifax:20250122T193000
DTSTAMP:20260424T100241
CREATED:20241027T001605Z
LAST-MODIFIED:20241027T001605Z
UID:10001329-1737570600-1737574200@templebc.net
SUMMARY:Adult Prayer Service
DESCRIPTION:Each Wednesday from 6:30 to 8:00 pm our adults gather together to pray for one another’s needs and rejoice together as God answers prayer in their lives.
URL:https://templebc.net/event/adult-prayer-service/2025-01-22/
ATTACH;FMTTYPE=image/png:https://templebc.net/wp-content/uploads/2024/10/Screenshot-2024-10-25-210948.png
END:VEVENT
BEGIN:VEVENT
DTSTART;TZID=America/New_York:20250119T110000
DTEND;TZID=America/New_York:20250119T120000
DTSTAMP:20260424T100241
CREATED:20241026T235023Z
LAST-MODIFIED:20241026T235023Z
UID:10000807-1737284400-1737288000@templebc.net
SUMMARY:Sunday Morning Worship Service
DESCRIPTION:Our Sunday Morning Worship Service features a blended worship style\, with special music by our Worship Team and special singers\, and a challenging message by Pastor Tom Porter from God’s Word.
URL:https://templebc.net/event/sunday-morning-worship-service/2025-01-19/
LOCATION:Main Auditorium
ATTACH;FMTTYPE=image/jpeg:https://templebc.net/wp-content/uploads/2024/07/Untitled.jpg
END:VEVENT
BEGIN:VEVENT
DTSTART;TZID=America/New_York:20250119T100000
DTEND;TZID=America/New_York:20250119T104500
DTSTAMP:20260424T100241
CREATED:20241026T233841Z
LAST-MODIFIED:20241026T233841Z
UID:10000546-1737280800-1737283500@templebc.net
SUMMARY:Sunday Bible Study
DESCRIPTION:Come join one of our Sunday Bible Study groups and experience the warm fellowship of fellow believers as we study God’s Word together.  There are classes for all ages.
URL:https://templebc.net/event/sunday-bible-study/2025-01-19/
ATTACH;FMTTYPE=image/png:https://templebc.net/wp-content/uploads/2024/10/Screenshot-2024-10-25-210801.png
END:VEVENT
BEGIN:VEVENT
DTSTART;TZID=America/New_York:20250115T183000
DTEND;TZID=America/New_York:20250115T200000
DTSTAMP:20260424T100241
CREATED:20241027T000338Z
LAST-MODIFIED:20241027T000338Z
UID:10001067-1736965800-1736971200@templebc.net
SUMMARY:Truth Trackers Children's Ministry
DESCRIPTION:This exciting Children’s Ministry meets every Wednesday from 6:30 to 8:00 pm in Building 2 in the room next to the gym.  Children in grades 1 through 5 learn Bible verses\, sing fun Bible songs\, play exciting games\, and enjoy learning God’s Word together.
URL:https://templebc.net/event/truth-trackers-childrens-ministry/2025-01-15/
ATTACH;FMTTYPE=image/png:https://templebc.net/wp-content/uploads/2024/10/Truth-Trackers-New.png
END:VEVENT
BEGIN:VEVENT
DTSTART;TZID=America/New_York:20250115T183000
DTEND;TZID=America/New_York:20250115T200000
DTSTAMP:20260424T100241
CREATED:20241026T233227Z
LAST-MODIFIED:20241026T233227Z
UID:10000284-1736965800-1736971200@templebc.net
SUMMARY:Strive High School Youth
DESCRIPTION:Strive Sr. High ministry welcomes all youth\, 9th through 12th grade\, to a time of fun & games\, fellowship & sharing God’s Word.  Meetings are part of our Mid-Week Services held on Wednesday nights at 6:30PM in the Dining Hall-located in the 3rd building.
URL:https://templebc.net/event/strive-high-school-youth/2025-01-15/
ATTACH;FMTTYPE=image/png:https://templebc.net/wp-content/uploads/2024/10/Strive-New.png
END:VEVENT
BEGIN:VEVENT
DTSTART;TZID=America/New_York:20250115T183000
DTEND;TZID=America/New_York:20250115T200000
DTSTAMP:20260424T100242
CREATED:20241026T232721Z
LAST-MODIFIED:20241029T111323Z
UID:10000023-1736965800-1736971200@templebc.net
SUMMARY:Thrive Jr. High Ministry
DESCRIPTION:Thrive is the name of our weekly Wednesday evening ministry to Junior High students in the 6th\, 7th\, and 8th grades.  We meet in Room 104 in Building 1 for a time of heartfelt worship\, crazy games\,  age appropriate Bible study\, and a delicious snack.  Each month’s lessons are based on a theme and all the activities relate to that theme.  We have fun growing closer to Jesus as we grow closer together in Christian fellowship.
URL:https://templebc.net/event/thrive-jr-high-ministry/2025-01-15/
LOCATION:Building 1\, Room 104
ATTACH;FMTTYPE=image/jpeg:https://templebc.net/wp-content/uploads/2024/10/Thrive-Group1-1.jpg
ORGANIZER;CN="Mark Wooley":MAILTO:tbcthrivejrhigh@gmail.com
END:VEVENT
BEGIN:VEVENT
DTSTART;TZID=America/Halifax:20250115T183000
DTEND;TZID=America/Halifax:20250115T193000
DTSTAMP:20260424T100242
CREATED:20241027T001605Z
LAST-MODIFIED:20241027T001605Z
UID:10001328-1736965800-1736969400@templebc.net
SUMMARY:Adult Prayer Service
DESCRIPTION:Each Wednesday from 6:30 to 8:00 pm our adults gather together to pray for one another’s needs and rejoice together as God answers prayer in their lives.
URL:https://templebc.net/event/adult-prayer-service/2025-01-15/
ATTACH;FMTTYPE=image/png:https://templebc.net/wp-content/uploads/2024/10/Screenshot-2024-10-25-210948.png
END:VEVENT
BEGIN:VEVENT
DTSTART;TZID=America/New_York:20250112T110000
DTEND;TZID=America/New_York:20250112T120000
DTSTAMP:20260424T100242
CREATED:20241026T235023Z
LAST-MODIFIED:20241026T235023Z
UID:10000806-1736679600-1736683200@templebc.net
SUMMARY:Sunday Morning Worship Service
DESCRIPTION:Our Sunday Morning Worship Service features a blended worship style\, with special music by our Worship Team and special singers\, and a challenging message by Pastor Tom Porter from God’s Word.
URL:https://templebc.net/event/sunday-morning-worship-service/2025-01-12/
LOCATION:Main Auditorium
ATTACH;FMTTYPE=image/jpeg:https://templebc.net/wp-content/uploads/2024/07/Untitled.jpg
END:VEVENT
BEGIN:VEVENT
DTSTART;TZID=America/New_York:20250112T100000
DTEND;TZID=America/New_York:20250112T104500
DTSTAMP:20260424T100242
CREATED:20241026T233841Z
LAST-MODIFIED:20241026T233841Z
UID:10000545-1736676000-1736678700@templebc.net
SUMMARY:Sunday Bible Study
DESCRIPTION:Come join one of our Sunday Bible Study groups and experience the warm fellowship of fellow believers as we study God’s Word together.  There are classes for all ages.
URL:https://templebc.net/event/sunday-bible-study/2025-01-12/
ATTACH;FMTTYPE=image/png:https://templebc.net/wp-content/uploads/2024/10/Screenshot-2024-10-25-210801.png
END:VEVENT
BEGIN:VEVENT
DTSTART;TZID=America/New_York:20250108T183000
DTEND;TZID=America/New_York:20250108T200000
DTSTAMP:20260424T100242
CREATED:20241027T000338Z
LAST-MODIFIED:20241027T000338Z
UID:10001066-1736361000-1736366400@templebc.net
SUMMARY:Truth Trackers Children's Ministry
DESCRIPTION:This exciting Children’s Ministry meets every Wednesday from 6:30 to 8:00 pm in Building 2 in the room next to the gym.  Children in grades 1 through 5 learn Bible verses\, sing fun Bible songs\, play exciting games\, and enjoy learning God’s Word together.
URL:https://templebc.net/event/truth-trackers-childrens-ministry/2025-01-08/
ATTACH;FMTTYPE=image/png:https://templebc.net/wp-content/uploads/2024/10/Truth-Trackers-New.png
END:VEVENT
BEGIN:VEVENT
DTSTART;TZID=America/New_York:20250108T183000
DTEND;TZID=America/New_York:20250108T200000
DTSTAMP:20260424T100242
CREATED:20241026T233227Z
LAST-MODIFIED:20241026T233227Z
UID:10000283-1736361000-1736366400@templebc.net
SUMMARY:Strive High School Youth
DESCRIPTION:Strive Sr. High ministry welcomes all youth\, 9th through 12th grade\, to a time of fun & games\, fellowship & sharing God’s Word.  Meetings are part of our Mid-Week Services held on Wednesday nights at 6:30PM in the Dining Hall-located in the 3rd building.
URL:https://templebc.net/event/strive-high-school-youth/2025-01-08/
ATTACH;FMTTYPE=image/png:https://templebc.net/wp-content/uploads/2024/10/Strive-New.png
END:VEVENT
END:VCALENDAR