BEGIN:VCALENDAR
VERSION:2.0
PRODID:-//Temple Baptist Church - ECPv6.15.20//NONSGML v1.0//EN
CALSCALE:GREGORIAN
METHOD:PUBLISH
X-WR-CALNAME:Temple Baptist Church
X-ORIGINAL-URL:https://templebc.net
X-WR-CALDESC:Events for Temple Baptist Church
REFRESH-INTERVAL;VALUE=DURATION:PT1H
X-Robots-Tag:noindex
X-PUBLISHED-TTL:PT1H
BEGIN:VTIMEZONE
TZID:America/Halifax
BEGIN:DAYLIGHT
TZOFFSETFROM:-0400
TZOFFSETTO:-0300
TZNAME:ADT
DTSTART:20240310T060000
END:DAYLIGHT
BEGIN:STANDARD
TZOFFSETFROM:-0300
TZOFFSETTO:-0400
TZNAME:AST
DTSTART:20241103T050000
END:STANDARD
BEGIN:DAYLIGHT
TZOFFSETFROM:-0400
TZOFFSETTO:-0300
TZNAME:ADT
DTSTART:20250309T060000
END:DAYLIGHT
BEGIN:STANDARD
TZOFFSETFROM:-0300
TZOFFSETTO:-0400
TZNAME:AST
DTSTART:20251102T050000
END:STANDARD
BEGIN:DAYLIGHT
TZOFFSETFROM:-0400
TZOFFSETTO:-0300
TZNAME:ADT
DTSTART:20260308T060000
END:DAYLIGHT
BEGIN:STANDARD
TZOFFSETFROM:-0300
TZOFFSETTO:-0400
TZNAME:AST
DTSTART:20261101T050000
END:STANDARD
END:VTIMEZONE
BEGIN:VTIMEZONE
TZID:America/New_York
BEGIN:DAYLIGHT
TZOFFSETFROM:-0500
TZOFFSETTO:-0400
TZNAME:EDT
DTSTART:20240310T070000
END:DAYLIGHT
BEGIN:STANDARD
TZOFFSETFROM:-0400
TZOFFSETTO:-0500
TZNAME:EST
DTSTART:20241103T060000
END:STANDARD
BEGIN:DAYLIGHT
TZOFFSETFROM:-0500
TZOFFSETTO:-0400
TZNAME:EDT
DTSTART:20250309T070000
END:DAYLIGHT
BEGIN:STANDARD
TZOFFSETFROM:-0400
TZOFFSETTO:-0500
TZNAME:EST
DTSTART:20251102T060000
END:STANDARD
BEGIN:DAYLIGHT
TZOFFSETFROM:-0500
TZOFFSETTO:-0400
TZNAME:EDT
DTSTART:20260308T070000
END:DAYLIGHT
BEGIN:STANDARD
TZOFFSETFROM:-0400
TZOFFSETTO:-0500
TZNAME:EST
DTSTART:20261101T060000
END:STANDARD
END:VTIMEZONE
BEGIN:VEVENT
DTSTART;TZID=America/Halifax:20250702T183000
DTEND;TZID=America/Halifax:20250702T193000
DTSTAMP:20260422T182241
CREATED:20250611T005202Z
LAST-MODIFIED:20250611T005202Z
UID:10001352-1751481000-1751484600@templebc.net
SUMMARY:Adult Prayer Service
DESCRIPTION:Each Wednesday from 6:30 to 8:00 pm our adults gather together to pray for one another’s needs and rejoice together as God answers prayer in their lives.
URL:https://templebc.net/event/adult-prayer-service-2/2025-07-02/
END:VEVENT
BEGIN:VEVENT
DTSTART;TZID=America/New_York:20250702T183000
DTEND;TZID=America/New_York:20250702T200000
DTSTAMP:20260422T182241
CREATED:20250611T002050Z
LAST-MODIFIED:20260310T173559Z
UID:10000047-1751481000-1751486400@templebc.net
SUMMARY:Thrive Preteen Ministry
DESCRIPTION:Thrive is the name of our weekly Wednesday evening ministry to Preteen students in the 4th\, 5th\, and 6th grades.  We meet in Room 104 in Building 1 for a time of heartfelt worship\, crazy games\,  age appropriate Bible study\, and a delicious snack.  Each month’s lessons are based on a theme and all the activities relate to that theme.  We have fun growing closer to Jesus as we grow closer together in Christian fellowship.
URL:https://templebc.net/event/thrive-preteen-ministry/2025-07-02/
LOCATION:Building 1\, Room 104
ATTACH;FMTTYPE=image/jpeg:https://templebc.net/wp-content/uploads/2025/06/THRIVE-Final-2026.jpg
ORGANIZER;CN="Mark Wooley":MAILTO:tbcthrivejrhigh@gmail.com
END:VEVENT
BEGIN:VEVENT
DTSTART;TZID=America/New_York:20250702T183000
DTEND;TZID=America/New_York:20250702T200000
DTSTAMP:20260422T182241
CREATED:20250611T003231Z
LAST-MODIFIED:20260204T184251Z
UID:10000308-1751481000-1751486400@templebc.net
SUMMARY:Ignite Youth Ministry
DESCRIPTION:Ignite Youth Ministry welcomes all youth\, 7th through 12th grade\, to a time of fun & games\, fellowship & sharing God’s Word.  Meetings are part of our Mid-Week Services held on Wednesday nights at 6:30PM in the Dining Hall-located in the 3rd building.
URL:https://templebc.net/event/ignite-youth/2025-07-02/
ATTACH;FMTTYPE=image/png:https://templebc.net/wp-content/uploads/2026/02/New-Ignite-Logo.png
END:VEVENT
BEGIN:VEVENT
DTSTART;TZID=America/New_York:20250702T183000
DTEND;TZID=America/New_York:20250702T200000
DTSTAMP:20260422T182241
CREATED:20250614T161146Z
LAST-MODIFIED:20250614T161147Z
UID:10001091-1751481000-1751486400@templebc.net
SUMMARY:Truth Trackers Children's Ministry
DESCRIPTION:This exciting Children’s Ministry meets every Wednesday from 6:30 to 8:00 pm in Building 2 in Room 303.  Children in grades K through 3 learn Bible verses\, sing fun Bible songs\, play exciting games\, and enjoy learning God’s Word together.
URL:https://templebc.net/event/truth-trackers-childrens-ministry-2-2/2025-07-02/
ATTACH;FMTTYPE=image/png:https://templebc.net/wp-content/uploads/2024/10/Screenshot-2025-04-26-113433.png
END:VEVENT
BEGIN:VEVENT
DTSTART;TZID=America/New_York:20250706T100000
DTEND;TZID=America/New_York:20250706T104500
DTSTAMP:20260422T182241
CREATED:20241026T233841Z
LAST-MODIFIED:20241026T233841Z
UID:10000570-1751796000-1751798700@templebc.net
SUMMARY:Sunday Bible Study
DESCRIPTION:Come join one of our Sunday Bible Study groups and experience the warm fellowship of fellow believers as we study God’s Word together.  There are classes for all ages.
URL:https://templebc.net/event/sunday-bible-study/2025-07-06/
ATTACH;FMTTYPE=image/png:https://templebc.net/wp-content/uploads/2024/10/Screenshot-2024-10-25-210801.png
END:VEVENT
BEGIN:VEVENT
DTSTART;TZID=America/New_York:20250706T110000
DTEND;TZID=America/New_York:20250706T120000
DTSTAMP:20260422T182241
CREATED:20241026T235023Z
LAST-MODIFIED:20241026T235023Z
UID:10000831-1751799600-1751803200@templebc.net
SUMMARY:Sunday Morning Worship Service
DESCRIPTION:Our Sunday Morning Worship Service features a blended worship style\, with special music by our Worship Team and special singers\, and a challenging message by Pastor Tom Porter from God’s Word.
URL:https://templebc.net/event/sunday-morning-worship-service/2025-07-06/
LOCATION:Main Auditorium
ATTACH;FMTTYPE=image/jpeg:https://templebc.net/wp-content/uploads/2024/07/Untitled.jpg
END:VEVENT
BEGIN:VEVENT
DTSTART;TZID=America/Halifax:20250709T183000
DTEND;TZID=America/Halifax:20250709T193000
DTSTAMP:20260422T182241
CREATED:20250611T005202Z
LAST-MODIFIED:20250611T005202Z
UID:10001353-1752085800-1752089400@templebc.net
SUMMARY:Adult Prayer Service
DESCRIPTION:Each Wednesday from 6:30 to 8:00 pm our adults gather together to pray for one another’s needs and rejoice together as God answers prayer in their lives.
URL:https://templebc.net/event/adult-prayer-service-2/2025-07-09/
END:VEVENT
BEGIN:VEVENT
DTSTART;TZID=America/New_York:20250709T183000
DTEND;TZID=America/New_York:20250709T200000
DTSTAMP:20260422T182241
CREATED:20250611T002050Z
LAST-MODIFIED:20260310T173559Z
UID:10000048-1752085800-1752091200@templebc.net
SUMMARY:Thrive Preteen Ministry
DESCRIPTION:Thrive is the name of our weekly Wednesday evening ministry to Preteen students in the 4th\, 5th\, and 6th grades.  We meet in Room 104 in Building 1 for a time of heartfelt worship\, crazy games\,  age appropriate Bible study\, and a delicious snack.  Each month’s lessons are based on a theme and all the activities relate to that theme.  We have fun growing closer to Jesus as we grow closer together in Christian fellowship.
URL:https://templebc.net/event/thrive-preteen-ministry/2025-07-09/
LOCATION:Building 1\, Room 104
ATTACH;FMTTYPE=image/jpeg:https://templebc.net/wp-content/uploads/2025/06/THRIVE-Final-2026.jpg
ORGANIZER;CN="Mark Wooley":MAILTO:tbcthrivejrhigh@gmail.com
END:VEVENT
BEGIN:VEVENT
DTSTART;TZID=America/New_York:20250709T183000
DTEND;TZID=America/New_York:20250709T200000
DTSTAMP:20260422T182241
CREATED:20250611T003231Z
LAST-MODIFIED:20260204T184251Z
UID:10000309-1752085800-1752091200@templebc.net
SUMMARY:Ignite Youth Ministry
DESCRIPTION:Ignite Youth Ministry welcomes all youth\, 7th through 12th grade\, to a time of fun & games\, fellowship & sharing God’s Word.  Meetings are part of our Mid-Week Services held on Wednesday nights at 6:30PM in the Dining Hall-located in the 3rd building.
URL:https://templebc.net/event/ignite-youth/2025-07-09/
ATTACH;FMTTYPE=image/png:https://templebc.net/wp-content/uploads/2026/02/New-Ignite-Logo.png
END:VEVENT
BEGIN:VEVENT
DTSTART;TZID=America/New_York:20250709T183000
DTEND;TZID=America/New_York:20250709T200000
DTSTAMP:20260422T182241
CREATED:20250614T161146Z
LAST-MODIFIED:20250614T161147Z
UID:10001092-1752085800-1752091200@templebc.net
SUMMARY:Truth Trackers Children's Ministry
DESCRIPTION:This exciting Children’s Ministry meets every Wednesday from 6:30 to 8:00 pm in Building 2 in Room 303.  Children in grades K through 3 learn Bible verses\, sing fun Bible songs\, play exciting games\, and enjoy learning God’s Word together.
URL:https://templebc.net/event/truth-trackers-childrens-ministry-2-2/2025-07-09/
ATTACH;FMTTYPE=image/png:https://templebc.net/wp-content/uploads/2024/10/Screenshot-2025-04-26-113433.png
END:VEVENT
BEGIN:VEVENT
DTSTART;TZID=America/New_York:20250713T100000
DTEND;TZID=America/New_York:20250713T104500
DTSTAMP:20260422T182241
CREATED:20241026T233841Z
LAST-MODIFIED:20241026T233841Z
UID:10000571-1752400800-1752403500@templebc.net
SUMMARY:Sunday Bible Study
DESCRIPTION:Come join one of our Sunday Bible Study groups and experience the warm fellowship of fellow believers as we study God’s Word together.  There are classes for all ages.
URL:https://templebc.net/event/sunday-bible-study/2025-07-13/
ATTACH;FMTTYPE=image/png:https://templebc.net/wp-content/uploads/2024/10/Screenshot-2024-10-25-210801.png
END:VEVENT
BEGIN:VEVENT
DTSTART;TZID=America/New_York:20250713T110000
DTEND;TZID=America/New_York:20250713T120000
DTSTAMP:20260422T182241
CREATED:20241026T235023Z
LAST-MODIFIED:20241026T235023Z
UID:10000832-1752404400-1752408000@templebc.net
SUMMARY:Sunday Morning Worship Service
DESCRIPTION:Our Sunday Morning Worship Service features a blended worship style\, with special music by our Worship Team and special singers\, and a challenging message by Pastor Tom Porter from God’s Word.
URL:https://templebc.net/event/sunday-morning-worship-service/2025-07-13/
LOCATION:Main Auditorium
ATTACH;FMTTYPE=image/jpeg:https://templebc.net/wp-content/uploads/2024/07/Untitled.jpg
END:VEVENT
BEGIN:VEVENT
DTSTART;TZID=America/Halifax:20250716T183000
DTEND;TZID=America/Halifax:20250716T193000
DTSTAMP:20260422T182241
CREATED:20250611T005202Z
LAST-MODIFIED:20250611T005202Z
UID:10001354-1752690600-1752694200@templebc.net
SUMMARY:Adult Prayer Service
DESCRIPTION:Each Wednesday from 6:30 to 8:00 pm our adults gather together to pray for one another’s needs and rejoice together as God answers prayer in their lives.
URL:https://templebc.net/event/adult-prayer-service-2/2025-07-16/
END:VEVENT
BEGIN:VEVENT
DTSTART;TZID=America/New_York:20250716T183000
DTEND;TZID=America/New_York:20250716T200000
DTSTAMP:20260422T182241
CREATED:20250611T002050Z
LAST-MODIFIED:20260310T173559Z
UID:10000049-1752690600-1752696000@templebc.net
SUMMARY:Thrive Preteen Ministry
DESCRIPTION:Thrive is the name of our weekly Wednesday evening ministry to Preteen students in the 4th\, 5th\, and 6th grades.  We meet in Room 104 in Building 1 for a time of heartfelt worship\, crazy games\,  age appropriate Bible study\, and a delicious snack.  Each month’s lessons are based on a theme and all the activities relate to that theme.  We have fun growing closer to Jesus as we grow closer together in Christian fellowship.
URL:https://templebc.net/event/thrive-preteen-ministry/2025-07-16/
LOCATION:Building 1\, Room 104
ATTACH;FMTTYPE=image/jpeg:https://templebc.net/wp-content/uploads/2025/06/THRIVE-Final-2026.jpg
ORGANIZER;CN="Mark Wooley":MAILTO:tbcthrivejrhigh@gmail.com
END:VEVENT
BEGIN:VEVENT
DTSTART;TZID=America/New_York:20250716T183000
DTEND;TZID=America/New_York:20250716T200000
DTSTAMP:20260422T182241
CREATED:20250611T003231Z
LAST-MODIFIED:20260204T184251Z
UID:10000310-1752690600-1752696000@templebc.net
SUMMARY:Ignite Youth Ministry
DESCRIPTION:Ignite Youth Ministry welcomes all youth\, 7th through 12th grade\, to a time of fun & games\, fellowship & sharing God’s Word.  Meetings are part of our Mid-Week Services held on Wednesday nights at 6:30PM in the Dining Hall-located in the 3rd building.
URL:https://templebc.net/event/ignite-youth/2025-07-16/
ATTACH;FMTTYPE=image/png:https://templebc.net/wp-content/uploads/2026/02/New-Ignite-Logo.png
END:VEVENT
BEGIN:VEVENT
DTSTART;TZID=America/New_York:20250716T183000
DTEND;TZID=America/New_York:20250716T200000
DTSTAMP:20260422T182241
CREATED:20250614T161146Z
LAST-MODIFIED:20250614T161147Z
UID:10001093-1752690600-1752696000@templebc.net
SUMMARY:Truth Trackers Children's Ministry
DESCRIPTION:This exciting Children’s Ministry meets every Wednesday from 6:30 to 8:00 pm in Building 2 in Room 303.  Children in grades K through 3 learn Bible verses\, sing fun Bible songs\, play exciting games\, and enjoy learning God’s Word together.
URL:https://templebc.net/event/truth-trackers-childrens-ministry-2-2/2025-07-16/
ATTACH;FMTTYPE=image/png:https://templebc.net/wp-content/uploads/2024/10/Screenshot-2025-04-26-113433.png
END:VEVENT
BEGIN:VEVENT
DTSTART;TZID=America/New_York:20250720T100000
DTEND;TZID=America/New_York:20250720T104500
DTSTAMP:20260422T182241
CREATED:20241026T233841Z
LAST-MODIFIED:20241026T233841Z
UID:10000572-1753005600-1753008300@templebc.net
SUMMARY:Sunday Bible Study
DESCRIPTION:Come join one of our Sunday Bible Study groups and experience the warm fellowship of fellow believers as we study God’s Word together.  There are classes for all ages.
URL:https://templebc.net/event/sunday-bible-study/2025-07-20/
ATTACH;FMTTYPE=image/png:https://templebc.net/wp-content/uploads/2024/10/Screenshot-2024-10-25-210801.png
END:VEVENT
BEGIN:VEVENT
DTSTART;TZID=America/New_York:20250720T110000
DTEND;TZID=America/New_York:20250720T120000
DTSTAMP:20260422T182241
CREATED:20241026T235023Z
LAST-MODIFIED:20241026T235023Z
UID:10000833-1753009200-1753012800@templebc.net
SUMMARY:Sunday Morning Worship Service
DESCRIPTION:Our Sunday Morning Worship Service features a blended worship style\, with special music by our Worship Team and special singers\, and a challenging message by Pastor Tom Porter from God’s Word.
URL:https://templebc.net/event/sunday-morning-worship-service/2025-07-20/
LOCATION:Main Auditorium
ATTACH;FMTTYPE=image/jpeg:https://templebc.net/wp-content/uploads/2024/07/Untitled.jpg
END:VEVENT
BEGIN:VEVENT
DTSTART;TZID=America/Halifax:20250723T183000
DTEND;TZID=America/Halifax:20250723T193000
DTSTAMP:20260422T182241
CREATED:20250611T005202Z
LAST-MODIFIED:20250611T005202Z
UID:10001355-1753295400-1753299000@templebc.net
SUMMARY:Adult Prayer Service
DESCRIPTION:Each Wednesday from 6:30 to 8:00 pm our adults gather together to pray for one another’s needs and rejoice together as God answers prayer in their lives.
URL:https://templebc.net/event/adult-prayer-service-2/2025-07-23/
END:VEVENT
BEGIN:VEVENT
DTSTART;TZID=America/New_York:20250723T183000
DTEND;TZID=America/New_York:20250723T200000
DTSTAMP:20260422T182241
CREATED:20250611T002050Z
LAST-MODIFIED:20260310T173559Z
UID:10000050-1753295400-1753300800@templebc.net
SUMMARY:Thrive Preteen Ministry
DESCRIPTION:Thrive is the name of our weekly Wednesday evening ministry to Preteen students in the 4th\, 5th\, and 6th grades.  We meet in Room 104 in Building 1 for a time of heartfelt worship\, crazy games\,  age appropriate Bible study\, and a delicious snack.  Each month’s lessons are based on a theme and all the activities relate to that theme.  We have fun growing closer to Jesus as we grow closer together in Christian fellowship.
URL:https://templebc.net/event/thrive-preteen-ministry/2025-07-23/
LOCATION:Building 1\, Room 104
ATTACH;FMTTYPE=image/jpeg:https://templebc.net/wp-content/uploads/2025/06/THRIVE-Final-2026.jpg
ORGANIZER;CN="Mark Wooley":MAILTO:tbcthrivejrhigh@gmail.com
END:VEVENT
BEGIN:VEVENT
DTSTART;TZID=America/New_York:20250723T183000
DTEND;TZID=America/New_York:20250723T200000
DTSTAMP:20260422T182241
CREATED:20250611T003231Z
LAST-MODIFIED:20260204T184251Z
UID:10000311-1753295400-1753300800@templebc.net
SUMMARY:Ignite Youth Ministry
DESCRIPTION:Ignite Youth Ministry welcomes all youth\, 7th through 12th grade\, to a time of fun & games\, fellowship & sharing God’s Word.  Meetings are part of our Mid-Week Services held on Wednesday nights at 6:30PM in the Dining Hall-located in the 3rd building.
URL:https://templebc.net/event/ignite-youth/2025-07-23/
ATTACH;FMTTYPE=image/png:https://templebc.net/wp-content/uploads/2026/02/New-Ignite-Logo.png
END:VEVENT
BEGIN:VEVENT
DTSTART;TZID=America/New_York:20250723T183000
DTEND;TZID=America/New_York:20250723T200000
DTSTAMP:20260422T182241
CREATED:20250614T161146Z
LAST-MODIFIED:20250614T161147Z
UID:10001094-1753295400-1753300800@templebc.net
SUMMARY:Truth Trackers Children's Ministry
DESCRIPTION:This exciting Children’s Ministry meets every Wednesday from 6:30 to 8:00 pm in Building 2 in Room 303.  Children in grades K through 3 learn Bible verses\, sing fun Bible songs\, play exciting games\, and enjoy learning God’s Word together.
URL:https://templebc.net/event/truth-trackers-childrens-ministry-2-2/2025-07-23/
ATTACH;FMTTYPE=image/png:https://templebc.net/wp-content/uploads/2024/10/Screenshot-2025-04-26-113433.png
END:VEVENT
BEGIN:VEVENT
DTSTART;TZID=America/New_York:20250727T100000
DTEND;TZID=America/New_York:20250727T104500
DTSTAMP:20260422T182241
CREATED:20241026T233841Z
LAST-MODIFIED:20241026T233841Z
UID:10000573-1753610400-1753613100@templebc.net
SUMMARY:Sunday Bible Study
DESCRIPTION:Come join one of our Sunday Bible Study groups and experience the warm fellowship of fellow believers as we study God’s Word together.  There are classes for all ages.
URL:https://templebc.net/event/sunday-bible-study/2025-07-27/
ATTACH;FMTTYPE=image/png:https://templebc.net/wp-content/uploads/2024/10/Screenshot-2024-10-25-210801.png
END:VEVENT
BEGIN:VEVENT
DTSTART;TZID=America/New_York:20250727T110000
DTEND;TZID=America/New_York:20250727T120000
DTSTAMP:20260422T182241
CREATED:20241026T235023Z
LAST-MODIFIED:20241026T235023Z
UID:10000834-1753614000-1753617600@templebc.net
SUMMARY:Sunday Morning Worship Service
DESCRIPTION:Our Sunday Morning Worship Service features a blended worship style\, with special music by our Worship Team and special singers\, and a challenging message by Pastor Tom Porter from God’s Word.
URL:https://templebc.net/event/sunday-morning-worship-service/2025-07-27/
LOCATION:Main Auditorium
ATTACH;FMTTYPE=image/jpeg:https://templebc.net/wp-content/uploads/2024/07/Untitled.jpg
END:VEVENT
BEGIN:VEVENT
DTSTART;TZID=America/Halifax:20250730T183000
DTEND;TZID=America/Halifax:20250730T193000
DTSTAMP:20260422T182241
CREATED:20250611T005202Z
LAST-MODIFIED:20250611T005202Z
UID:10001356-1753900200-1753903800@templebc.net
SUMMARY:Adult Prayer Service
DESCRIPTION:Each Wednesday from 6:30 to 8:00 pm our adults gather together to pray for one another’s needs and rejoice together as God answers prayer in their lives.
URL:https://templebc.net/event/adult-prayer-service-2/2025-07-30/
END:VEVENT
BEGIN:VEVENT
DTSTART;TZID=America/New_York:20250730T183000
DTEND;TZID=America/New_York:20250730T200000
DTSTAMP:20260422T182241
CREATED:20250611T002050Z
LAST-MODIFIED:20260310T173559Z
UID:10000051-1753900200-1753905600@templebc.net
SUMMARY:Thrive Preteen Ministry
DESCRIPTION:Thrive is the name of our weekly Wednesday evening ministry to Preteen students in the 4th\, 5th\, and 6th grades.  We meet in Room 104 in Building 1 for a time of heartfelt worship\, crazy games\,  age appropriate Bible study\, and a delicious snack.  Each month’s lessons are based on a theme and all the activities relate to that theme.  We have fun growing closer to Jesus as we grow closer together in Christian fellowship.
URL:https://templebc.net/event/thrive-preteen-ministry/2025-07-30/
LOCATION:Building 1\, Room 104
ATTACH;FMTTYPE=image/jpeg:https://templebc.net/wp-content/uploads/2025/06/THRIVE-Final-2026.jpg
ORGANIZER;CN="Mark Wooley":MAILTO:tbcthrivejrhigh@gmail.com
END:VEVENT
BEGIN:VEVENT
DTSTART;TZID=America/New_York:20250730T183000
DTEND;TZID=America/New_York:20250730T200000
DTSTAMP:20260422T182241
CREATED:20250611T003231Z
LAST-MODIFIED:20260204T184251Z
UID:10000312-1753900200-1753905600@templebc.net
SUMMARY:Ignite Youth Ministry
DESCRIPTION:Ignite Youth Ministry welcomes all youth\, 7th through 12th grade\, to a time of fun & games\, fellowship & sharing God’s Word.  Meetings are part of our Mid-Week Services held on Wednesday nights at 6:30PM in the Dining Hall-located in the 3rd building.
URL:https://templebc.net/event/ignite-youth/2025-07-30/
ATTACH;FMTTYPE=image/png:https://templebc.net/wp-content/uploads/2026/02/New-Ignite-Logo.png
END:VEVENT
BEGIN:VEVENT
DTSTART;TZID=America/New_York:20250730T183000
DTEND;TZID=America/New_York:20250730T200000
DTSTAMP:20260422T182241
CREATED:20250614T161146Z
LAST-MODIFIED:20250614T161147Z
UID:10001095-1753900200-1753905600@templebc.net
SUMMARY:Truth Trackers Children's Ministry
DESCRIPTION:This exciting Children’s Ministry meets every Wednesday from 6:30 to 8:00 pm in Building 2 in Room 303.  Children in grades K through 3 learn Bible verses\, sing fun Bible songs\, play exciting games\, and enjoy learning God’s Word together.
URL:https://templebc.net/event/truth-trackers-childrens-ministry-2-2/2025-07-30/
ATTACH;FMTTYPE=image/png:https://templebc.net/wp-content/uploads/2024/10/Screenshot-2025-04-26-113433.png
END:VEVENT
END:VCALENDAR