BEGIN:VCALENDAR
VERSION:2.0
PRODID:-//Temple Baptist Church - ECPv6.15.20//NONSGML v1.0//EN
CALSCALE:GREGORIAN
METHOD:PUBLISH
X-ORIGINAL-URL:https://templebc.net
X-WR-CALDESC:Events for Temple Baptist Church
REFRESH-INTERVAL;VALUE=DURATION:PT1H
X-Robots-Tag:noindex
X-PUBLISHED-TTL:PT1H
BEGIN:VTIMEZONE
TZID:America/New_York
BEGIN:DAYLIGHT
TZOFFSETFROM:-0500
TZOFFSETTO:-0400
TZNAME:EDT
DTSTART:20260308T070000
END:DAYLIGHT
BEGIN:STANDARD
TZOFFSETFROM:-0400
TZOFFSETTO:-0500
TZNAME:EST
DTSTART:20261101T060000
END:STANDARD
BEGIN:DAYLIGHT
TZOFFSETFROM:-0500
TZOFFSETTO:-0400
TZNAME:EDT
DTSTART:20270314T070000
END:DAYLIGHT
BEGIN:STANDARD
TZOFFSETFROM:-0400
TZOFFSETTO:-0500
TZNAME:EST
DTSTART:20271107T060000
END:STANDARD
BEGIN:DAYLIGHT
TZOFFSETFROM:-0500
TZOFFSETTO:-0400
TZNAME:EDT
DTSTART:20280312T070000
END:DAYLIGHT
BEGIN:STANDARD
TZOFFSETFROM:-0400
TZOFFSETTO:-0500
TZNAME:EST
DTSTART:20281105T060000
END:STANDARD
END:VTIMEZONE
BEGIN:VTIMEZONE
TZID:America/Halifax
BEGIN:DAYLIGHT
TZOFFSETFROM:-0400
TZOFFSETTO:-0300
TZNAME:ADT
DTSTART:20260308T060000
END:DAYLIGHT
BEGIN:STANDARD
TZOFFSETFROM:-0300
TZOFFSETTO:-0400
TZNAME:AST
DTSTART:20261101T050000
END:STANDARD
BEGIN:DAYLIGHT
TZOFFSETFROM:-0400
TZOFFSETTO:-0300
TZNAME:ADT
DTSTART:20270314T060000
END:DAYLIGHT
BEGIN:STANDARD
TZOFFSETFROM:-0300
TZOFFSETTO:-0400
TZNAME:AST
DTSTART:20271107T050000
END:STANDARD
BEGIN:DAYLIGHT
TZOFFSETFROM:-0400
TZOFFSETTO:-0300
TZNAME:ADT
DTSTART:20280312T060000
END:DAYLIGHT
BEGIN:STANDARD
TZOFFSETFROM:-0300
TZOFFSETTO:-0400
TZNAME:AST
DTSTART:20281105T050000
END:STANDARD
END:VTIMEZONE
BEGIN:VEVENT
DTSTART;TZID=America/New_York:20270103T100000
DTEND;TZID=America/New_York:20270103T104500
DTSTAMP:20260422T182303
CREATED:20241026T233841Z
LAST-MODIFIED:20241026T233841Z
UID:10000648-1798970400-1798973100@templebc.net
SUMMARY:Sunday Bible Study
DESCRIPTION:Come join one of our Sunday Bible Study groups and experience the warm fellowship of fellow believers as we study God’s Word together.  There are classes for all ages.
URL:https://templebc.net/event/sunday-bible-study/2027-01-03/
ATTACH;FMTTYPE=image/png:https://templebc.net/wp-content/uploads/2024/10/Screenshot-2024-10-25-210801.png
END:VEVENT
BEGIN:VEVENT
DTSTART;TZID=America/New_York:20270103T110000
DTEND;TZID=America/New_York:20270103T120000
DTSTAMP:20260422T182303
CREATED:20241026T235023Z
LAST-MODIFIED:20241026T235023Z
UID:10000909-1798974000-1798977600@templebc.net
SUMMARY:Sunday Morning Worship Service
DESCRIPTION:Our Sunday Morning Worship Service features a blended worship style\, with special music by our Worship Team and special singers\, and a challenging message by Pastor Tom Porter from God’s Word.
URL:https://templebc.net/event/sunday-morning-worship-service/2027-01-03/
LOCATION:Main Auditorium
ATTACH;FMTTYPE=image/jpeg:https://templebc.net/wp-content/uploads/2024/07/Untitled.jpg
END:VEVENT
BEGIN:VEVENT
DTSTART;TZID=America/Halifax:20270106T183000
DTEND;TZID=America/Halifax:20270106T193000
DTSTAMP:20260422T182303
CREATED:20250816T172030Z
LAST-MODIFIED:20250816T172031Z
UID:10001431-1799260200-1799263800@templebc.net
SUMMARY:Adult Prayer Service
DESCRIPTION:Each Wednesday from 6:30 to 8:00 pm our adults gather together to pray for one another’s needs and rejoice together as God answers prayer in their lives.
URL:https://templebc.net/event/adult-prayer-service-2-2/2027-01-06/
ATTACH;FMTTYPE=image/png:https://templebc.net/wp-content/uploads/2025/06/Screenshot-2025-08-16-130851.png
END:VEVENT
BEGIN:VEVENT
DTSTART;TZID=America/New_York:20270106T183000
DTEND;TZID=America/New_York:20270106T200000
DTSTAMP:20260422T182303
CREATED:20250611T002050Z
LAST-MODIFIED:20260310T173559Z
UID:10000126-1799260200-1799265600@templebc.net
SUMMARY:Thrive Preteen Ministry
DESCRIPTION:Thrive is the name of our weekly Wednesday evening ministry to Preteen students in the 4th\, 5th\, and 6th grades.  We meet in Room 104 in Building 1 for a time of heartfelt worship\, crazy games\,  age appropriate Bible study\, and a delicious snack.  Each month’s lessons are based on a theme and all the activities relate to that theme.  We have fun growing closer to Jesus as we grow closer together in Christian fellowship.
URL:https://templebc.net/event/thrive-preteen-ministry/2027-01-06/
LOCATION:Building 1\, Room 104
ATTACH;FMTTYPE=image/jpeg:https://templebc.net/wp-content/uploads/2025/06/THRIVE-Final-2026.jpg
ORGANIZER;CN="Mark Wooley":MAILTO:tbcthrivejrhigh@gmail.com
END:VEVENT
BEGIN:VEVENT
DTSTART;TZID=America/New_York:20270106T183000
DTEND;TZID=America/New_York:20270106T200000
DTSTAMP:20260422T182303
CREATED:20250611T003231Z
LAST-MODIFIED:20260204T184251Z
UID:10000387-1799260200-1799265600@templebc.net
SUMMARY:Ignite Youth Ministry
DESCRIPTION:Ignite Youth Ministry welcomes all youth\, 7th through 12th grade\, to a time of fun & games\, fellowship & sharing God’s Word.  Meetings are part of our Mid-Week Services held on Wednesday nights at 6:30PM in the Dining Hall-located in the 3rd building.
URL:https://templebc.net/event/ignite-youth/2027-01-06/
ATTACH;FMTTYPE=image/png:https://templebc.net/wp-content/uploads/2026/02/New-Ignite-Logo.png
END:VEVENT
BEGIN:VEVENT
DTSTART;TZID=America/New_York:20270106T183000
DTEND;TZID=America/New_York:20270106T200000
DTSTAMP:20260422T182304
CREATED:20250614T161146Z
LAST-MODIFIED:20250614T161147Z
UID:10001170-1799260200-1799265600@templebc.net
SUMMARY:Truth Trackers Children's Ministry
DESCRIPTION:This exciting Children’s Ministry meets every Wednesday from 6:30 to 8:00 pm in Building 2 in Room 303.  Children in grades K through 3 learn Bible verses\, sing fun Bible songs\, play exciting games\, and enjoy learning God’s Word together.
URL:https://templebc.net/event/truth-trackers-childrens-ministry-2-2/2027-01-06/
ATTACH;FMTTYPE=image/png:https://templebc.net/wp-content/uploads/2024/10/Screenshot-2025-04-26-113433.png
END:VEVENT
BEGIN:VEVENT
DTSTART;TZID=America/New_York:20270110T100000
DTEND;TZID=America/New_York:20270110T104500
DTSTAMP:20260422T182304
CREATED:20241026T233841Z
LAST-MODIFIED:20241026T233841Z
UID:10000649-1799575200-1799577900@templebc.net
SUMMARY:Sunday Bible Study
DESCRIPTION:Come join one of our Sunday Bible Study groups and experience the warm fellowship of fellow believers as we study God’s Word together.  There are classes for all ages.
URL:https://templebc.net/event/sunday-bible-study/2027-01-10/
ATTACH;FMTTYPE=image/png:https://templebc.net/wp-content/uploads/2024/10/Screenshot-2024-10-25-210801.png
END:VEVENT
BEGIN:VEVENT
DTSTART;TZID=America/New_York:20270110T110000
DTEND;TZID=America/New_York:20270110T120000
DTSTAMP:20260422T182304
CREATED:20241026T235023Z
LAST-MODIFIED:20241026T235023Z
UID:10000910-1799578800-1799582400@templebc.net
SUMMARY:Sunday Morning Worship Service
DESCRIPTION:Our Sunday Morning Worship Service features a blended worship style\, with special music by our Worship Team and special singers\, and a challenging message by Pastor Tom Porter from God’s Word.
URL:https://templebc.net/event/sunday-morning-worship-service/2027-01-10/
LOCATION:Main Auditorium
ATTACH;FMTTYPE=image/jpeg:https://templebc.net/wp-content/uploads/2024/07/Untitled.jpg
END:VEVENT
BEGIN:VEVENT
DTSTART;TZID=America/Halifax:20270113T183000
DTEND;TZID=America/Halifax:20270113T193000
DTSTAMP:20260422T182304
CREATED:20250816T172030Z
LAST-MODIFIED:20250816T172031Z
UID:10001432-1799865000-1799868600@templebc.net
SUMMARY:Adult Prayer Service
DESCRIPTION:Each Wednesday from 6:30 to 8:00 pm our adults gather together to pray for one another’s needs and rejoice together as God answers prayer in their lives.
URL:https://templebc.net/event/adult-prayer-service-2-2/2027-01-13/
ATTACH;FMTTYPE=image/png:https://templebc.net/wp-content/uploads/2025/06/Screenshot-2025-08-16-130851.png
END:VEVENT
BEGIN:VEVENT
DTSTART;TZID=America/New_York:20270113T183000
DTEND;TZID=America/New_York:20270113T200000
DTSTAMP:20260422T182304
CREATED:20250611T002050Z
LAST-MODIFIED:20260310T173559Z
UID:10000127-1799865000-1799870400@templebc.net
SUMMARY:Thrive Preteen Ministry
DESCRIPTION:Thrive is the name of our weekly Wednesday evening ministry to Preteen students in the 4th\, 5th\, and 6th grades.  We meet in Room 104 in Building 1 for a time of heartfelt worship\, crazy games\,  age appropriate Bible study\, and a delicious snack.  Each month’s lessons are based on a theme and all the activities relate to that theme.  We have fun growing closer to Jesus as we grow closer together in Christian fellowship.
URL:https://templebc.net/event/thrive-preteen-ministry/2027-01-13/
LOCATION:Building 1\, Room 104
ATTACH;FMTTYPE=image/jpeg:https://templebc.net/wp-content/uploads/2025/06/THRIVE-Final-2026.jpg
ORGANIZER;CN="Mark Wooley":MAILTO:tbcthrivejrhigh@gmail.com
END:VEVENT
BEGIN:VEVENT
DTSTART;TZID=America/New_York:20270113T183000
DTEND;TZID=America/New_York:20270113T200000
DTSTAMP:20260422T182304
CREATED:20250611T003231Z
LAST-MODIFIED:20260204T184251Z
UID:10000388-1799865000-1799870400@templebc.net
SUMMARY:Ignite Youth Ministry
DESCRIPTION:Ignite Youth Ministry welcomes all youth\, 7th through 12th grade\, to a time of fun & games\, fellowship & sharing God’s Word.  Meetings are part of our Mid-Week Services held on Wednesday nights at 6:30PM in the Dining Hall-located in the 3rd building.
URL:https://templebc.net/event/ignite-youth/2027-01-13/
ATTACH;FMTTYPE=image/png:https://templebc.net/wp-content/uploads/2026/02/New-Ignite-Logo.png
END:VEVENT
BEGIN:VEVENT
DTSTART;TZID=America/New_York:20270113T183000
DTEND;TZID=America/New_York:20270113T200000
DTSTAMP:20260422T182304
CREATED:20250614T161146Z
LAST-MODIFIED:20250614T161147Z
UID:10001171-1799865000-1799870400@templebc.net
SUMMARY:Truth Trackers Children's Ministry
DESCRIPTION:This exciting Children’s Ministry meets every Wednesday from 6:30 to 8:00 pm in Building 2 in Room 303.  Children in grades K through 3 learn Bible verses\, sing fun Bible songs\, play exciting games\, and enjoy learning God’s Word together.
URL:https://templebc.net/event/truth-trackers-childrens-ministry-2-2/2027-01-13/
ATTACH;FMTTYPE=image/png:https://templebc.net/wp-content/uploads/2024/10/Screenshot-2025-04-26-113433.png
END:VEVENT
BEGIN:VEVENT
DTSTART;TZID=America/New_York:20270117T100000
DTEND;TZID=America/New_York:20270117T104500
DTSTAMP:20260422T182304
CREATED:20241026T233841Z
LAST-MODIFIED:20241026T233841Z
UID:10000650-1800180000-1800182700@templebc.net
SUMMARY:Sunday Bible Study
DESCRIPTION:Come join one of our Sunday Bible Study groups and experience the warm fellowship of fellow believers as we study God’s Word together.  There are classes for all ages.
URL:https://templebc.net/event/sunday-bible-study/2027-01-17/
ATTACH;FMTTYPE=image/png:https://templebc.net/wp-content/uploads/2024/10/Screenshot-2024-10-25-210801.png
END:VEVENT
BEGIN:VEVENT
DTSTART;TZID=America/New_York:20270117T110000
DTEND;TZID=America/New_York:20270117T120000
DTSTAMP:20260422T182304
CREATED:20241026T235023Z
LAST-MODIFIED:20241026T235023Z
UID:10000911-1800183600-1800187200@templebc.net
SUMMARY:Sunday Morning Worship Service
DESCRIPTION:Our Sunday Morning Worship Service features a blended worship style\, with special music by our Worship Team and special singers\, and a challenging message by Pastor Tom Porter from God’s Word.
URL:https://templebc.net/event/sunday-morning-worship-service/2027-01-17/
LOCATION:Main Auditorium
ATTACH;FMTTYPE=image/jpeg:https://templebc.net/wp-content/uploads/2024/07/Untitled.jpg
END:VEVENT
BEGIN:VEVENT
DTSTART;TZID=America/Halifax:20270120T183000
DTEND;TZID=America/Halifax:20270120T193000
DTSTAMP:20260422T182304
CREATED:20250816T172030Z
LAST-MODIFIED:20250816T172031Z
UID:10001433-1800469800-1800473400@templebc.net
SUMMARY:Adult Prayer Service
DESCRIPTION:Each Wednesday from 6:30 to 8:00 pm our adults gather together to pray for one another’s needs and rejoice together as God answers prayer in their lives.
URL:https://templebc.net/event/adult-prayer-service-2-2/2027-01-20/
ATTACH;FMTTYPE=image/png:https://templebc.net/wp-content/uploads/2025/06/Screenshot-2025-08-16-130851.png
END:VEVENT
BEGIN:VEVENT
DTSTART;TZID=America/New_York:20270120T183000
DTEND;TZID=America/New_York:20270120T200000
DTSTAMP:20260422T182304
CREATED:20250611T002050Z
LAST-MODIFIED:20260310T173559Z
UID:10000128-1800469800-1800475200@templebc.net
SUMMARY:Thrive Preteen Ministry
DESCRIPTION:Thrive is the name of our weekly Wednesday evening ministry to Preteen students in the 4th\, 5th\, and 6th grades.  We meet in Room 104 in Building 1 for a time of heartfelt worship\, crazy games\,  age appropriate Bible study\, and a delicious snack.  Each month’s lessons are based on a theme and all the activities relate to that theme.  We have fun growing closer to Jesus as we grow closer together in Christian fellowship.
URL:https://templebc.net/event/thrive-preteen-ministry/2027-01-20/
LOCATION:Building 1\, Room 104
ATTACH;FMTTYPE=image/jpeg:https://templebc.net/wp-content/uploads/2025/06/THRIVE-Final-2026.jpg
ORGANIZER;CN="Mark Wooley":MAILTO:tbcthrivejrhigh@gmail.com
END:VEVENT
BEGIN:VEVENT
DTSTART;TZID=America/New_York:20270120T183000
DTEND;TZID=America/New_York:20270120T200000
DTSTAMP:20260422T182304
CREATED:20250611T003231Z
LAST-MODIFIED:20260204T184251Z
UID:10000389-1800469800-1800475200@templebc.net
SUMMARY:Ignite Youth Ministry
DESCRIPTION:Ignite Youth Ministry welcomes all youth\, 7th through 12th grade\, to a time of fun & games\, fellowship & sharing God’s Word.  Meetings are part of our Mid-Week Services held on Wednesday nights at 6:30PM in the Dining Hall-located in the 3rd building.
URL:https://templebc.net/event/ignite-youth/2027-01-20/
ATTACH;FMTTYPE=image/png:https://templebc.net/wp-content/uploads/2026/02/New-Ignite-Logo.png
END:VEVENT
BEGIN:VEVENT
DTSTART;TZID=America/New_York:20270120T183000
DTEND;TZID=America/New_York:20270120T200000
DTSTAMP:20260422T182304
CREATED:20250614T161146Z
LAST-MODIFIED:20250614T161147Z
UID:10001172-1800469800-1800475200@templebc.net
SUMMARY:Truth Trackers Children's Ministry
DESCRIPTION:This exciting Children’s Ministry meets every Wednesday from 6:30 to 8:00 pm in Building 2 in Room 303.  Children in grades K through 3 learn Bible verses\, sing fun Bible songs\, play exciting games\, and enjoy learning God’s Word together.
URL:https://templebc.net/event/truth-trackers-childrens-ministry-2-2/2027-01-20/
ATTACH;FMTTYPE=image/png:https://templebc.net/wp-content/uploads/2024/10/Screenshot-2025-04-26-113433.png
END:VEVENT
BEGIN:VEVENT
DTSTART;TZID=America/New_York:20270124T100000
DTEND;TZID=America/New_York:20270124T104500
DTSTAMP:20260422T182304
CREATED:20241026T233841Z
LAST-MODIFIED:20241026T233841Z
UID:10000651-1800784800-1800787500@templebc.net
SUMMARY:Sunday Bible Study
DESCRIPTION:Come join one of our Sunday Bible Study groups and experience the warm fellowship of fellow believers as we study God’s Word together.  There are classes for all ages.
URL:https://templebc.net/event/sunday-bible-study/2027-01-24/
ATTACH;FMTTYPE=image/png:https://templebc.net/wp-content/uploads/2024/10/Screenshot-2024-10-25-210801.png
END:VEVENT
BEGIN:VEVENT
DTSTART;TZID=America/New_York:20270124T110000
DTEND;TZID=America/New_York:20270124T120000
DTSTAMP:20260422T182304
CREATED:20241026T235023Z
LAST-MODIFIED:20241026T235023Z
UID:10000912-1800788400-1800792000@templebc.net
SUMMARY:Sunday Morning Worship Service
DESCRIPTION:Our Sunday Morning Worship Service features a blended worship style\, with special music by our Worship Team and special singers\, and a challenging message by Pastor Tom Porter from God’s Word.
URL:https://templebc.net/event/sunday-morning-worship-service/2027-01-24/
LOCATION:Main Auditorium
ATTACH;FMTTYPE=image/jpeg:https://templebc.net/wp-content/uploads/2024/07/Untitled.jpg
END:VEVENT
BEGIN:VEVENT
DTSTART;TZID=America/Halifax:20270127T183000
DTEND;TZID=America/Halifax:20270127T193000
DTSTAMP:20260422T182304
CREATED:20250816T172030Z
LAST-MODIFIED:20250816T172031Z
UID:10001434-1801074600-1801078200@templebc.net
SUMMARY:Adult Prayer Service
DESCRIPTION:Each Wednesday from 6:30 to 8:00 pm our adults gather together to pray for one another’s needs and rejoice together as God answers prayer in their lives.
URL:https://templebc.net/event/adult-prayer-service-2-2/2027-01-27/
ATTACH;FMTTYPE=image/png:https://templebc.net/wp-content/uploads/2025/06/Screenshot-2025-08-16-130851.png
END:VEVENT
BEGIN:VEVENT
DTSTART;TZID=America/New_York:20270127T183000
DTEND;TZID=America/New_York:20270127T200000
DTSTAMP:20260422T182304
CREATED:20250611T002050Z
LAST-MODIFIED:20260310T173559Z
UID:10000129-1801074600-1801080000@templebc.net
SUMMARY:Thrive Preteen Ministry
DESCRIPTION:Thrive is the name of our weekly Wednesday evening ministry to Preteen students in the 4th\, 5th\, and 6th grades.  We meet in Room 104 in Building 1 for a time of heartfelt worship\, crazy games\,  age appropriate Bible study\, and a delicious snack.  Each month’s lessons are based on a theme and all the activities relate to that theme.  We have fun growing closer to Jesus as we grow closer together in Christian fellowship.
URL:https://templebc.net/event/thrive-preteen-ministry/2027-01-27/
LOCATION:Building 1\, Room 104
ATTACH;FMTTYPE=image/jpeg:https://templebc.net/wp-content/uploads/2025/06/THRIVE-Final-2026.jpg
ORGANIZER;CN="Mark Wooley":MAILTO:tbcthrivejrhigh@gmail.com
END:VEVENT
BEGIN:VEVENT
DTSTART;TZID=America/New_York:20270127T183000
DTEND;TZID=America/New_York:20270127T200000
DTSTAMP:20260422T182304
CREATED:20250611T003231Z
LAST-MODIFIED:20260204T184251Z
UID:10000390-1801074600-1801080000@templebc.net
SUMMARY:Ignite Youth Ministry
DESCRIPTION:Ignite Youth Ministry welcomes all youth\, 7th through 12th grade\, to a time of fun & games\, fellowship & sharing God’s Word.  Meetings are part of our Mid-Week Services held on Wednesday nights at 6:30PM in the Dining Hall-located in the 3rd building.
URL:https://templebc.net/event/ignite-youth/2027-01-27/
ATTACH;FMTTYPE=image/png:https://templebc.net/wp-content/uploads/2026/02/New-Ignite-Logo.png
END:VEVENT
BEGIN:VEVENT
DTSTART;TZID=America/New_York:20270127T183000
DTEND;TZID=America/New_York:20270127T200000
DTSTAMP:20260422T182304
CREATED:20250614T161146Z
LAST-MODIFIED:20250614T161147Z
UID:10001173-1801074600-1801080000@templebc.net
SUMMARY:Truth Trackers Children's Ministry
DESCRIPTION:This exciting Children’s Ministry meets every Wednesday from 6:30 to 8:00 pm in Building 2 in Room 303.  Children in grades K through 3 learn Bible verses\, sing fun Bible songs\, play exciting games\, and enjoy learning God’s Word together.
URL:https://templebc.net/event/truth-trackers-childrens-ministry-2-2/2027-01-27/
ATTACH;FMTTYPE=image/png:https://templebc.net/wp-content/uploads/2024/10/Screenshot-2025-04-26-113433.png
END:VEVENT
BEGIN:VEVENT
DTSTART;TZID=America/New_York:20270131T100000
DTEND;TZID=America/New_York:20270131T104500
DTSTAMP:20260422T182304
CREATED:20241026T233841Z
LAST-MODIFIED:20241026T233841Z
UID:10000652-1801389600-1801392300@templebc.net
SUMMARY:Sunday Bible Study
DESCRIPTION:Come join one of our Sunday Bible Study groups and experience the warm fellowship of fellow believers as we study God’s Word together.  There are classes for all ages.
URL:https://templebc.net/event/sunday-bible-study/2027-01-31/
ATTACH;FMTTYPE=image/png:https://templebc.net/wp-content/uploads/2024/10/Screenshot-2024-10-25-210801.png
END:VEVENT
BEGIN:VEVENT
DTSTART;TZID=America/New_York:20270131T110000
DTEND;TZID=America/New_York:20270131T120000
DTSTAMP:20260422T182304
CREATED:20241026T235023Z
LAST-MODIFIED:20241026T235023Z
UID:10000913-1801393200-1801396800@templebc.net
SUMMARY:Sunday Morning Worship Service
DESCRIPTION:Our Sunday Morning Worship Service features a blended worship style\, with special music by our Worship Team and special singers\, and a challenging message by Pastor Tom Porter from God’s Word.
URL:https://templebc.net/event/sunday-morning-worship-service/2027-01-31/
LOCATION:Main Auditorium
ATTACH;FMTTYPE=image/jpeg:https://templebc.net/wp-content/uploads/2024/07/Untitled.jpg
END:VEVENT
END:VCALENDAR